BEGIN:VCALENDAR
VERSION:2.0
PRODID:-//&Scaron;iaulių Lieporių gimnazija - ECPv6.15.18//NONSGML v1.0//EN
CALSCALE:GREGORIAN
METHOD:PUBLISH
X-ORIGINAL-URL:https://www.lieporiai.lt
X-WR-CALDESC:&Scaron;iaulių Lieporių gimnazija renginiai
REFRESH-INTERVAL;VALUE=DURATION:PT1H
X-Robots-Tag:noindex
X-PUBLISHED-TTL:PT1H
BEGIN:VTIMEZONE
TZID:Europe/Vilnius
BEGIN:DAYLIGHT
TZOFFSETFROM:+0200
TZOFFSETTO:+0300
TZNAME:EEST
DTSTART:20230326T010000
END:DAYLIGHT
BEGIN:STANDARD
TZOFFSETFROM:+0300
TZOFFSETTO:+0200
TZNAME:EET
DTSTART:20231029T010000
END:STANDARD
BEGIN:DAYLIGHT
TZOFFSETFROM:+0200
TZOFFSETTO:+0300
TZNAME:EEST
DTSTART:20240331T010000
END:DAYLIGHT
BEGIN:STANDARD
TZOFFSETFROM:+0300
TZOFFSETTO:+0200
TZNAME:EET
DTSTART:20241027T010000
END:STANDARD
BEGIN:DAYLIGHT
TZOFFSETFROM:+0200
TZOFFSETTO:+0300
TZNAME:EEST
DTSTART:20250330T010000
END:DAYLIGHT
BEGIN:STANDARD
TZOFFSETFROM:+0300
TZOFFSETTO:+0200
TZNAME:EET
DTSTART:20251026T010000
END:STANDARD
END:VTIMEZONE
BEGIN:VEVENT
DTSTART;TZID=Europe/Vilnius:20241230T090000
DTEND;TZID=Europe/Vilnius:20241230T110000
DTSTAMP:20260421T125704
CREATED:20241227T083144Z
LAST-MODIFIED:20241227T083144Z
UID:25585-1735549200-1735556400@www.lieporiai.lt
SUMMARY:Mokytojų tarybos posėdis
DESCRIPTION:„Dėl konferencijos refleksijos mokytojų ataskaitos apie kvalifikacijos kėlimo kursus Prancūzijoje\, dėl PUPP ir VBE egzaminų”.
URL:https://www.lieporiai.lt/renginys/mokytoju-tarybos-posedis-30/
END:VEVENT
END:VCALENDAR