BEGIN:VCALENDAR
VERSION:2.0
PRODID:-//&Scaron;iaulių Lieporių gimnazija - ECPv6.15.18//NONSGML v1.0//EN
CALSCALE:GREGORIAN
METHOD:PUBLISH
X-WR-CALNAME:&Scaron;iaulių Lieporių gimnazija
X-ORIGINAL-URL:https://www.lieporiai.lt
X-WR-CALDESC:&Scaron;iaulių Lieporių gimnazija renginiai
REFRESH-INTERVAL;VALUE=DURATION:PT1H
X-Robots-Tag:noindex
X-PUBLISHED-TTL:PT1H
BEGIN:VTIMEZONE
TZID:Europe/Vilnius
BEGIN:DAYLIGHT
TZOFFSETFROM:+0200
TZOFFSETTO:+0300
TZNAME:EEST
DTSTART:20250330T010000
END:DAYLIGHT
BEGIN:STANDARD
TZOFFSETFROM:+0300
TZOFFSETTO:+0200
TZNAME:EET
DTSTART:20251026T010000
END:STANDARD
BEGIN:DAYLIGHT
TZOFFSETFROM:+0200
TZOFFSETTO:+0300
TZNAME:EEST
DTSTART:20260329T010000
END:DAYLIGHT
BEGIN:STANDARD
TZOFFSETFROM:+0300
TZOFFSETTO:+0200
TZNAME:EET
DTSTART:20261025T010000
END:STANDARD
BEGIN:DAYLIGHT
TZOFFSETFROM:+0200
TZOFFSETTO:+0300
TZNAME:EEST
DTSTART:20270328T010000
END:DAYLIGHT
BEGIN:STANDARD
TZOFFSETFROM:+0300
TZOFFSETTO:+0200
TZNAME:EET
DTSTART:20271031T010000
END:STANDARD
END:VTIMEZONE
BEGIN:VEVENT
DTSTART;TZID=Europe/Vilnius:20260205T180000
DTEND;TZID=Europe/Vilnius:20260205T190000
DTSTAMP:20260421T131946
CREATED:20260115T070824Z
LAST-MODIFIED:20260115T070824Z
UID:28536-1770314400-1770318000@www.lieporiai.lt
SUMMARY:Būsimųjų gimnazistų tėvų susirinkimas.
DESCRIPTION:Vieta: Gimnazijos aktų salė.
URL:https://www.lieporiai.lt/renginys/busimuju-gimnazistu-tevu-susirinkimas-6/
END:VEVENT
BEGIN:VEVENT
DTSTART;TZID=Europe/Vilnius:20260206T173000
DTEND;TZID=Europe/Vilnius:20260206T193000
DTSTAMP:20260421T131946
CREATED:20260115T070145Z
LAST-MODIFIED:20260115T070145Z
UID:28534-1770399000-1770406200@www.lieporiai.lt
SUMMARY:Abiturientų šimtadienis.
DESCRIPTION:Renginys vyks Kultūros centre.
URL:https://www.lieporiai.lt/renginys/abiturientu-simtadienis-2/
END:VEVENT
BEGIN:VEVENT
DTSTART;TZID=Europe/Vilnius:20260210T173000
DTEND;TZID=Europe/Vilnius:20260210T190000
DTSTAMP:20260421T131946
CREATED:20260127T062429Z
LAST-MODIFIED:20260127T062504Z
UID:28587-1770744600-1770750000@www.lieporiai.lt
SUMMARY:Gimnazijos tarybos posėdis.
DESCRIPTION:
URL:https://www.lieporiai.lt/renginys/gimnazijos-tarybos-posedis/
END:VEVENT
BEGIN:VEVENT
DTSTART;TZID=Europe/Vilnius:20260211T150000
DTEND;TZID=Europe/Vilnius:20260211T163000
DTSTAMP:20260421T131946
CREATED:20260127T062703Z
LAST-MODIFIED:20260129T060528Z
UID:28589-1770822000-1770827400@www.lieporiai.lt
SUMMARY:Mokytojų tarybos posėdis.
DESCRIPTION:
URL:https://www.lieporiai.lt/renginys/mokytoju-tarybos-posedis-36/
END:VEVENT
BEGIN:VEVENT
DTSTART;TZID=Europe/Vilnius:20260216T090000
DTEND;TZID=Europe/Vilnius:20260216T103000
DTSTAMP:20260421T131946
CREATED:20260210T074553Z
LAST-MODIFIED:20260210T074553Z
UID:28779-1771232400-1771237800@www.lieporiai.lt
SUMMARY:Vasario 16-osios minėjimas Signatarų alėjoje.
DESCRIPTION:
URL:https://www.lieporiai.lt/renginys/vasario-16-osios-minejimas-signataru-alejoje/
END:VEVENT
BEGIN:VEVENT
DTSTART;TZID=Europe/Vilnius:20260217T090000
DTEND;TZID=Europe/Vilnius:20260217T130000
DTSTAMP:20260421T131946
CREATED:20260218T083959Z
LAST-MODIFIED:20260218T084036Z
UID:28817-1771318800-1771333200@www.lieporiai.lt
SUMMARY:Pasiruošimo pilietiniam pasipriešinimui pagrindai.
DESCRIPTION:Mokymai mokytojams.
URL:https://www.lieporiai.lt/renginys/pasiruosimo-pasipriesinimui-pagrindai/
END:VEVENT
BEGIN:VEVENT
DTSTART;TZID=Europe/Vilnius:20260218T090000
DTEND;TZID=Europe/Vilnius:20260218T120000
DTSTAMP:20260421T131946
CREATED:20260218T084205Z
LAST-MODIFIED:20260218T084205Z
UID:28820-1771405200-1771416000@www.lieporiai.lt
SUMMARY:Emocinis raštingumas ugdyme.
DESCRIPTION:Seminaras mokytojams.
URL:https://www.lieporiai.lt/renginys/emocinis-rastingumas-ugdyme/
END:VEVENT
BEGIN:VEVENT
DTSTART;TZID=Europe/Vilnius:20260219T100000
DTEND;TZID=Europe/Vilnius:20260219T130000
DTSTAMP:20260421T131946
CREATED:20260129T061602Z
LAST-MODIFIED:20260129T061602Z
UID:28607-1771495200-1771506000@www.lieporiai.lt
SUMMARY:Gimnazijos darbuotojų civilinės saugos mokymai.
DESCRIPTION:
URL:https://www.lieporiai.lt/renginys/gimnazijos-darbuotoju-civilines-saugos-mokymai/
END:VEVENT
BEGIN:VEVENT
DTSTART;TZID=Europe/Vilnius:20260226T173000
DTEND;TZID=Europe/Vilnius:20260226T190000
DTSTAMP:20260421T131946
CREATED:20260127T063054Z
LAST-MODIFIED:20260129T061917Z
UID:28593-1772127000-1772132400@www.lieporiai.lt
SUMMARY:Asociacijos \,\,Lieporių mokyklos bendruomenės" narių susirinkimas.
DESCRIPTION:
URL:https://www.lieporiai.lt/renginys/asociacijos-lieporiu-mokyklos-bendruomenes-susirinkimas/
END:VEVENT
END:VCALENDAR