BEGIN:VCALENDAR
VERSION:2.0
PRODID:-//&Scaron;iaulių Lieporių gimnazija - ECPv6.15.18//NONSGML v1.0//EN
CALSCALE:GREGORIAN
METHOD:PUBLISH
X-WR-CALNAME:&Scaron;iaulių Lieporių gimnazija
X-ORIGINAL-URL:https://www.lieporiai.lt
X-WR-CALDESC:&Scaron;iaulių Lieporių gimnazija renginiai
REFRESH-INTERVAL;VALUE=DURATION:PT1H
X-Robots-Tag:noindex
X-PUBLISHED-TTL:PT1H
BEGIN:VTIMEZONE
TZID:Europe/Vilnius
BEGIN:DAYLIGHT
TZOFFSETFROM:+0200
TZOFFSETTO:+0300
TZNAME:EEST
DTSTART:20250330T010000
END:DAYLIGHT
BEGIN:STANDARD
TZOFFSETFROM:+0300
TZOFFSETTO:+0200
TZNAME:EET
DTSTART:20251026T010000
END:STANDARD
BEGIN:DAYLIGHT
TZOFFSETFROM:+0200
TZOFFSETTO:+0300
TZNAME:EEST
DTSTART:20260329T010000
END:DAYLIGHT
BEGIN:STANDARD
TZOFFSETFROM:+0300
TZOFFSETTO:+0200
TZNAME:EET
DTSTART:20261025T010000
END:STANDARD
BEGIN:DAYLIGHT
TZOFFSETFROM:+0200
TZOFFSETTO:+0300
TZNAME:EEST
DTSTART:20270328T010000
END:DAYLIGHT
BEGIN:STANDARD
TZOFFSETFROM:+0300
TZOFFSETTO:+0200
TZNAME:EET
DTSTART:20271031T010000
END:STANDARD
END:VTIMEZONE
BEGIN:VEVENT
DTSTART;TZID=Europe/Vilnius:20260528T120000
DTEND;TZID=Europe/Vilnius:20260528T130000
DTSTAMP:20260421T044927
CREATED:20260223T135400Z
LAST-MODIFIED:20260223T135603Z
UID:28836-1779969600-1779973200@www.lieporiai.lt
SUMMARY:Paskutinis skambutis
DESCRIPTION:10.20 val. atvyksta abiturientai su auklėtojais. \n11.00 val.  paskutinė pamoka abiturientams. \n12.00 val. koncertas aktų salėje.
URL:https://www.lieporiai.lt/renginys/paskutinis-skambutis-2/
END:VEVENT
BEGIN:VEVENT
DTSTART;TZID=Europe/Vilnius:20260526T170000
DTEND;TZID=Europe/Vilnius:20260526T190000
DTSTAMP:20260421T044927
CREATED:20260223T135657Z
LAST-MODIFIED:20260223T135658Z
UID:28840-1779814800-1779822000@www.lieporiai.lt
SUMMARY:Lieporių garbė.
DESCRIPTION:
URL:https://www.lieporiai.lt/renginys/lieporiu-garbe-2/
END:VEVENT
BEGIN:VEVENT
DTSTART;TZID=Europe/Vilnius:20260522T080000
DTEND;TZID=Europe/Vilnius:20260522T150000
DTSTAMP:20260421T044927
CREATED:20260331T082015Z
LAST-MODIFIED:20260331T082015Z
UID:29075-1779436800-1779462000@www.lieporiai.lt
SUMMARY:STEAM diena
DESCRIPTION:
URL:https://www.lieporiai.lt/renginys/steam-diena/
END:VEVENT
BEGIN:VEVENT
DTSTART;TZID=Europe/Vilnius:20260521T173000
DTEND;TZID=Europe/Vilnius:20260521T190000
DTSTAMP:20260421T044927
CREATED:20260223T135534Z
LAST-MODIFIED:20260223T135534Z
UID:28838-1779384600-1779390000@www.lieporiai.lt
SUMMARY:Bendruomenės šventė.
DESCRIPTION:
URL:https://www.lieporiai.lt/renginys/bendruomenes-svente/
END:VEVENT
BEGIN:VEVENT
DTSTART;TZID=Europe/Vilnius:20260428T130000
DTEND;TZID=Europe/Vilnius:20260428T140000
DTSTAMP:20260421T044927
CREATED:20260409T055156Z
LAST-MODIFIED:20260409T055156Z
UID:29167-1777381200-1777384800@www.lieporiai.lt
SUMMARY:Vicemero Justino Švėgždos pristatymas apie karjerą Šiauliuose.
DESCRIPTION:
URL:https://www.lieporiai.lt/renginys/vicemero-justino-svegzdos-pristatymas-apie-karjera-siauliuose/
END:VEVENT
BEGIN:VEVENT
DTSTART;TZID=Europe/Vilnius:20260417T130000
DTEND;TZID=Europe/Vilnius:20260417T140000
DTSTAMP:20260421T044927
CREATED:20260409T054106Z
LAST-MODIFIED:20260409T054118Z
UID:29161-1776430800-1776434400@www.lieporiai.lt
SUMMARY:Susitikimas su Tomu Bazaru. Inžinieriaus profesijos pristatymas gimnazistams.
DESCRIPTION:
URL:https://www.lieporiai.lt/renginys/susitikimas-su-tomu-bazaru-inzinieriaus-profesijos-pristatymas/
END:VEVENT
BEGIN:VEVENT
DTSTART;TZID=Europe/Vilnius:20260417T090000
DTEND;TZID=Europe/Vilnius:20260417T130000
DTSTAMP:20260421T044927
CREATED:20260409T055101Z
LAST-MODIFIED:20260409T055101Z
UID:29165-1776416400-1776430800@www.lieporiai.lt
SUMMARY:Integruoto ugdymo diena- Asmeninio augimo ir lyderystės diena “Mąstyk. Planuok. Veik.”
DESCRIPTION:
URL:https://www.lieporiai.lt/renginys/integruoto-ugdymo-diena-asmeninio-augimo-ir-lyderystes-diena-mastyk-planuok-veik/
END:VEVENT
BEGIN:VEVENT
DTSTART;TZID=Europe/Vilnius:20260416T110000
DTEND;TZID=Europe/Vilnius:20260416T120000
DTSTAMP:20260421T044927
CREATED:20260331T082120Z
LAST-MODIFIED:20260331T082120Z
UID:29077-1776337200-1776340800@www.lieporiai.lt
SUMMARY:Nacionalinio diktanto rašymas
DESCRIPTION:
URL:https://www.lieporiai.lt/renginys/nacionalinio-diktanto-rasymas/
END:VEVENT
BEGIN:VEVENT
DTSTART;TZID=Europe/Vilnius:20260414T140000
DTEND;TZID=Europe/Vilnius:20260414T150000
DTSTAMP:20260421T044927
CREATED:20260409T053615Z
LAST-MODIFIED:20260409T092813Z
UID:29157-1776175200-1776178800@www.lieporiai.lt
SUMMARY:Finansinio raštingumo viktorina
DESCRIPTION:Dalyviai I klasių gimnazistai
URL:https://www.lieporiai.lt/renginys/finansinio-rastingumo-konkursas/
END:VEVENT
BEGIN:VEVENT
DTSTART;TZID=Europe/Vilnius:20260413T110000
DTEND;TZID=Europe/Vilnius:20260413T120000
DTSTAMP:20260421T044927
CREATED:20260409T053856Z
LAST-MODIFIED:20260409T053856Z
UID:29159-1776078000-1776081600@www.lieporiai.lt
SUMMARY:Susitikimas su Vilniaus Gedimino technikos universiteto Chemijos ir bioinžinerijos katedros vedėju. Bioinžinerijos studijų programos pristatymas
DESCRIPTION:Tikslinė grupė.
URL:https://www.lieporiai.lt/renginys/susitikimas-su-vilniaus-gedimino-technikos-universiteto-chemijos-ir-bioinzinerijos-katedros-vedeju-bioinzinerijos-studiju-programos-pristatymas/
END:VEVENT
BEGIN:VEVENT
DTSTART;TZID=Europe/Vilnius:20260403T120000
DTEND;TZID=Europe/Vilnius:20260403T130000
DTSTAMP:20260421T044927
CREATED:20260224T065032Z
LAST-MODIFIED:20260224T065032Z
UID:28847-1775217600-1775221200@www.lieporiai.lt
SUMMARY:Sėkmės diena
DESCRIPTION:
URL:https://www.lieporiai.lt/renginys/sekmes-diena/
END:VEVENT
BEGIN:VEVENT
DTSTART;TZID=Europe/Vilnius:20260327T180000
DTEND;TZID=Europe/Vilnius:20260327T190000
DTSTAMP:20260421T044927
CREATED:20260309T102249Z
LAST-MODIFIED:20260309T102249Z
UID:28886-1774634400-1774638000@www.lieporiai.lt
SUMMARY:Koncertas \,\,Apkabinimai"
DESCRIPTION:Solinis abiturientės Beatos koncertas.
URL:https://www.lieporiai.lt/renginys/koncertas-apkabinimai/
END:VEVENT
BEGIN:VEVENT
DTSTART;TZID=Europe/Vilnius:20260326T153000
DTEND;TZID=Europe/Vilnius:20260326T190000
DTSTAMP:20260421T044927
CREATED:20260223T134629Z
LAST-MODIFIED:20260223T135001Z
UID:28832-1774539000-1774551600@www.lieporiai.lt
SUMMARY:Atvirų durų diena.
DESCRIPTION:Individualūs pokalbiai su mokytojais.
URL:https://www.lieporiai.lt/renginys/atviru-duru-diena-individualus-pokalbiai-su-mokytojais/
END:VEVENT
BEGIN:VEVENT
DTSTART;TZID=Europe/Vilnius:20260318T120000
DTEND;TZID=Europe/Vilnius:20260318T130000
DTSTAMP:20260421T044927
CREATED:20260310T095459Z
LAST-MODIFIED:20260310T095500Z
UID:28899-1773835200-1773838800@www.lieporiai.lt
SUMMARY:Susitikimas su Gegužių progimnazijos ir Gytarių progimnazijos administracijomis
DESCRIPTION:
URL:https://www.lieporiai.lt/renginys/susitikimas-su-geguziu-progimnazijos-ir-gytariu-progimnazijos-administracijomis/
END:VEVENT
BEGIN:VEVENT
DTSTART;TZID=Europe/Vilnius:20260316T080000
DTEND;TZID=Europe/Vilnius:20260320T170000
DTSTAMP:20260421T044927
CREATED:20260309T102313Z
LAST-MODIFIED:20260309T102313Z
UID:28885-1773648000-1774026000@www.lieporiai.lt
SUMMARY:Pozityvumo savaitė
DESCRIPTION:
URL:https://www.lieporiai.lt/renginys/pozityvumo-savaite-4/
END:VEVENT
BEGIN:VEVENT
DTSTART;TZID=Europe/Vilnius:20260311T120000
DTEND;TZID=Europe/Vilnius:20260311T130000
DTSTAMP:20260421T044927
CREATED:20260224T064942Z
LAST-MODIFIED:20260224T064942Z
UID:28845-1773230400-1773234000@www.lieporiai.lt
SUMMARY:Kovo 11-osios renginys Prisikėlimo aikštėje
DESCRIPTION:Dalyvauja visa bendruomenė.
URL:https://www.lieporiai.lt/renginys/kovo-11-osios-renginys-prisikelimo-aiksteje/
END:VEVENT
BEGIN:VEVENT
DTSTART;TZID=Europe/Vilnius:20260311T100000
DTEND;TZID=Europe/Vilnius:20260311T120000
DTSTAMP:20260421T044927
CREATED:20260223T134255Z
LAST-MODIFIED:20260223T134255Z
UID:28830-1773223200-1773230400@www.lieporiai.lt
SUMMARY:Trispalvės žygis „Lietuva mūsų širdyse“.
DESCRIPTION:Dalyvauja neformalaus būrelio \,\,Skautai” ir \,\,Misija – pilietis” nariai su vadovais.
URL:https://www.lieporiai.lt/renginys/trispalves-zygis-lietuva-musu-sirdyse/
END:VEVENT
BEGIN:VEVENT
DTSTART;TZID=Europe/Vilnius:20260310T124500
DTEND;TZID=Europe/Vilnius:20260310T140000
DTSTAMP:20260421T044927
CREATED:20260223T134030Z
LAST-MODIFIED:20260223T134030Z
UID:28828-1773146700-1773151200@www.lieporiai.lt
SUMMARY:Šiaulių miesto moksleivių lietuviškos dainos sąspietis „SUDAINUOKIME LAISVĘ“
DESCRIPTION:Dalyvauja IIA klasės mokiniai.
URL:https://www.lieporiai.lt/renginys/siauliu-miesto-moksleiviu-lietuviskos-dainos-saspietis-sudainuokime-laisve/
END:VEVENT
BEGIN:VEVENT
DTSTART;TZID=Europe/Vilnius:20260310T103500
DTEND;TZID=Europe/Vilnius:20260310T110500
DTSTAMP:20260421T044927
CREATED:20260223T133741Z
LAST-MODIFIED:20260223T133837Z
UID:28825-1773138900-1773140700@www.lieporiai.lt
SUMMARY:Koncertas skirtas Kovo 11-ajai Lietuvos nepriklausomybės atkūrimo dienai paminėti.
DESCRIPTION:
URL:https://www.lieporiai.lt/renginys/koncertas-skirtas-kovo-11-ajai-pamineti/
END:VEVENT
BEGIN:VEVENT
DTSTART;TZID=Europe/Vilnius:20260226T173000
DTEND;TZID=Europe/Vilnius:20260226T190000
DTSTAMP:20260421T044927
CREATED:20260127T063054Z
LAST-MODIFIED:20260129T061917Z
UID:28593-1772127000-1772132400@www.lieporiai.lt
SUMMARY:Asociacijos \,\,Lieporių mokyklos bendruomenės" narių susirinkimas.
DESCRIPTION:
URL:https://www.lieporiai.lt/renginys/asociacijos-lieporiu-mokyklos-bendruomenes-susirinkimas/
END:VEVENT
BEGIN:VEVENT
DTSTART;TZID=Europe/Vilnius:20260219T100000
DTEND;TZID=Europe/Vilnius:20260219T130000
DTSTAMP:20260421T044927
CREATED:20260129T061602Z
LAST-MODIFIED:20260129T061602Z
UID:28607-1771495200-1771506000@www.lieporiai.lt
SUMMARY:Gimnazijos darbuotojų civilinės saugos mokymai.
DESCRIPTION:
URL:https://www.lieporiai.lt/renginys/gimnazijos-darbuotoju-civilines-saugos-mokymai/
END:VEVENT
BEGIN:VEVENT
DTSTART;TZID=Europe/Vilnius:20260218T090000
DTEND;TZID=Europe/Vilnius:20260218T120000
DTSTAMP:20260421T044927
CREATED:20260218T084205Z
LAST-MODIFIED:20260218T084205Z
UID:28820-1771405200-1771416000@www.lieporiai.lt
SUMMARY:Emocinis raštingumas ugdyme.
DESCRIPTION:Seminaras mokytojams.
URL:https://www.lieporiai.lt/renginys/emocinis-rastingumas-ugdyme/
END:VEVENT
BEGIN:VEVENT
DTSTART;TZID=Europe/Vilnius:20260217T090000
DTEND;TZID=Europe/Vilnius:20260217T130000
DTSTAMP:20260421T044927
CREATED:20260218T083959Z
LAST-MODIFIED:20260218T084036Z
UID:28817-1771318800-1771333200@www.lieporiai.lt
SUMMARY:Pasiruošimo pilietiniam pasipriešinimui pagrindai.
DESCRIPTION:Mokymai mokytojams.
URL:https://www.lieporiai.lt/renginys/pasiruosimo-pasipriesinimui-pagrindai/
END:VEVENT
BEGIN:VEVENT
DTSTART;TZID=Europe/Vilnius:20260216T090000
DTEND;TZID=Europe/Vilnius:20260216T103000
DTSTAMP:20260421T044927
CREATED:20260210T074553Z
LAST-MODIFIED:20260210T074553Z
UID:28779-1771232400-1771237800@www.lieporiai.lt
SUMMARY:Vasario 16-osios minėjimas Signatarų alėjoje.
DESCRIPTION:
URL:https://www.lieporiai.lt/renginys/vasario-16-osios-minejimas-signataru-alejoje/
END:VEVENT
BEGIN:VEVENT
DTSTART;TZID=Europe/Vilnius:20260211T150000
DTEND;TZID=Europe/Vilnius:20260211T163000
DTSTAMP:20260421T044927
CREATED:20260127T062703Z
LAST-MODIFIED:20260129T060528Z
UID:28589-1770822000-1770827400@www.lieporiai.lt
SUMMARY:Mokytojų tarybos posėdis.
DESCRIPTION:
URL:https://www.lieporiai.lt/renginys/mokytoju-tarybos-posedis-36/
END:VEVENT
BEGIN:VEVENT
DTSTART;TZID=Europe/Vilnius:20260210T173000
DTEND;TZID=Europe/Vilnius:20260210T190000
DTSTAMP:20260421T044927
CREATED:20260127T062429Z
LAST-MODIFIED:20260127T062504Z
UID:28587-1770744600-1770750000@www.lieporiai.lt
SUMMARY:Gimnazijos tarybos posėdis.
DESCRIPTION:
URL:https://www.lieporiai.lt/renginys/gimnazijos-tarybos-posedis/
END:VEVENT
BEGIN:VEVENT
DTSTART;TZID=Europe/Vilnius:20260206T173000
DTEND;TZID=Europe/Vilnius:20260206T193000
DTSTAMP:20260421T044927
CREATED:20260115T070145Z
LAST-MODIFIED:20260115T070145Z
UID:28534-1770399000-1770406200@www.lieporiai.lt
SUMMARY:Abiturientų šimtadienis.
DESCRIPTION:Renginys vyks Kultūros centre.
URL:https://www.lieporiai.lt/renginys/abiturientu-simtadienis-2/
END:VEVENT
BEGIN:VEVENT
DTSTART;TZID=Europe/Vilnius:20260205T180000
DTEND;TZID=Europe/Vilnius:20260205T190000
DTSTAMP:20260421T044927
CREATED:20260115T070824Z
LAST-MODIFIED:20260115T070824Z
UID:28536-1770314400-1770318000@www.lieporiai.lt
SUMMARY:Būsimųjų gimnazistų tėvų susirinkimas.
DESCRIPTION:Vieta: Gimnazijos aktų salė.
URL:https://www.lieporiai.lt/renginys/busimuju-gimnazistu-tevu-susirinkimas-6/
END:VEVENT
BEGIN:VEVENT
DTSTART;TZID=Europe/Vilnius:20260130T170000
DTEND;TZID=Europe/Vilnius:20260130T190000
DTSTAMP:20260421T044927
CREATED:20260115T070049Z
LAST-MODIFIED:20260127T062250Z
UID:28532-1769792400-1769799600@www.lieporiai.lt
SUMMARY:Alumnų susitikimas.
DESCRIPTION:17.00 val. draugiškos tinklinio varžybos. \n18.00 val. koncertas aktų salėje. Po to susitikimai su mokytojais ir klasių vadovais.
URL:https://www.lieporiai.lt/renginys/alumnu-susitikimas-2/
END:VEVENT
BEGIN:VEVENT
DTSTART;TZID=Europe/Vilnius:20260128T110000
DTEND;TZID=Europe/Vilnius:20260128T150000
DTSTAMP:20260421T044927
CREATED:20260102T081150Z
LAST-MODIFIED:20260102T081150Z
UID:28453-1769598000-1769612400@www.lieporiai.lt
SUMMARY:Šiaulių miesto oratorių konkursas.
DESCRIPTION:
URL:https://www.lieporiai.lt/renginys/siauliu-miesto-oratoriu-konkursas-2/
END:VEVENT
END:VCALENDAR