BEGIN:VCALENDAR
VERSION:2.0
PRODID:-//&Scaron;iaulių Lieporių gimnazija - ECPv6.15.18//NONSGML v1.0//EN
CALSCALE:GREGORIAN
METHOD:PUBLISH
X-WR-CALNAME:&Scaron;iaulių Lieporių gimnazija
X-ORIGINAL-URL:https://www.lieporiai.lt
X-WR-CALDESC:&Scaron;iaulių Lieporių gimnazija renginiai
REFRESH-INTERVAL;VALUE=DURATION:PT1H
X-Robots-Tag:noindex
X-PUBLISHED-TTL:PT1H
BEGIN:VTIMEZONE
TZID:Europe/Vilnius
BEGIN:DAYLIGHT
TZOFFSETFROM:+0200
TZOFFSETTO:+0300
TZNAME:EEST
DTSTART:20230326T010000
END:DAYLIGHT
BEGIN:STANDARD
TZOFFSETFROM:+0300
TZOFFSETTO:+0200
TZNAME:EET
DTSTART:20231029T010000
END:STANDARD
BEGIN:DAYLIGHT
TZOFFSETFROM:+0200
TZOFFSETTO:+0300
TZNAME:EEST
DTSTART:20240331T010000
END:DAYLIGHT
BEGIN:STANDARD
TZOFFSETFROM:+0300
TZOFFSETTO:+0200
TZNAME:EET
DTSTART:20241027T010000
END:STANDARD
BEGIN:DAYLIGHT
TZOFFSETFROM:+0200
TZOFFSETTO:+0300
TZNAME:EEST
DTSTART:20250330T010000
END:DAYLIGHT
BEGIN:STANDARD
TZOFFSETFROM:+0300
TZOFFSETTO:+0200
TZNAME:EET
DTSTART:20251026T010000
END:STANDARD
BEGIN:DAYLIGHT
TZOFFSETFROM:+0200
TZOFFSETTO:+0300
TZNAME:EEST
DTSTART:20260329T010000
END:DAYLIGHT
BEGIN:STANDARD
TZOFFSETFROM:+0300
TZOFFSETTO:+0200
TZNAME:EET
DTSTART:20261025T010000
END:STANDARD
END:VTIMEZONE
BEGIN:VEVENT
DTSTART;TZID=Europe/Vilnius:20241205T090000
DTEND;TZID=Europe/Vilnius:20241205T120000
DTSTAMP:20260420T132021
CREATED:20241112T080451Z
LAST-MODIFIED:20241112T080451Z
UID:25030-1733389200-1733400000@www.lieporiai.lt
SUMMARY:Tėvelių klasė
DESCRIPTION:Dalyvauja visi norintys I klasių tėveliai.
URL:https://www.lieporiai.lt/renginys/teveliu-klase/
END:VEVENT
BEGIN:VEVENT
DTSTART;TZID=Europe/Vilnius:20241206T170000
DTEND;TZID=Europe/Vilnius:20241206T193000
DTSTAMP:20260420T132021
CREATED:20241112T080542Z
LAST-MODIFIED:20241128T060440Z
UID:25032-1733504400-1733513400@www.lieporiai.lt
SUMMARY:Jaukumo dirbtuvės \,\,Kalėdų belaukiant"
DESCRIPTION:
URL:https://www.lieporiai.lt/renginys/kaledines-dirbtuves-2/
END:VEVENT
BEGIN:VEVENT
DTSTART;TZID=Europe/Vilnius:20241209T130000
DTEND;TZID=Europe/Vilnius:20241209T170000
DTSTAMP:20260420T132021
CREATED:20241128T060749Z
LAST-MODIFIED:20241128T060749Z
UID:25164-1733749200-1733763600@www.lieporiai.lt
SUMMARY:A. Lastausko seminaras mokytojams \,\,Išmaniųjų technologijų taikymas ugdymo procese"
DESCRIPTION:
URL:https://www.lieporiai.lt/renginys/a-lastausko-seminaras-mokytojams-ismaniuju-technologiju-taikymas-ugdymo-procese/
END:VEVENT
BEGIN:VEVENT
DTSTART;TZID=Europe/Vilnius:20241210T170000
DTEND;TZID=Europe/Vilnius:20241210T190000
DTSTAMP:20260420T132021
CREATED:20241112T080638Z
LAST-MODIFIED:20241203T100846Z
UID:25034-1733850000-1733857200@www.lieporiai.lt
SUMMARY:Kasmetinė gimnazijos bendruomenės konferencija \,\,Vertinimo ir grįžtamojo ryšio strategijų taikymas siekiant pažangos" .
DESCRIPTION:
URL:https://www.lieporiai.lt/renginys/kasmetine-gimnazijos-bendruomenes-konferencija/
END:VEVENT
BEGIN:VEVENT
DTSTART;TZID=Europe/Vilnius:20241211T100000
DTEND;TZID=Europe/Vilnius:20241211T120000
DTSTAMP:20260420T132021
CREATED:20241113T080027Z
LAST-MODIFIED:20241113T080027Z
UID:25047-1733911200-1733918400@www.lieporiai.lt
SUMMARY:Gegužių progimnazijos aštuntokai
DESCRIPTION:
URL:https://www.lieporiai.lt/renginys/geguziu-progimnazijos-astuntokai/
END:VEVENT
BEGIN:VEVENT
DTSTART;TZID=Europe/Vilnius:20241213T070000
DTEND;TZID=Europe/Vilnius:20241213T190000
DTSTAMP:20260420T132021
CREATED:20241128T060524Z
LAST-MODIFIED:20241128T060524Z
UID:25161-1734073200-1734116400@www.lieporiai.lt
SUMMARY:Gabių ir aktyvių gimnazistų ekskursija į Vilnių
DESCRIPTION:
URL:https://www.lieporiai.lt/renginys/gabiu-ir-aktyviu-gimnazistu-ekskursija-i-vilniu/
END:VEVENT
BEGIN:VEVENT
DTSTART;TZID=Europe/Vilnius:20241213T070000
DTEND;TZID=Europe/Vilnius:20241213T190000
DTSTAMP:20260420T132021
CREATED:20241205T133924Z
LAST-MODIFIED:20241205T133924Z
UID:25223-1734073200-1734116400@www.lieporiai.lt
SUMMARY:Junior achievement komandos dalyvavimas parodoje Vilniuje
DESCRIPTION:
URL:https://www.lieporiai.lt/renginys/junior-achievement-komandos-dalyvavimas-parodoje-vilniuje/
END:VEVENT
BEGIN:VEVENT
DTSTART;TZID=Europe/Vilnius:20241219T120000
DTEND;TZID=Europe/Vilnius:20241219T140000
DTSTAMP:20260420T132021
CREATED:20241205T134137Z
LAST-MODIFIED:20241205T134137Z
UID:25225-1734609600-1734616800@www.lieporiai.lt
SUMMARY:Kalėdinis \,\,Dagiltės" tinklinio turnyras.
DESCRIPTION:Dalyvauja tinklinio komandos.
URL:https://www.lieporiai.lt/renginys/kaledinis-dagiltes-tinklinio-turnyras/
END:VEVENT
BEGIN:VEVENT
DTSTART;TZID=Europe/Vilnius:20241220T170000
DTEND;TZID=Europe/Vilnius:20241220T220000
DTSTAMP:20260420T132021
CREATED:20241112T081052Z
LAST-MODIFIED:20241203T100749Z
UID:25036-1734714000-1734732000@www.lieporiai.lt
SUMMARY:Kalėdinis karnavalas
DESCRIPTION:Dalyvauja I-IV klasių gimnazistai.
URL:https://www.lieporiai.lt/renginys/kaledinis-karnavalas-4/
END:VEVENT
BEGIN:VEVENT
DTSTART;TZID=Europe/Vilnius:20241223T113000
DTEND;TZID=Europe/Vilnius:20241223T123000
DTSTAMP:20260420T132021
CREATED:20241112T081212Z
LAST-MODIFIED:20241112T081212Z
UID:25038-1734953400-1734957000@www.lieporiai.lt
SUMMARY:Šv. Mišios už Lieporių bendruomenę Švč. Mergelės Marijos Nekaltojo prasidėjo bažnyčioje
DESCRIPTION:
URL:https://www.lieporiai.lt/renginys/sv-misios-uz-lieporiu-bendruomene-svc-mergeles-marijos-nekaltojo-prasidejo-baznycioje/
END:VEVENT
BEGIN:VEVENT
DTSTART;TZID=Europe/Vilnius:20241230T090000
DTEND;TZID=Europe/Vilnius:20241230T110000
DTSTAMP:20260420T132021
CREATED:20241227T083144Z
LAST-MODIFIED:20241227T083144Z
UID:25585-1735549200-1735556400@www.lieporiai.lt
SUMMARY:Mokytojų tarybos posėdis
DESCRIPTION:„Dėl konferencijos refleksijos mokytojų ataskaitos apie kvalifikacijos kėlimo kursus Prancūzijoje\, dėl PUPP ir VBE egzaminų”.
URL:https://www.lieporiai.lt/renginys/mokytoju-tarybos-posedis-30/
END:VEVENT
BEGIN:VEVENT
DTSTART;TZID=Europe/Vilnius:20250102T100000
DTEND;TZID=Europe/Vilnius:20250102T120000
DTSTAMP:20260420T132021
CREATED:20241227T083241Z
LAST-MODIFIED:20241227T083241Z
UID:25587-1735812000-1735819200@www.lieporiai.lt
SUMMARY:Civilinės saugos seminaras.
DESCRIPTION:
URL:https://www.lieporiai.lt/renginys/civilines-saugos-seminaras/
END:VEVENT
BEGIN:VEVENT
DTSTART;TZID=Europe/Vilnius:20250113T080000
DTEND;TZID=Europe/Vilnius:20250113T083000
DTSTAMP:20260420T132021
CREATED:20241227T083515Z
LAST-MODIFIED:20241227T083515Z
UID:25589-1736755200-1736757000@www.lieporiai.lt
SUMMARY:Laisvės gynėjų diena. Integruotas renginys skirtas Sausio 13-ajai paminėti \,\,Pergalės šviesa"
DESCRIPTION:
URL:https://www.lieporiai.lt/renginys/laisves-gyneju-diena-integruotas-renginys-skirtas-sausio-13-ajai-pamineti-pergales-sviesa/
END:VEVENT
BEGIN:VEVENT
DTSTART;TZID=Europe/Vilnius:20250113T083000
DTEND;TZID=Europe/Vilnius:20250113T090000
DTSTAMP:20260420T132021
CREATED:20241227T083629Z
LAST-MODIFIED:20241227T083629Z
UID:25591-1736757000-1736758800@www.lieporiai.lt
SUMMARY:Tritaškių metimo konkursas skirtas Sausio 13-ajai atminti.
DESCRIPTION:
URL:https://www.lieporiai.lt/renginys/tritaskiu-metimo-konkursas-skirtas-sausio-13-ajai-atminti/
END:VEVENT
BEGIN:VEVENT
DTSTART;TZID=Europe/Vilnius:20250116T150000
DTEND;TZID=Europe/Vilnius:20250116T163000
DTSTAMP:20260420T132021
CREATED:20250114T121352Z
LAST-MODIFIED:20250114T121352Z
UID:25663-1737039600-1737045000@www.lieporiai.lt
SUMMARY:Mokytojų tarybos posėdis.
DESCRIPTION:
URL:https://www.lieporiai.lt/renginys/mokytoju-tarybos-posedis-31/
END:VEVENT
BEGIN:VEVENT
DTSTART;TZID=Europe/Vilnius:20250122T120000
DTEND;TZID=Europe/Vilnius:20250122T140000
DTSTAMP:20260420T132021
CREATED:20250122T102600Z
LAST-MODIFIED:20250122T102600Z
UID:25736-1737547200-1737554400@www.lieporiai.lt
SUMMARY:Šiaulių miesto oratorių konkursas.
DESCRIPTION:
URL:https://www.lieporiai.lt/renginys/siauliu-miesto-oratoriu-konkursas/
END:VEVENT
BEGIN:VEVENT
DTSTART;TZID=Europe/Vilnius:20250130T180000
DTEND;TZID=Europe/Vilnius:20250130T190000
DTSTAMP:20260420T132021
CREATED:20250123T112740Z
LAST-MODIFIED:20250123T112740Z
UID:25749-1738260000-1738263600@www.lieporiai.lt
SUMMARY:Susitikimas su gimnazijos mokinių tėvų aktyvu.
DESCRIPTION:Susitikimas vyks 225 kabinete.
URL:https://www.lieporiai.lt/renginys/susitikimas-su-gimnazijos-mokiniu-tevu-aktyvu/
END:VEVENT
BEGIN:VEVENT
DTSTART;TZID=Europe/Vilnius:20250131T180000
DTEND;TZID=Europe/Vilnius:20250131T190000
DTSTAMP:20260420T132021
CREATED:20241227T083809Z
LAST-MODIFIED:20250114T121419Z
UID:25593-1738346400-1738350000@www.lieporiai.lt
SUMMARY:Susitikimas su buvusiais abiturientais.
DESCRIPTION:17.00 val.  draugiškos tinklinio varžybos sporto salėje. \n18.00 val. renginys aktų salėje. \nSusitikimai su klasių vadovais.
URL:https://www.lieporiai.lt/renginys/susitikimas-su-buvusiais-abiturientais-5/
END:VEVENT
BEGIN:VEVENT
DTSTART;TZID=Europe/Vilnius:20250205T130000
DTEND;TZID=Europe/Vilnius:20250206T160000
DTSTAMP:20260420T132021
CREATED:20250203T101125Z
LAST-MODIFIED:20250203T101125Z
UID:25861-1738760400-1738857600@www.lieporiai.lt
SUMMARY:II kl. mokinių metinių projektų gynimas.
DESCRIPTION:
URL:https://www.lieporiai.lt/renginys/ii-kl-mokiniu-metiniu-projektu-gynimas/
END:VEVENT
BEGIN:VEVENT
DTSTART;TZID=Europe/Vilnius:20250210T150000
DTEND;TZID=Europe/Vilnius:20250210T163000
DTSTAMP:20260420T132021
CREATED:20250207T114625Z
LAST-MODIFIED:20250207T114625Z
UID:25909-1739199600-1739205000@www.lieporiai.lt
SUMMARY:Mokytojų tarybos posėdis.
DESCRIPTION:Mokytojų tarybos posėdis dėl I-ojo pusmečio rezultatų aptarimo.
URL:https://www.lieporiai.lt/renginys/mokytoju-tarybos-posedis-32/
END:VEVENT
BEGIN:VEVENT
DTSTART;TZID=Europe/Vilnius:20250213T090000
DTEND;TZID=Europe/Vilnius:20250213T150000
DTSTAMP:20260420T132021
CREATED:20250130T105240Z
LAST-MODIFIED:20250130T105240Z
UID:25794-1739437200-1739458800@www.lieporiai.lt
SUMMARY:Dailyraščio konkursas
DESCRIPTION:
URL:https://www.lieporiai.lt/renginys/dailyrascio-konkursas-2/
END:VEVENT
BEGIN:VEVENT
DTSTART;TZID=Europe/Vilnius:20250213T170000
DTEND;TZID=Europe/Vilnius:20250213T190000
DTSTAMP:20260420T132021
CREATED:20250122T084227Z
LAST-MODIFIED:20250122T084246Z
UID:25731-1739466000-1739473200@www.lieporiai.lt
SUMMARY:Bendri tėvų\, globėjų susirinkimai
DESCRIPTION:I-II klasių gimnazistų tėvai\, globėjai laukiami 17.00 val. aktų salėje. \nIII-IV klasių gimnazistų tęvai\, globėjai laukiami 18.00 val. aktų salėje. \nPo to susirinkimai su klasių vadovais kabinetuose.
URL:https://www.lieporiai.lt/renginys/tevu-globeju-susirinkimai-2/
END:VEVENT
BEGIN:VEVENT
DTSTART;TZID=Europe/Vilnius:20250214T110000
DTEND;TZID=Europe/Vilnius:20250214T120000
DTSTAMP:20260420T132021
CREATED:20250130T105333Z
LAST-MODIFIED:20250130T105333Z
UID:25796-1739530800-1739534400@www.lieporiai.lt
SUMMARY:Vasario 16-iosios minėjimas gimnazijoje.
DESCRIPTION:
URL:https://www.lieporiai.lt/renginys/vasario-16-iosios-minejimas-gimnazijoje/
END:VEVENT
BEGIN:VEVENT
DTSTART;TZID=Europe/Vilnius:20250216T093000
DTEND;TZID=Europe/Vilnius:20250216T110000
DTSTAMP:20260420T132021
CREATED:20250130T105526Z
LAST-MODIFIED:20250207T114508Z
UID:25798-1739698200-1739703600@www.lieporiai.lt
SUMMARY:Vasario 16-osios minėjimas Signatarų alėjoje
DESCRIPTION:Dalyvauja skautų vadovas M. Šlapelis ir skautai.
URL:https://www.lieporiai.lt/renginys/vasario-16-osios-minejimas-lieporiu-parke/
END:VEVENT
BEGIN:VEVENT
DTSTART;TZID=Europe/Vilnius:20250225T180000
DTEND;TZID=Europe/Vilnius:20250225T190000
DTSTAMP:20260420T132021
CREATED:20250130T132805Z
LAST-MODIFIED:20250130T132805Z
UID:25806-1740506400-1740510000@www.lieporiai.lt
SUMMARY:Būsimų gimnazistų tėvų susirinkimas.
DESCRIPTION:Vieta: aktų salė
URL:https://www.lieporiai.lt/renginys/busimu-gimnazistu-tevu-susirinkimas/
END:VEVENT
BEGIN:VEVENT
DTSTART;TZID=Europe/Vilnius:20250304T150000
DTEND;TZID=Europe/Vilnius:20250304T160000
DTSTAMP:20260420T132021
CREATED:20250227T100500Z
LAST-MODIFIED:20250227T100500Z
UID:26024-1741100400-1741104000@www.lieporiai.lt
SUMMARY:Mokytojų tarybos posėdis
DESCRIPTION:
URL:https://www.lieporiai.lt/renginys/mokytoju-tarybos-posedis-33/
END:VEVENT
BEGIN:VEVENT
DTSTART;TZID=Europe/Vilnius:20250305T123000
DTEND;TZID=Europe/Vilnius:20250305T133000
DTSTAMP:20260420T132021
CREATED:20250227T100113Z
LAST-MODIFIED:20250227T100113Z
UID:26020-1741177800-1741181400@www.lieporiai.lt
SUMMARY:Abiturientų spektaklio \,\,Ritmas vienija" rodymas gimnazijos mokiniams
DESCRIPTION:Vieta: Kultūros centras
URL:https://www.lieporiai.lt/renginys/abiturientu-spektaklio-ritmas-vienija-rodymas-gimnazijos-mokiniams/
END:VEVENT
BEGIN:VEVENT
DTSTART;TZID=Europe/Vilnius:20250305T180000
DTEND;TZID=Europe/Vilnius:20250305T200000
DTSTAMP:20260420T132021
CREATED:20250227T100219Z
LAST-MODIFIED:20250227T100219Z
UID:26022-1741197600-1741204800@www.lieporiai.lt
SUMMARY:Šimtadienio šventė.
DESCRIPTION:Vieta: Kultūros centras
URL:https://www.lieporiai.lt/renginys/simtadienio-svente-2/
END:VEVENT
BEGIN:VEVENT
DTSTART;TZID=Europe/Vilnius:20250310T080000
DTEND;TZID=Europe/Vilnius:20250310T150000
DTSTAMP:20260420T132021
CREATED:20250227T111318Z
LAST-MODIFIED:20250227T111318Z
UID:26026-1741593600-1741618800@www.lieporiai.lt
SUMMARY:Lietuvos Nepriklausomybės atkūrimo dienos minėjimas gimnazijoje
DESCRIPTION:
URL:https://www.lieporiai.lt/renginys/lietuvos-nepriklausomybes-atkurimo-dienos-minejimas-gimnazijoje/
END:VEVENT
BEGIN:VEVENT
DTSTART;TZID=Europe/Vilnius:20250311T103000
DTEND;TZID=Europe/Vilnius:20250311T130000
DTSTAMP:20260420T132021
CREATED:20250227T111844Z
LAST-MODIFIED:20250227T111844Z
UID:26028-1741689000-1741698000@www.lieporiai.lt
SUMMARY:Kovo 11-osios minėjimas miesto renginiuose
DESCRIPTION:Dalyvauja I-III klasių gimnazistai.
URL:https://www.lieporiai.lt/renginys/kovo-11-osios-minejimas-miesto-renginiuose/
END:VEVENT
END:VCALENDAR