BEGIN:VCALENDAR
VERSION:2.0
PRODID:-//&Scaron;iaulių Lieporių gimnazija - ECPv6.15.18//NONSGML v1.0//EN
CALSCALE:GREGORIAN
METHOD:PUBLISH
X-WR-CALNAME:&Scaron;iaulių Lieporių gimnazija
X-ORIGINAL-URL:https://www.lieporiai.lt
X-WR-CALDESC:&Scaron;iaulių Lieporių gimnazija renginiai
REFRESH-INTERVAL;VALUE=DURATION:PT1H
X-Robots-Tag:noindex
X-PUBLISHED-TTL:PT1H
BEGIN:VTIMEZONE
TZID:Europe/Vilnius
BEGIN:DAYLIGHT
TZOFFSETFROM:+0200
TZOFFSETTO:+0300
TZNAME:EEST
DTSTART:20210328T010000
END:DAYLIGHT
BEGIN:STANDARD
TZOFFSETFROM:+0300
TZOFFSETTO:+0200
TZNAME:EET
DTSTART:20211031T010000
END:STANDARD
BEGIN:DAYLIGHT
TZOFFSETFROM:+0200
TZOFFSETTO:+0300
TZNAME:EEST
DTSTART:20220327T010000
END:DAYLIGHT
BEGIN:STANDARD
TZOFFSETFROM:+0300
TZOFFSETTO:+0200
TZNAME:EET
DTSTART:20221030T010000
END:STANDARD
BEGIN:DAYLIGHT
TZOFFSETFROM:+0200
TZOFFSETTO:+0300
TZNAME:EEST
DTSTART:20230326T010000
END:DAYLIGHT
BEGIN:STANDARD
TZOFFSETFROM:+0300
TZOFFSETTO:+0200
TZNAME:EET
DTSTART:20231029T010000
END:STANDARD
END:VTIMEZONE
BEGIN:VEVENT
DTSTART;TZID=Europe/Vilnius:20221130T140000
DTEND;TZID=Europe/Vilnius:20221130T170000
DTSTAMP:20260423T012541
CREATED:20221103T080315Z
LAST-MODIFIED:20221103T080315Z
UID:19045-1669816800-1669827600@www.lieporiai.lt
SUMMARY:J. Valuckienės seminaras mokytojams \,\,Susitarimai ir veikimas kartu rengiantis dirbti pagal atnaujintas bendrojo ugdymo programas".
DESCRIPTION:Vieta: aktų salė.
URL:https://www.lieporiai.lt/renginys/j-valuckienes-seminaras-mokytojams-susitarimai-ir-veikimas-kartu-rengiantis-dirbti-pagal-atnaujintas-bendrojo-ugdymo-programas/
END:VEVENT
BEGIN:VEVENT
DTSTART;TZID=Europe/Vilnius:20221130T104000
DTEND;TZID=Europe/Vilnius:20221130T111500
DTSTAMP:20260423T012541
CREATED:20221107T100209Z
LAST-MODIFIED:20221107T100209Z
UID:19084-1669804800-1669806900@www.lieporiai.lt
SUMMARY:Protmūšis II gimnazijos klasių moksleivių komandoms "AIDS: geriau žinoti 22"
DESCRIPTION:Organizuoja E. Leparskienė\, E. Banevičienė\, I. Šablinskienė. \nVieta: 225A kab.
URL:https://www.lieporiai.lt/renginys/protmusis-ii-gimnazijos-klasiu-moksleiviu-komandoms-aids-geriau-zinoti-22/
END:VEVENT
BEGIN:VEVENT
DTSTART;TZID=Europe/Vilnius:20221129T080000
DTEND;TZID=Europe/Vilnius:20221129T084500
DTSTAMP:20260423T012541
CREATED:20221103T071706Z
LAST-MODIFIED:20221103T071706Z
UID:19029-1669708800-1669711500@www.lieporiai.lt
SUMMARY:Advento rytmetys.
DESCRIPTION:
URL:https://www.lieporiai.lt/renginys/advento-rytmetys-5/
END:VEVENT
BEGIN:VEVENT
DTSTART;TZID=Europe/Vilnius:20221125T160000
DTEND;TZID=Europe/Vilnius:20221127T160000
DTSTAMP:20260423T012541
CREATED:20221103T071548Z
LAST-MODIFIED:20221103T071548Z
UID:19027-1669392000-1669564800@www.lieporiai.lt
SUMMARY:Šuolio organizuojama Liepsnos stovykla \,\,SVAJONIŲ KRUIZAS“
DESCRIPTION:
URL:https://www.lieporiai.lt/renginys/suolio-organizuojama-liepsnos-stovykla-svajoniu-kruizas/
END:VEVENT
BEGIN:VEVENT
DTSTART;TZID=Europe/Vilnius:20221124T160000
DTEND;TZID=Europe/Vilnius:20221124T190000
DTSTAMP:20260423T012541
CREATED:20221103T071319Z
LAST-MODIFIED:20221103T071319Z
UID:19025-1669305600-1669316400@www.lieporiai.lt
SUMMARY:Atvirų durų diena.
DESCRIPTION:
URL:https://www.lieporiai.lt/renginys/atviru-duru-diena-3/
END:VEVENT
BEGIN:VEVENT
DTSTART;TZID=Europe/Vilnius:20221124T090000
DTEND;TZID=Europe/Vilnius:20221124T120000
DTSTAMP:20260423T012541
CREATED:20221107T063042Z
LAST-MODIFIED:20221107T063042Z
UID:19073-1669280400-1669291200@www.lieporiai.lt
SUMMARY:Galimybių festivalis. TAVO PIN kodas 2022
DESCRIPTION:
URL:https://www.lieporiai.lt/renginys/galimybiu-festivalis-tavo-pin-kodas-2022/
END:VEVENT
BEGIN:VEVENT
DTSTART;TZID=Europe/Vilnius:20221123T140000
DTEND;TZID=Europe/Vilnius:20221123T160000
DTSTAMP:20260423T012541
CREATED:20221107T073700Z
LAST-MODIFIED:20221107T073700Z
UID:19077-1669212000-1669219200@www.lieporiai.lt
SUMMARY:Mokinių susitikimas su UAB \,\,Baltik vairas" atstovais karjeros klausimais.
DESCRIPTION:Vieta: UAB \,\,Baltik vairas”. \nAtsakinga: Ugdymo karjerai specialistė L. Žukauskienė
URL:https://www.lieporiai.lt/renginys/mokiniu-susitikimas-su-uab-baltik-vairas-atstovais-karjeros-klausimais/
END:VEVENT
BEGIN:VEVENT
DTSTART;TZID=Europe/Vilnius:20221123T105500
DTEND;TZID=Europe/Vilnius:20221123T113000
DTSTAMP:20260423T012541
CREATED:20221107T072346Z
LAST-MODIFIED:20221107T072346Z
UID:19075-1669200900-1669203000@www.lieporiai.lt
SUMMARY:Susitikimas su UAB  „Busturas “ atstovais.
DESCRIPTION:Dalyviai: Tikslinė grupė. \nVieta: aktų salė.
URL:https://www.lieporiai.lt/renginys/susitikimas-su-uab-busturas-atstovais/
END:VEVENT
BEGIN:VEVENT
DTSTART;TZID=Europe/Vilnius:20221123T105500
DTEND;TZID=Europe/Vilnius:20221123T113000
DTSTAMP:20260423T012541
CREATED:20221103T073708Z
LAST-MODIFIED:20221103T073745Z
UID:19037-1669200900-1669203000@www.lieporiai.lt
SUMMARY:IA\, IC\, ID\, IE prevencinės klasių valandėlės su PK bendruomenės pareigūnais.
DESCRIPTION:
URL:https://www.lieporiai.lt/renginys/ia-ic-id-ie-prevencine-klases-valandele-su-pk-bendruomenes-pareigunais/
END:VEVENT
BEGIN:VEVENT
DTSTART;TZID=Europe/Vilnius:20221123T104000
DTEND;TZID=Europe/Vilnius:20221123T112000
DTSTAMP:20260423T012541
CREATED:20221103T071130Z
LAST-MODIFIED:20221108T070554Z
UID:19023-1669200000-1669202400@www.lieporiai.lt
SUMMARY:I gimnazinių klasių protmūšis kariuomenės dienai paminėti.
DESCRIPTION:Dalyviai: I gimn. klasių atsovai. \nVieta: 228 kab. \n 
URL:https://www.lieporiai.lt/renginys/kariuomenes-dienos-paminejimas-2/
END:VEVENT
BEGIN:VEVENT
DTSTART;TZID=Europe/Vilnius:20221121T080000
DTEND;TZID=Europe/Vilnius:20221121T150000
DTSTAMP:20260423T012541
CREATED:20221107T062617Z
LAST-MODIFIED:20221107T062617Z
UID:19069-1669017600-1669042800@www.lieporiai.lt
SUMMARY:Kraujo donorystės akcija.
DESCRIPTION:Vieta: 225A kab. \nAtsakinga: Skyriaus vedėja K. Ališauskaitė
URL:https://www.lieporiai.lt/renginys/kraujo-donorystes-akcija-2/
END:VEVENT
BEGIN:VEVENT
DTSTART;TZID=Europe/Vilnius:20221118T090000
DTEND;TZID=Europe/Vilnius:20221118T140000
DTSTAMP:20260423T012541
CREATED:20221107T062907Z
LAST-MODIFIED:20221107T062907Z
UID:19071-1668762000-1668780000@www.lieporiai.lt
SUMMARY:TAVO PIN KODO hakatonas.
DESCRIPTION:Dalyviai: mokinių tarybos atstovai. \nVieta: Šiaulių valstybinė kolegija.
URL:https://www.lieporiai.lt/renginys/tavo-pin-kodo-hakatonas/
END:VEVENT
BEGIN:VEVENT
DTSTART;TZID=Europe/Vilnius:20221117T080000
DTEND;TZID=Europe/Vilnius:20221117T150000
DTSTAMP:20260423T012541
CREATED:20221110T083005Z
LAST-MODIFIED:20221110T083005Z
UID:19108-1668672000-1668697200@www.lieporiai.lt
SUMMARY:Prevencinė akcija "Tarptautinė nerūkymo diena"
DESCRIPTION:Atsakingos: biologijos mokytojos Edita Leparskienė ir Rolanda Kaluginienė\, visuomenės sveikatos specialistė Edita Banevičienė ir socialinė pedagogė Irma Šablinskienė. \n 
URL:https://www.lieporiai.lt/renginys/prevencine-akcija-tarptautine-nerukymo-diena/
END:VEVENT
BEGIN:VEVENT
DTSTART;TZID=Europe/Vilnius:20221116T113500
DTEND;TZID=Europe/Vilnius:20221116T122000
DTSTAMP:20260423T012541
CREATED:20221103T121818Z
LAST-MODIFIED:20221103T121818Z
UID:19062-1668598500-1668601200@www.lieporiai.lt
SUMMARY:Susitikimas su jaunimo reikalų tarybos nariais J. Švėgžda ir M. Valantinu.
DESCRIPTION:Vieta: 365 kab.
URL:https://www.lieporiai.lt/renginys/susitikimas-su-jaunimo-reikalu-tarybos-nariais-j-svegzda-ir-m-valantinu/
END:VEVENT
BEGIN:VEVENT
DTSTART;TZID=Europe/Vilnius:20221116T105500
DTEND;TZID=Europe/Vilnius:20221116T113000
DTSTAMP:20260423T012541
CREATED:20221103T073522Z
LAST-MODIFIED:20221103T073819Z
UID:19034-1668596100-1668598200@www.lieporiai.lt
SUMMARY:IIIC\, IIID\, IIIE prevencinės klasių valandėlės su PK bendruomenės pareigūnais.
DESCRIPTION:
URL:https://www.lieporiai.lt/renginys/iiic-iiid-iiie-prevencine-klases-valandele-su-pk-bendruomenes-pareigunais/
END:VEVENT
BEGIN:VEVENT
DTSTART;TZID=Europe/Vilnius:20221116T080000
DTEND;TZID=Europe/Vilnius:20221116T150000
DTSTAMP:20260423T012541
CREATED:20221103T070615Z
LAST-MODIFIED:20221103T070719Z
UID:19020-1668585600-1668610800@www.lieporiai.lt
SUMMARY:Tarptautinės tolerancijos dienos minėjimas.
DESCRIPTION:
URL:https://www.lieporiai.lt/renginys/tarptautines-tolerancijos-dienos-minejimas/
END:VEVENT
BEGIN:VEVENT
DTSTART;TZID=Europe/Vilnius:20221115T100000
DTEND;TZID=Europe/Vilnius:20221115T103000
DTSTAMP:20260423T012541
CREATED:20221114T064523Z
LAST-MODIFIED:20221114T064523Z
UID:19114-1668506400-1668508200@www.lieporiai.lt
SUMMARY:Gegužių progimnazijos aštuntokų kūrybinių dailės darbų paroda.
DESCRIPTION:
URL:https://www.lieporiai.lt/renginys/geguziu-progimnazijos-astuntoku-kurybiniu-dailes-darbu-paroda/
END:VEVENT
BEGIN:VEVENT
DTSTART;TZID=Europe/Vilnius:20221110T110000
DTEND;TZID=Europe/Vilnius:20221110T114500
DTSTAMP:20260423T012541
CREATED:20221103T081110Z
LAST-MODIFIED:20221103T082144Z
UID:19049-1668078000-1668080700@www.lieporiai.lt
SUMMARY:IIE klasės dalyvavimas karjeros ugdymo užsiėmime „Vidinės motyvacijos skatinimas“.
DESCRIPTION:Užsiėmimą ves Šiaulių jaunimo užimtumo skyriaus specialistės Živilė Žostautienė ir Živilė Budinė.
URL:https://www.lieporiai.lt/renginys/iie-klases-dalyvavimas-karjeros-ugdymo-uzsiemime-vidines-motyvacijos-skatinimas/
END:VEVENT
BEGIN:VEVENT
DTSTART;TZID=Europe/Vilnius:20221110T095000
DTEND;TZID=Europe/Vilnius:20221110T114500
DTSTAMP:20260423T012541
CREATED:20221103T074917Z
LAST-MODIFIED:20221103T075744Z
UID:19041-1668073800-1668080700@www.lieporiai.lt
SUMMARY:IIA klasės dalyvavimas karjeros ugdymo užsiėmime \,\,Dailės terapija".
DESCRIPTION:Užsiėmimą ves Šiaulių jaunimo užimtumo skyriaus specialistės Živilė Žostautienė ir Živilė Budinė.
URL:https://www.lieporiai.lt/renginys/iia-klases-dailes-terapijos-uzsiemimas/
END:VEVENT
BEGIN:VEVENT
DTSTART;TZID=Europe/Vilnius:20221110T095000
DTEND;TZID=Europe/Vilnius:20221110T103500
DTSTAMP:20260423T012541
CREATED:20221103T080719Z
LAST-MODIFIED:20221103T082207Z
UID:19047-1668073800-1668076500@www.lieporiai.lt
SUMMARY:IIC klasės dalyvavimas karjeros ugdymo užsiėmime „Profesinis apsisprendimas“.
DESCRIPTION:Užsiėmimą ves Šiaulių jaunimo užimtumo skyriaus specialistės Živilė Žostautienė ir Živilė Budinė.
URL:https://www.lieporiai.lt/renginys/iic-klases-dalyvavimas-karjeros-ugdymo-uzsiemime-profesinis-apsisprendimas/
END:VEVENT
BEGIN:VEVENT
DTSTART;TZID=Europe/Vilnius:20221109T130000
DTEND;TZID=Europe/Vilnius:20221109T160000
DTSTAMP:20260423T012541
CREATED:20221108T074214Z
LAST-MODIFIED:20221108T074214Z
UID:19089-1667998800-1668009600@www.lieporiai.lt
SUMMARY:Dalyvavimas STEAM+ programoje \,\,Spektrofotometrinio metodo taikymas gamtos tyrimuose"
DESCRIPTION:
URL:https://www.lieporiai.lt/renginys/dalyvavimas-steam-programoje-spektrofotometrinio-metodo-taikymas-gamtos-tyrimuose/
END:VEVENT
BEGIN:VEVENT
DTSTART;TZID=Europe/Vilnius:20221109T105500
DTEND;TZID=Europe/Vilnius:20221109T113000
DTSTAMP:20260423T012541
CREATED:20221103T072042Z
LAST-MODIFIED:20221103T083529Z
UID:19032-1667991300-1667993400@www.lieporiai.lt
SUMMARY:IIIA ir IIIB prevencinės klasių valandėlės su PK bendruomenės pareigūnais.
DESCRIPTION:
URL:https://www.lieporiai.lt/renginys/iiia-ir-iiib-prevencine-klases-valandele-su-pk-bendruomenes-pareigunais/
END:VEVENT
BEGIN:VEVENT
DTSTART;TZID=Europe/Vilnius:20221109T105500
DTEND;TZID=Europe/Vilnius:20221109T111500
DTSTAMP:20260423T012541
CREATED:20221103T082518Z
LAST-MODIFIED:20221103T083621Z
UID:19055-1667991300-1667992500@www.lieporiai.lt
SUMMARY:IIC klasės dalyvavimas karjeros ugdymo užsiėmime \,\,ŠOK į tėvų klumpes".
DESCRIPTION:Susipažins su socialinio darbuotojo profesija.
URL:https://www.lieporiai.lt/renginys/iic-klases-valandele-sok-i-tevu-klumpes/
END:VEVENT
BEGIN:VEVENT
DTSTART;TZID=Europe/Vilnius:20221109T080000
DTEND;TZID=Europe/Vilnius:20221109T110000
DTSTAMP:20260423T012541
CREATED:20221007T084410Z
LAST-MODIFIED:20221027T081408Z
UID:18814-1667980800-1667991600@www.lieporiai.lt
SUMMARY:Matematikos bandomasis egzaminas pagal VBE reikalavimus. (IV kl.)
DESCRIPTION:
URL:https://www.lieporiai.lt/renginys/matematikos-bandomasis-egzaminas-pagal-vbe-reikalavimus/
END:VEVENT
BEGIN:VEVENT
DTSTART;TZID=Europe/Vilnius:20221108T140000
DTEND;TZID=Europe/Vilnius:20221108T144500
DTSTAMP:20260423T012541
CREATED:20221107T075740Z
LAST-MODIFIED:20221107T075740Z
UID:19079-1667916000-1667918700@www.lieporiai.lt
SUMMARY:Integruota IIC klasės istorijos pamoka kartu su socialinės integracijos centru \,\,Išsaugok atminimą".
DESCRIPTION:Vieta: 228 kab. \nAtsakingas: istorijos mokytojas metodininkas M. Šlapelis
URL:https://www.lieporiai.lt/renginys/integruota-iic-klases-istorijos-pamoka-kartu-su-socialines-integracijos-centru-issaugok-atminima/
END:VEVENT
BEGIN:VEVENT
DTSTART;TZID=Europe/Vilnius:20221107T140000
DTEND;TZID=Europe/Vilnius:20221107T160000
DTSTAMP:20260423T012541
CREATED:20221107T083456Z
LAST-MODIFIED:20221107T083456Z
UID:19082-1667829600-1667836800@www.lieporiai.lt
SUMMARY:Administracinis pasitarimas.
DESCRIPTION:Darbotvarkė: \n\nDėl gimnazijos tarybos veiklos.\nDėl atvirų durų dienos organizavimo.\nDėl lapkričio mėnesio numatomų renginių.\n Einamieji klausimai.
URL:https://www.lieporiai.lt/renginys/administracinis-pasitarimas-2/
END:VEVENT
BEGIN:VEVENT
DTSTART;TZID=Europe/Vilnius:20221030T120000
DTEND;TZID=Europe/Vilnius:20221031T150000
DTSTAMP:20260423T012541
CREATED:20221026T101119Z
LAST-MODIFIED:20221026T101136Z
UID:18960-1667131200-1667228400@www.lieporiai.lt
SUMMARY:Liepsnos stovyklos mokymai.
DESCRIPTION:Vieta: Lieporių gimnazija \nAtsakingas: Šuolio koordinatorius Saulius Bušininkas.
URL:https://www.lieporiai.lt/renginys/liepsnos-stovyklos-mokymai/
END:VEVENT
BEGIN:VEVENT
DTSTART;TZID=Europe/Vilnius:20221027T140000
DTEND;TZID=Europe/Vilnius:20221027T144500
DTSTAMP:20260423T012541
CREATED:20221003T072405Z
LAST-MODIFIED:20221003T083920Z
UID:18685-1666879200-1666881900@www.lieporiai.lt
SUMMARY:IB prevencinė klasės valandėlė su PK bendruomenės pareigūnais.
DESCRIPTION:
URL:https://www.lieporiai.lt/renginys/ib-prevencine-klase-valandele-su-pk-bendruomenes-pareigunais/
END:VEVENT
BEGIN:VEVENT
DTSTART;TZID=Europe/Vilnius:20221027T103500
DTEND;TZID=Europe/Vilnius:20221027T110000
DTSTAMP:20260423T012541
CREATED:20221026T052511Z
LAST-MODIFIED:20221026T052511Z
UID:18934-1666866900-1666868400@www.lieporiai.lt
SUMMARY:III gimnazinių klasių metinio projekto nuostatų rengimo grupės susirinkimas.
DESCRIPTION:Vieta: 225 kab. \nAtsakinga: Skyriaus vedėja Reda Šteimantienė
URL:https://www.lieporiai.lt/renginys/iii-gimnaziniu-klasiu-metinio-projekto-nuostatu-rengimo-grupes-susirinkimas/
END:VEVENT
BEGIN:VEVENT
DTSTART;TZID=Europe/Vilnius:20221026T110000
DTEND;TZID=Europe/Vilnius:20221026T140000
DTSTAMP:20260423T012541
CREATED:20221007T084321Z
LAST-MODIFIED:20221007T090506Z
UID:18812-1666782000-1666792800@www.lieporiai.lt
SUMMARY:Istorijos bandomasis egzaminas pagal VBE reikalavimus. (IV kl.)
DESCRIPTION:
URL:https://www.lieporiai.lt/renginys/istorijos-bandomasis-egzaminas-pagal-vbe-reikalavimus-2/
END:VEVENT
END:VCALENDAR