BEGIN:VCALENDAR
VERSION:2.0
PRODID:-//&Scaron;iaulių Lieporių gimnazija - ECPv6.15.18//NONSGML v1.0//EN
CALSCALE:GREGORIAN
METHOD:PUBLISH
X-WR-CALNAME:&Scaron;iaulių Lieporių gimnazija
X-ORIGINAL-URL:https://www.lieporiai.lt
X-WR-CALDESC:&Scaron;iaulių Lieporių gimnazija renginiai
REFRESH-INTERVAL;VALUE=DURATION:PT1H
X-Robots-Tag:noindex
X-PUBLISHED-TTL:PT1H
BEGIN:VTIMEZONE
TZID:Europe/Vilnius
BEGIN:DAYLIGHT
TZOFFSETFROM:+0200
TZOFFSETTO:+0300
TZNAME:EEST
DTSTART:20210328T010000
END:DAYLIGHT
BEGIN:STANDARD
TZOFFSETFROM:+0300
TZOFFSETTO:+0200
TZNAME:EET
DTSTART:20211031T010000
END:STANDARD
BEGIN:DAYLIGHT
TZOFFSETFROM:+0200
TZOFFSETTO:+0300
TZNAME:EEST
DTSTART:20220327T010000
END:DAYLIGHT
BEGIN:STANDARD
TZOFFSETFROM:+0300
TZOFFSETTO:+0200
TZNAME:EET
DTSTART:20221030T010000
END:STANDARD
BEGIN:DAYLIGHT
TZOFFSETFROM:+0200
TZOFFSETTO:+0300
TZNAME:EEST
DTSTART:20230326T010000
END:DAYLIGHT
BEGIN:STANDARD
TZOFFSETFROM:+0300
TZOFFSETTO:+0200
TZNAME:EET
DTSTART:20231029T010000
END:STANDARD
END:VTIMEZONE
BEGIN:VEVENT
DTSTART;TZID=Europe/Vilnius:20221027T103500
DTEND;TZID=Europe/Vilnius:20221027T110000
DTSTAMP:20260423T053343
CREATED:20221026T052511Z
LAST-MODIFIED:20221026T052511Z
UID:18934-1666866900-1666868400@www.lieporiai.lt
SUMMARY:III gimnazinių klasių metinio projekto nuostatų rengimo grupės susirinkimas.
DESCRIPTION:Vieta: 225 kab. \nAtsakinga: Skyriaus vedėja Reda Šteimantienė
URL:https://www.lieporiai.lt/renginys/iii-gimnaziniu-klasiu-metinio-projekto-nuostatu-rengimo-grupes-susirinkimas/
END:VEVENT
BEGIN:VEVENT
DTSTART;TZID=Europe/Vilnius:20221026T110000
DTEND;TZID=Europe/Vilnius:20221026T140000
DTSTAMP:20260423T053343
CREATED:20221007T084321Z
LAST-MODIFIED:20221007T090506Z
UID:18812-1666782000-1666792800@www.lieporiai.lt
SUMMARY:Istorijos bandomasis egzaminas pagal VBE reikalavimus. (IV kl.)
DESCRIPTION:
URL:https://www.lieporiai.lt/renginys/istorijos-bandomasis-egzaminas-pagal-vbe-reikalavimus-2/
END:VEVENT
BEGIN:VEVENT
DTSTART;TZID=Europe/Vilnius:20221026T105500
DTEND;TZID=Europe/Vilnius:20221026T111500
DTSTAMP:20260423T053343
CREATED:20221017T094205Z
LAST-MODIFIED:20221017T094205Z
UID:18854-1666781700-1666782900@www.lieporiai.lt
SUMMARY:Tarpklasinių tinklinio varžybų atidarymas.
DESCRIPTION:Žais mokytojai prieš mokinius. \nVieta: sporto salė
URL:https://www.lieporiai.lt/renginys/tarpklasiniu-tinklinio-varzybu-atidarymas/
END:VEVENT
BEGIN:VEVENT
DTSTART;TZID=Europe/Vilnius:20221025T085500
DTEND;TZID=Europe/Vilnius:20221025T114500
DTSTAMP:20260423T053343
CREATED:20221007T084226Z
LAST-MODIFIED:20221007T090530Z
UID:18810-1666688100-1666698300@www.lieporiai.lt
SUMMARY:Istorijos bandomasis egzaminas pagal VBE reikalavimus. (IV kl.)
DESCRIPTION:
URL:https://www.lieporiai.lt/renginys/istorijos-bandomasis-egzaminas-pagal-vbe-reikalavimus/
END:VEVENT
BEGIN:VEVENT
DTSTART;VALUE=DATE:20221021
DTEND;VALUE=DATE:20221022
DTSTAMP:20260423T053343
CREATED:20221003T070710Z
LAST-MODIFIED:20221003T070710Z
UID:18678-1666310400-1666396799@www.lieporiai.lt
SUMMARY:Klasių fotografavimasis.
DESCRIPTION:Aktų salė.
URL:https://www.lieporiai.lt/renginys/klasiu-fotografavimasis/
END:VEVENT
BEGIN:VEVENT
DTSTART;TZID=Europe/Vilnius:20221020T143000
DTEND;TZID=Europe/Vilnius:20221020T163000
DTSTAMP:20260423T053343
CREATED:20221020T080529Z
LAST-MODIFIED:20221020T080529Z
UID:18923-1666276200-1666283400@www.lieporiai.lt
SUMMARY:Konkursas \,\,Ar pažįsti gimtąjį miestą?" Dalyvauja IC
DESCRIPTION:Vieta: Didždvario gimnazija
URL:https://www.lieporiai.lt/renginys/konkursas-ar-pazisti-gimtaji-miesta-dalyvauja-ic/
END:VEVENT
BEGIN:VEVENT
DTSTART;TZID=Europe/Vilnius:20221020T110000
DTEND;TZID=Europe/Vilnius:20221020T144500
DTSTAMP:20260423T053343
CREATED:20221007T084516Z
LAST-MODIFIED:20221007T090552Z
UID:18816-1666263600-1666277100@www.lieporiai.lt
SUMMARY:Biologijos bandomasis egzaminas pagal VBE reikalavimus. (IV kl.)
DESCRIPTION:
URL:https://www.lieporiai.lt/renginys/biologijos-bandomasis-egzaminas-pagal-vbe-reikalavimus/
END:VEVENT
BEGIN:VEVENT
DTSTART;TZID=Europe/Vilnius:20221019T105500
DTEND;TZID=Europe/Vilnius:20221019T111500
DTSTAMP:20260423T053343
CREATED:20221017T094400Z
LAST-MODIFIED:20221017T094400Z
UID:18857-1666176900-1666178100@www.lieporiai.lt
SUMMARY:Lietuvių kalbos metodikos grupės susitikimas su administracija. Prioritetai 2022/2023m.m.
DESCRIPTION:
URL:https://www.lieporiai.lt/renginys/lietuviu-kalbos-metodikos-grupes-susitikimas-su-administracija-prioritetai-2022-2023m-m/
END:VEVENT
BEGIN:VEVENT
DTSTART;TZID=Europe/Vilnius:20221019T105500
DTEND;TZID=Europe/Vilnius:20221019T111500
DTSTAMP:20260423T053343
CREATED:20221017T093800Z
LAST-MODIFIED:20221017T093800Z
UID:18852-1666176900-1666178100@www.lieporiai.lt
SUMMARY:Renginys "Plėšiko Hocenploco lobis" Skirtas I gimnazinėms klasėms.
DESCRIPTION:
URL:https://www.lieporiai.lt/renginys/renginys-plesiko-hocenploco-lobis-skirtas-i-gimnazinems-klasems/
END:VEVENT
BEGIN:VEVENT
DTSTART;VALUE=DATE:20221019
DTEND;VALUE=DATE:20221020
DTSTAMP:20260423T053343
CREATED:20221003T071255Z
LAST-MODIFIED:20221003T073421Z
UID:18682-1666137600-1666223999@www.lieporiai.lt
SUMMARY:II ir IV prevencinės klasių valandėlės su PK bendruomenės pareigūnais.
DESCRIPTION:
URL:https://www.lieporiai.lt/renginys/iikl-ir-ivkl-prevencines-klases-valandeles-su-pk-bendruomenes-pareigunais/
END:VEVENT
BEGIN:VEVENT
DTSTART;TZID=Europe/Vilnius:20221017T100000
DTEND;TZID=Europe/Vilnius:20221017T110000
DTSTAMP:20260423T053343
CREATED:20221011T080628Z
LAST-MODIFIED:20221011T080628Z
UID:18843-1666000800-1666004400@www.lieporiai.lt
SUMMARY:Administracinis pasitarimas.
DESCRIPTION:Darbotvarkė: \n\nSusitikimas su pagalbos specialistais. Jų tikslai\, uždaviniai\, prioritetai 2022/2023m.m.\nTyrimo \,\,Patyčių prevencija” aptarimas.\nNU būrelių ir renginių pasiūla gimnazijoje.\n Einamieji klausimai.\n\n 
URL:https://www.lieporiai.lt/renginys/administracinis-pasitarimas/
END:VEVENT
BEGIN:VEVENT
DTSTART;VALUE=DATE:20221017
DTEND;VALUE=DATE:20221022
DTSTAMP:20260423T053343
CREATED:20221003T070451Z
LAST-MODIFIED:20221003T070451Z
UID:18676-1665964800-1666396799@www.lieporiai.lt
SUMMARY:NORDPLUS JUNIOR 2022 „EGGCITING“ CREATIVE COLLABORATION USING TECHNOLOGY TO  SOLVE PROBLEMS!” projekto susitikimas Lietuvoje.
DESCRIPTION:
URL:https://www.lieporiai.lt/renginys/nordplus-junior-2022-eggciting-creative-collaboration-using-technology-to-solve-problems-projekto-susitikimas-lietuvoje/
END:VEVENT
BEGIN:VEVENT
DTSTART;TZID=Europe/Vilnius:20221013T173000
DTEND;TZID=Europe/Vilnius:20221013T183000
DTSTAMP:20260423T053343
CREATED:20221003T070243Z
LAST-MODIFIED:20221004T063817Z
UID:18672-1665682200-1665685800@www.lieporiai.lt
SUMMARY:Bendras II-IV klasių tėvų susirinkimas.
DESCRIPTION:IIkl. – 17:00val. aktų salėje\, susitikimas su administracija. Po to susirinkimai su klasių vadovais. \nIII-IVkl. 17:30val. aktų salėje\, susitikimas su administracija. Po to susirinkimai su klasių vadovais.
URL:https://www.lieporiai.lt/renginys/ii-iv-klasiu-susirinkimai/
LOCATION:Lieporių gimnazija\, Grinkevičiaus 22\, Šiauliai\, Lietuva
END:VEVENT
BEGIN:VEVENT
DTSTART;TZID=Europe/Vilnius:20221013T100000
DTEND;TZID=Europe/Vilnius:20221013T180000
DTSTAMP:20260423T053343
CREATED:20221007T084744Z
LAST-MODIFIED:20221007T104146Z
UID:18818-1665655200-1665684000@www.lieporiai.lt
SUMMARY:Seminaras moksleiviams „Kaip atrasti savo stipriąsias puses ir tuo pasinaudoti“
DESCRIPTION:Titas Lukošius IIIB klasė.
URL:https://www.lieporiai.lt/renginys/seminaras-kaip-atrasti-savo-stipriasias-puses-ir-tuo-pasinaudoti/
END:VEVENT
BEGIN:VEVENT
DTSTART;TZID=Europe/Vilnius:20221013T100000
DTEND;TZID=Europe/Vilnius:20221013T140000
DTSTAMP:20260423T053343
CREATED:20221012T051511Z
LAST-MODIFIED:20221012T051511Z
UID:18845-1665655200-1665669600@www.lieporiai.lt
SUMMARY:GET READY AGAIN WITH \,\,CORE PROJECT". Nuotolinis susitikimas su Italijos projektų komanda.
DESCRIPTION:Atsakingos skyriaus vedėjos Reda Šteimantienė ir Kristina Ališauskaitė.
URL:https://www.lieporiai.lt/renginys/get-ready-again-with-core-project-nuotolinis-susitikimas-su-italijos-projektu-komanda/
END:VEVENT
BEGIN:VEVENT
DTSTART;TZID=Europe/Vilnius:20221013T090000
DTEND;TZID=Europe/Vilnius:20221013T130000
DTSTAMP:20260423T053343
CREATED:20221007T084106Z
LAST-MODIFIED:20221007T090621Z
UID:18808-1665651600-1665666000@www.lieporiai.lt
SUMMARY:Lietuvių k. bandomasis egzaminas pagal VBE reikalavimus. (IV kl.)
DESCRIPTION:
URL:https://www.lieporiai.lt/renginys/lietuviu-k-bandomasis-egzaminas-pagal-vbe-reikalavimus/
END:VEVENT
BEGIN:VEVENT
DTSTART;TZID=Europe/Vilnius:20221012T144500
DTEND;TZID=Europe/Vilnius:20221012T154500
DTSTAMP:20260423T053343
CREATED:20221010T055926Z
LAST-MODIFIED:20221017T094421Z
UID:18834-1665585900-1665589500@www.lieporiai.lt
SUMMARY:Socialinių mokslų ir dorinio ugdymo metodikos grupės susitikimas su administracija. Prioritetai 2022/2023m.m.
DESCRIPTION:
URL:https://www.lieporiai.lt/renginys/socialiniu-mokslu-ir-dorinio-ugdymo-metodikos-grupes-susitikimas-su-administracija-prioritetai-2023-2024m-m/
END:VEVENT
BEGIN:VEVENT
DTSTART;TZID=Europe/Vilnius:20221011T114500
DTEND;TZID=Europe/Vilnius:20221011T121000
DTSTAMP:20260423T053343
CREATED:20221010T055618Z
LAST-MODIFIED:20221010T055618Z
UID:18832-1665488700-1665490200@www.lieporiai.lt
SUMMARY:III kl. metinio projekto rengimo darbo grupės susirinkimas.
DESCRIPTION:225A kab.
URL:https://www.lieporiai.lt/renginys/iii-kl-metinio-projekto-rengimo-darbo-grupes-susirinkimas/
END:VEVENT
BEGIN:VEVENT
DTSTART;TZID=Europe/Vilnius:20221010T120000
DTEND;TZID=Europe/Vilnius:20221010T150000
DTSTAMP:20260423T053343
CREATED:20221007T073114Z
LAST-MODIFIED:20221007T073114Z
UID:18806-1665403200-1665414000@www.lieporiai.lt
SUMMARY:Praktinis užsiėmimas STEAM centre.
DESCRIPTION:
URL:https://www.lieporiai.lt/renginys/praktinis-uzsiemimas-steam-centre/
END:VEVENT
BEGIN:VEVENT
DTSTART;TZID=Europe/Vilnius:20221007T144000
DTEND;TZID=Europe/Vilnius:20221007T152500
DTSTAMP:20260423T053343
CREATED:20221003T071044Z
LAST-MODIFIED:20221003T083933Z
UID:18680-1665153600-1665156300@www.lieporiai.lt
SUMMARY:IIC prevencinė klasės valandėlė su PK bendruomenės pareigūnais.
DESCRIPTION:
URL:https://www.lieporiai.lt/renginys/iic-prevencine-klasiu-valandele-su-pk-bendruomenes-pareigunais-teisine-atsakomybe/
END:VEVENT
BEGIN:VEVENT
DTSTART;TZID=Europe/Vilnius:20221007T080000
DTEND;TZID=Europe/Vilnius:20221007T160000
DTSTAMP:20260423T053343
CREATED:20221007T045746Z
LAST-MODIFIED:20221007T045746Z
UID:18804-1665129600-1665158400@www.lieporiai.lt
SUMMARY:Inovacijų ir verslumo stovykla 2022 \,\,Challenge the Challenge"
DESCRIPTION:
URL:https://www.lieporiai.lt/renginys/inovaciju-ir-verslumo-stovykla-2022-challenge-the-challenge/
END:VEVENT
BEGIN:VEVENT
DTSTART;VALUE=DATE:20221005
DTEND;VALUE=DATE:20221006
DTSTAMP:20260423T053343
CREATED:20221003T065934Z
LAST-MODIFIED:20221003T065934Z
UID:18670-1664928000-1665014399@www.lieporiai.lt
SUMMARY:Tarptautinė mokytojų diena.  \,\,Muzikos garsai“
DESCRIPTION:
URL:https://www.lieporiai.lt/renginys/tarptautine-mokytoju-diena-muzikos-garsai/
END:VEVENT
BEGIN:VEVENT
DTSTART;TZID=Europe/Vilnius:20221004T080000
DTEND;TZID=Europe/Vilnius:20221004T140000
DTSTAMP:20260423T053343
CREATED:20221003T065823Z
LAST-MODIFIED:20221003T070404Z
UID:18668-1664870400-1664892000@www.lieporiai.lt
SUMMARY:Abiturientų fotografavimasis vinjetėms.
DESCRIPTION:225Akab.
URL:https://www.lieporiai.lt/renginys/abiturientu-fotografavimasis-vinjetems/
END:VEVENT
BEGIN:VEVENT
DTSTART;VALUE=DATE:20220926
DTEND;VALUE=DATE:20220927
DTSTAMP:20260423T053343
CREATED:20220916T095504Z
LAST-MODIFIED:20220916T095504Z
UID:18585-1664150400-1664236799@www.lieporiai.lt
SUMMARY:Europos kalbų diena
DESCRIPTION:3 ir 4 anglų kl. pamokas ves VU Šiaulių akademijos Erasmus+  studentai \n5 ir 6 pamokos – Klaipėdos LCC universiteto online paskaita
URL:https://www.lieporiai.lt/renginys/europos-kalbu-diena-2/
END:VEVENT
BEGIN:VEVENT
DTSTART;TZID=Europe/Vilnius:20220922T173000
DTEND;TZID=Europe/Vilnius:20220922T183000
DTSTAMP:20260423T053343
CREATED:20220831T101530Z
LAST-MODIFIED:20220831T101530Z
UID:18438-1663867800-1663871400@www.lieporiai.lt
SUMMARY:Bendras I-ų klasių tėvų susirinkimas
DESCRIPTION:Aktų salėje
URL:https://www.lieporiai.lt/renginys/bendras-i-u-klasiu-tevu-susirinkimas/
END:VEVENT
BEGIN:VEVENT
DTSTART;TZID=Europe/Vilnius:20220921T110000
DTEND;TZID=Europe/Vilnius:20220921T120000
DTSTAMP:20260423T053343
CREATED:20220831T101426Z
LAST-MODIFIED:20220831T101426Z
UID:18436-1663758000-1663761600@www.lieporiai.lt
SUMMARY:Būrelių mugė
DESCRIPTION:I-ų klasių mokiniams\, aktų salėje\, klasės valandėlės metu
URL:https://www.lieporiai.lt/renginys/bureliu-muge-5/
END:VEVENT
BEGIN:VEVENT
DTSTART;TZID=Europe/Vilnius:20220909T180000
DTEND;TZID=Europe/Vilnius:20220909T200000
DTSTAMP:20260423T053343
CREATED:20220829T092740Z
LAST-MODIFIED:20220829T092924Z
UID:18423-1662746400-1662753600@www.lieporiai.lt
SUMMARY:Šiaulių dienos 786". Dalyvavimas eisenoje.
DESCRIPTION:
URL:https://www.lieporiai.lt/renginys/siauliu-dienos-786-dalyvavimas-eisenoje/
END:VEVENT
BEGIN:VEVENT
DTSTART;VALUE=DATE:20220909
DTEND;VALUE=DATE:20220910
DTSTAMP:20260423T053343
CREATED:20220906T072815Z
LAST-MODIFIED:20220906T072815Z
UID:18486-1662681600-1662767999@www.lieporiai.lt
SUMMARY:Akcija \,\,Gyvenimo spalvos"
DESCRIPTION:Skirta Pasaulinei savižudybių prevencijos dienai paminėti
URL:https://www.lieporiai.lt/renginys/akcija-gyvenimo-spalvos/
END:VEVENT
BEGIN:VEVENT
DTSTART;TZID=Europe/Vilnius:20220908T103000
DTEND;TZID=Europe/Vilnius:20220908T143000
DTSTAMP:20260423T053343
CREATED:20220829T102615Z
LAST-MODIFIED:20220829T102615Z
UID:18433-1662633000-1662647400@www.lieporiai.lt
SUMMARY:Turizmo diena Salduvės parke
DESCRIPTION:I-okų turizmo diena Salduvės parke.
URL:https://www.lieporiai.lt/renginys/turizmo-diena-salduves-parke/
END:VEVENT
BEGIN:VEVENT
DTSTART;TZID=Europe/Vilnius:20220908T090000
DTEND;TZID=Europe/Vilnius:20220908T100000
DTSTAMP:20260423T053343
CREATED:20220829T092448Z
LAST-MODIFIED:20220829T092448Z
UID:18421-1662627600-1662631200@www.lieporiai.lt
SUMMARY:I-ų klasių krišktynos
DESCRIPTION:I-II klasės
URL:https://www.lieporiai.lt/renginys/i-u-klasiu-krisktynos/
END:VEVENT
END:VCALENDAR