BEGIN:VCALENDAR
VERSION:2.0
PRODID:-//&Scaron;iaulių Lieporių gimnazija - ECPv6.15.18//NONSGML v1.0//EN
CALSCALE:GREGORIAN
METHOD:PUBLISH
X-WR-CALNAME:&Scaron;iaulių Lieporių gimnazija
X-ORIGINAL-URL:https://www.lieporiai.lt
X-WR-CALDESC:&Scaron;iaulių Lieporių gimnazija renginiai
REFRESH-INTERVAL;VALUE=DURATION:PT1H
X-Robots-Tag:noindex
X-PUBLISHED-TTL:PT1H
BEGIN:VTIMEZONE
TZID:Europe/Vilnius
BEGIN:DAYLIGHT
TZOFFSETFROM:+0200
TZOFFSETTO:+0300
TZNAME:EEST
DTSTART:20220327T010000
END:DAYLIGHT
BEGIN:STANDARD
TZOFFSETFROM:+0300
TZOFFSETTO:+0200
TZNAME:EET
DTSTART:20221030T010000
END:STANDARD
BEGIN:DAYLIGHT
TZOFFSETFROM:+0200
TZOFFSETTO:+0300
TZNAME:EEST
DTSTART:20230326T010000
END:DAYLIGHT
BEGIN:STANDARD
TZOFFSETFROM:+0300
TZOFFSETTO:+0200
TZNAME:EET
DTSTART:20231029T010000
END:STANDARD
BEGIN:DAYLIGHT
TZOFFSETFROM:+0200
TZOFFSETTO:+0300
TZNAME:EEST
DTSTART:20240331T010000
END:DAYLIGHT
BEGIN:STANDARD
TZOFFSETFROM:+0300
TZOFFSETTO:+0200
TZNAME:EET
DTSTART:20241027T010000
END:STANDARD
BEGIN:DAYLIGHT
TZOFFSETFROM:+0200
TZOFFSETTO:+0300
TZNAME:EEST
DTSTART:20250330T010000
END:DAYLIGHT
BEGIN:STANDARD
TZOFFSETFROM:+0300
TZOFFSETTO:+0200
TZNAME:EET
DTSTART:20251026T010000
END:STANDARD
END:VTIMEZONE
BEGIN:VEVENT
DTSTART;TZID=Europe/Vilnius:20240325T140000
DTEND;TZID=Europe/Vilnius:20240325T150000
DTSTAMP:20260423T014215
CREATED:20240325T113441Z
LAST-MODIFIED:20240325T113441Z
UID:23444-1711375200-1711378800@www.lieporiai.lt
SUMMARY:Šiaulių technologijų mokymo centro studijų programų pristatymas.
DESCRIPTION:
URL:https://www.lieporiai.lt/renginys/siauliu-technologiju-mokymo-centro-studiju-programu-pristatymas/
END:VEVENT
BEGIN:VEVENT
DTSTART;TZID=Europe/Vilnius:20240321T143000
DTEND;TZID=Europe/Vilnius:20240321T163000
DTSTAMP:20260423T014215
CREATED:20240319T124414Z
LAST-MODIFIED:20240319T124414Z
UID:23357-1711031400-1711038600@www.lieporiai.lt
SUMMARY:Mokytojų tarybos posėdis.
DESCRIPTION:
URL:https://www.lieporiai.lt/renginys/mokytoju-tarybos-posedis-23/
END:VEVENT
BEGIN:VEVENT
DTSTART;VALUE=DATE:20240318
DTEND;VALUE=DATE:20240323
DTSTAMP:20260423T014215
CREATED:20240301T101155Z
LAST-MODIFIED:20240301T101155Z
UID:23105-1710720000-1711151999@www.lieporiai.lt
SUMMARY:Pozityvumo savaitė.
DESCRIPTION:Smurto ir patyčių prevencijos programa.
URL:https://www.lieporiai.lt/renginys/pozityvumo-savaite-2/
END:VEVENT
BEGIN:VEVENT
DTSTART;VALUE=DATE:20240314
DTEND;VALUE=DATE:20240315
DTSTAMP:20260423T014215
CREATED:20240301T101652Z
LAST-MODIFIED:20240301T101652Z
UID:23115-1710374400-1710460799@www.lieporiai.lt
SUMMARY:Skaičiaus PI diena
DESCRIPTION:
URL:https://www.lieporiai.lt/renginys/skaiciaus-pi-diena/
END:VEVENT
BEGIN:VEVENT
DTSTART;TZID=Europe/Vilnius:20240313T173000
DTEND;TZID=Europe/Vilnius:20240313T193000
DTSTAMP:20260423T014215
CREATED:20240301T101624Z
LAST-MODIFIED:20240301T101624Z
UID:23113-1710351000-1710358200@www.lieporiai.lt
SUMMARY:Abiturientų šimtadienis \,\,Aplink pasaulį per 47 minutes".
DESCRIPTION:
URL:https://www.lieporiai.lt/renginys/abiturientu-simtadienis-aplink-pasauli-per-47-minutes/
END:VEVENT
BEGIN:VEVENT
DTSTART;TZID=Europe/Vilnius:20240313T123000
DTEND;TZID=Europe/Vilnius:20240313T133000
DTSTAMP:20260423T014215
CREATED:20240301T101526Z
LAST-MODIFIED:20240301T101526Z
UID:23111-1710333000-1710336600@www.lieporiai.lt
SUMMARY:Abiturientų spektaklis \,\,Aplink pasaulį per 47 minutes" Lieporių gimnazistams ir draugams
DESCRIPTION:
URL:https://www.lieporiai.lt/renginys/abiturientu-spektaklis-aplink-pasauli-per-47-minutes-lieporiu-gimnazistams-ir-draugams/
END:VEVENT
BEGIN:VEVENT
DTSTART;TZID=Europe/Vilnius:20240312T110000
DTEND;TZID=Europe/Vilnius:20240312T120000
DTSTAMP:20260423T014215
CREATED:20240301T102812Z
LAST-MODIFIED:20240301T102812Z
UID:23119-1710241200-1710244800@www.lieporiai.lt
SUMMARY:Užsiėmimas \,\,SMILE" būrelio nariams \,\,Sveika mityba".
DESCRIPTION:
URL:https://www.lieporiai.lt/renginys/uzsiemimas-smile-burelio-nariams-sveika-mityba/
END:VEVENT
BEGIN:VEVENT
DTSTART;TZID=Europe/Vilnius:20240311T103000
DTEND;TZID=Europe/Vilnius:20240311T120000
DTSTAMP:20260423T014215
CREATED:20240301T101340Z
LAST-MODIFIED:20240301T101340Z
UID:23109-1710153000-1710158400@www.lieporiai.lt
SUMMARY:Kovo 11-osios trispalvės žygis \,\,Lietuva mūsų širdyse"
DESCRIPTION:Dalyvauja I gimnazinių klasių mokiniai ir klasių vadovai.
URL:https://www.lieporiai.lt/renginys/kovo-11-osios-trispalves-zygis-lietuva-musu-sirdyse/
END:VEVENT
BEGIN:VEVENT
DTSTART;TZID=Europe/Vilnius:20240310T080000
DTEND;TZID=Europe/Vilnius:20240311T170000
DTSTAMP:20260423T014215
CREATED:20240301T102929Z
LAST-MODIFIED:20240301T102929Z
UID:23121-1710057600-1710176400@www.lieporiai.lt
SUMMARY:Šiaulių krašto skautiška olimpiada Lieporių gimnazijoje.
DESCRIPTION:
URL:https://www.lieporiai.lt/renginys/siauliu-krasto-skautiska-olimpiada-lieporiu-gimnazijoje/
END:VEVENT
BEGIN:VEVENT
DTSTART;TZID=Europe/Vilnius:20240228T120000
DTEND;TZID=Europe/Vilnius:20240228T130000
DTSTAMP:20260423T014215
CREATED:20240130T081113Z
LAST-MODIFIED:20240130T081113Z
UID:22918-1709121600-1709125200@www.lieporiai.lt
SUMMARY:Šiaulių regiono moksleivių raštingumo konkursas VIII-XII kl.
DESCRIPTION:
URL:https://www.lieporiai.lt/renginys/siauliu-regiono-moksleiviu-rastingumo-konkursas-viii-xii-kl/
END:VEVENT
BEGIN:VEVENT
DTSTART;TZID=Europe/Vilnius:20240215T080000
DTEND;TZID=Europe/Vilnius:20240215T083000
DTSTAMP:20260423T014215
CREATED:20240130T081022Z
LAST-MODIFIED:20240130T081022Z
UID:22916-1707984000-1707985800@www.lieporiai.lt
SUMMARY:Vasario 16 d. minėjimas gimnazijoje.
DESCRIPTION:
URL:https://www.lieporiai.lt/renginys/vasario-16-d-minejimas-gimnazijoje/
END:VEVENT
BEGIN:VEVENT
DTSTART;TZID=Europe/Vilnius:20240213T115000
DTEND;TZID=Europe/Vilnius:20240213T121500
DTSTAMP:20260423T014215
CREATED:20240213T074942Z
LAST-MODIFIED:20240213T074942Z
UID:23011-1707825000-1707826500@www.lieporiai.lt
SUMMARY:Užgavėnių šventė.
DESCRIPTION:Po 4 pamokų I aukšto foje.
URL:https://www.lieporiai.lt/renginys/uzgaveniu-svente/
END:VEVENT
BEGIN:VEVENT
DTSTART;TZID=Europe/Vilnius:20240212T180000
DTEND;TZID=Europe/Vilnius:20240212T190000
DTSTAMP:20260423T014215
CREATED:20240130T080944Z
LAST-MODIFIED:20240201T075828Z
UID:22914-1707760800-1707764400@www.lieporiai.lt
SUMMARY:\,\,Baisiai graži Morė" išlydėtuvių procesija.
DESCRIPTION:Dalyvauja II klasių mokiniai ir klasių vadovai.
URL:https://www.lieporiai.lt/renginys/baisiai-grazi-more-islydetuviu-procesija/
END:VEVENT
BEGIN:VEVENT
DTSTART;TZID=Europe/Vilnius:20240209T180000
DTEND;TZID=Europe/Vilnius:20240210T140000
DTSTAMP:20260423T014215
CREATED:20240206T075858Z
LAST-MODIFIED:20240206T075858Z
UID:22947-1707501600-1707573600@www.lieporiai.lt
SUMMARY:Stovykla \,\,Skautnaktis".
DESCRIPTION:Dalyviai – skautai.
URL:https://www.lieporiai.lt/renginys/stovykla-skautnaktis/
END:VEVENT
BEGIN:VEVENT
DTSTART;TZID=Europe/Vilnius:20240208T170000
DTEND;TZID=Europe/Vilnius:20240208T193000
DTSTAMP:20260423T014215
CREATED:20240130T080803Z
LAST-MODIFIED:20240130T080803Z
UID:22912-1707411600-1707420600@www.lieporiai.lt
SUMMARY:Tėvų\, globėjų susirinkimai.
DESCRIPTION:I-II kl. 17.00 val. susirinkimas aktų salėje su administracija. 17.45 val. susirinkimai su klasių vadovais. \nIII-IV kl. 17.45 val. susirinkimas aktų salėje su administracija. 18.30 val. susirinkimai su klasių vadovais.
URL:https://www.lieporiai.lt/renginys/tevu-globeju-susirinkimai/
END:VEVENT
BEGIN:VEVENT
DTSTART;TZID=Europe/Vilnius:20240207T143000
DTEND;TZID=Europe/Vilnius:20240207T153000
DTSTAMP:20260423T014215
CREATED:20240124T132408Z
LAST-MODIFIED:20240124T132408Z
UID:22829-1707316200-1707319800@www.lieporiai.lt
SUMMARY:Užsienio kalbų popietė \,\,Mokykis\, žaisk\, daryk užsienio kalba".
DESCRIPTION:
URL:https://www.lieporiai.lt/renginys/uzsienio-kalbu-popiete-mokykis-zaisk-daryk-uzsienio-kalba/
END:VEVENT
BEGIN:VEVENT
DTSTART;TZID=Europe/Vilnius:20240206T180000
DTEND;TZID=Europe/Vilnius:20240206T190000
DTSTAMP:20260423T014215
CREATED:20240124T132233Z
LAST-MODIFIED:20240124T132233Z
UID:22826-1707242400-1707246000@www.lieporiai.lt
SUMMARY:Būsimų gimnazistų tėvelių susirinkimas.
DESCRIPTION:Vieta: aktų salė.
URL:https://www.lieporiai.lt/renginys/busimu-gimnazistu-teveliu-susirinkimas/
END:VEVENT
BEGIN:VEVENT
DTSTART;TZID=Europe/Vilnius:20240126T170000
DTEND;TZID=Europe/Vilnius:20240126T190000
DTSTAMP:20260423T014215
CREATED:20240111T081849Z
LAST-MODIFIED:20240130T115232Z
UID:22746-1706288400-1706295600@www.lieporiai.lt
SUMMARY:Buvusių abiturientų susitikimas \,\,Svajonės pildosi"
DESCRIPTION:17.00 val. draugiškos varžybos sporto salėje. \n18.00 val. koncertas aktų salėje. \nPo to susitikimai su buvusiais klasių vadovais bei mokytojais.
URL:https://www.lieporiai.lt/renginys/buvusiu-abiturientu-susitikimas-svajones-pildosi/
END:VEVENT
BEGIN:VEVENT
DTSTART;TZID=Europe/Vilnius:20240112T080000
DTEND;TZID=Europe/Vilnius:20240112T084500
DTSTAMP:20260423T014215
CREATED:20240111T081306Z
LAST-MODIFIED:20240111T081306Z
UID:22744-1705046400-1705049100@www.lieporiai.lt
SUMMARY:Integruota fizinio ugdymo ir istorijos pamoka \,\,33 taškai Lietuvai"
DESCRIPTION:
URL:https://www.lieporiai.lt/renginys/integruota-fizinio-ugdymo-ir-istorijos-pamoka-33-taskai-lietuvai/
END:VEVENT
BEGIN:VEVENT
DTSTART;TZID=Europe/Vilnius:20240109T115000
DTEND;TZID=Europe/Vilnius:20240109T121500
DTSTAMP:20260423T014215
CREATED:20231208T094454Z
LAST-MODIFIED:20231208T094454Z
UID:22314-1704801000-1704802500@www.lieporiai.lt
SUMMARY:Paskaita II gimnazinių klasių moksleiviams "Neapykantos kalba ir nusikaltimai"
DESCRIPTION:
URL:https://www.lieporiai.lt/renginys/paskaita-ii-gimnaziniu-klasiu-moksleiviams-neapykantos-kalba-ir-nusikaltimai/
END:VEVENT
BEGIN:VEVENT
DTSTART;TZID=Europe/Vilnius:20231221T170000
DTEND;TZID=Europe/Vilnius:20231221T220000
DTSTAMP:20260423T014215
CREATED:20231123T104345Z
LAST-MODIFIED:20231208T093951Z
UID:22135-1703178000-1703196000@www.lieporiai.lt
SUMMARY:Kalėdinis karnavalas
DESCRIPTION:
URL:https://www.lieporiai.lt/renginys/kaledinis-karnavalas-3/
END:VEVENT
BEGIN:VEVENT
DTSTART;TZID=Europe/Vilnius:20231219T130000
DTEND;TZID=Europe/Vilnius:20231219T150000
DTSTAMP:20260423T014215
CREATED:20231123T104157Z
LAST-MODIFIED:20231123T104157Z
UID:22133-1702990800-1702998000@www.lieporiai.lt
SUMMARY:Šv. Mišios už Lieporių bendruomenę Šiaulių Švč. Mergelės Nekaltojo Prasidėjimo bažnyčioje.
DESCRIPTION:
URL:https://www.lieporiai.lt/renginys/sv-misios-uz-lieporiu-bendruomene-siauliu-svc-mergeles-nekaltojo-prasidejimo-baznycioje/
END:VEVENT
BEGIN:VEVENT
DTSTART;TZID=Europe/Vilnius:20231215T111500
DTEND;TZID=Europe/Vilnius:20231215T121500
DTSTAMP:20260423T014215
CREATED:20231208T094224Z
LAST-MODIFIED:20231208T094224Z
UID:22310-1702638900-1702642500@www.lieporiai.lt
SUMMARY:Menininkų suolelio renginys \,\,Žiemos džiaugsmai"
DESCRIPTION:
URL:https://www.lieporiai.lt/renginys/menininku-suolelio-renginys-ziemos-dziaugsmai/
END:VEVENT
BEGIN:VEVENT
DTSTART;TZID=Europe/Vilnius:20231213T115500
DTEND;TZID=Europe/Vilnius:20231213T121500
DTSTAMP:20260423T014215
CREATED:20231208T094107Z
LAST-MODIFIED:20231213T070225Z
UID:22308-1702468500-1702469700@www.lieporiai.lt
SUMMARY:IA kl. mokinės Austėjos Žolpytė parodos atidarymas.
DESCRIPTION:
URL:https://www.lieporiai.lt/renginys/i-a-kl-mokines-parodos-atidarymas/
END:VEVENT
BEGIN:VEVENT
DTSTART;TZID=Europe/Vilnius:20231213T110000
DTEND;TZID=Europe/Vilnius:20231213T120000
DTSTAMP:20260423T014215
CREATED:20231208T094345Z
LAST-MODIFIED:20231208T094345Z
UID:22312-1702465200-1702468800@www.lieporiai.lt
SUMMARY:Paskaita IV gimnazinių klasių moksleiviams "Prekyba žmonėmis"
DESCRIPTION:
URL:https://www.lieporiai.lt/renginys/paskaita-iv-gimnaziniu-klasiu-moksleiviams-prekyba-zmonemis/
END:VEVENT
BEGIN:VEVENT
DTSTART;TZID=Europe/Vilnius:20231207T170000
DTEND;TZID=Europe/Vilnius:20231207T190000
DTSTAMP:20260423T014215
CREATED:20231123T104014Z
LAST-MODIFIED:20231123T104014Z
UID:22131-1701968400-1701975600@www.lieporiai.lt
SUMMARY:Tradicinė mokytojų\, mokinių ir tėvų konferencija
DESCRIPTION:
URL:https://www.lieporiai.lt/renginys/tradicine-mokytoju-mokiniu-ir-tevu-konferencija/
END:VEVENT
BEGIN:VEVENT
DTSTART;TZID=Europe/Vilnius:20231206T090000
DTEND;TZID=Europe/Vilnius:20231206T120000
DTSTAMP:20260423T014215
CREATED:20231123T103919Z
LAST-MODIFIED:20231123T103919Z
UID:22129-1701853200-1701864000@www.lieporiai.lt
SUMMARY:Kraujo donorystė
DESCRIPTION:Dalyvauja galintys duoti kraujo.
URL:https://www.lieporiai.lt/renginys/kraujo-donoryste/
END:VEVENT
BEGIN:VEVENT
DTSTART;TZID=Europe/Vilnius:20231204T080000
DTEND;TZID=Europe/Vilnius:20231204T083000
DTSTAMP:20260423T014215
CREATED:20231123T103148Z
LAST-MODIFIED:20231123T103148Z
UID:22127-1701676800-1701678600@www.lieporiai.lt
SUMMARY:Advento rytmetis
DESCRIPTION:
URL:https://www.lieporiai.lt/renginys/advento-rytmetis/
END:VEVENT
BEGIN:VEVENT
DTSTART;TZID=Europe/Vilnius:20231201T170000
DTEND;TZID=Europe/Vilnius:20231201T190000
DTSTAMP:20260423T014215
CREATED:20231123T102753Z
LAST-MODIFIED:20231123T102753Z
UID:22123-1701450000-1701457200@www.lieporiai.lt
SUMMARY:Advento vainikų pynimas bendruomenei.
DESCRIPTION:
URL:https://www.lieporiai.lt/renginys/advento-vainiku-pynimas-bendruomenei/
END:VEVENT
BEGIN:VEVENT
DTSTART;VALUE=DATE:20231201
DTEND;VALUE=DATE:20231212
DTSTAMP:20260423T014215
CREATED:20231123T102932Z
LAST-MODIFIED:20240130T115427Z
UID:22125-1701388800-1702339199@www.lieporiai.lt
SUMMARY:Akcija \,\,Knygų Kalėdos"
DESCRIPTION:Knygos dovana bibliotekai.\nDalyvauja I-III klasės.
URL:https://www.lieporiai.lt/renginys/akcija-knygu-kaledos/
END:VEVENT
END:VCALENDAR