BEGIN:VCALENDAR
VERSION:2.0
PRODID:-//&Scaron;iaulių Lieporių gimnazija - ECPv6.15.18//NONSGML v1.0//EN
CALSCALE:GREGORIAN
METHOD:PUBLISH
X-WR-CALNAME:&Scaron;iaulių Lieporių gimnazija
X-ORIGINAL-URL:https://www.lieporiai.lt
X-WR-CALDESC:&Scaron;iaulių Lieporių gimnazija renginiai
REFRESH-INTERVAL;VALUE=DURATION:PT1H
X-Robots-Tag:noindex
X-PUBLISHED-TTL:PT1H
BEGIN:VTIMEZONE
TZID:Europe/Vilnius
BEGIN:DAYLIGHT
TZOFFSETFROM:+0200
TZOFFSETTO:+0300
TZNAME:EEST
DTSTART:20210328T010000
END:DAYLIGHT
BEGIN:STANDARD
TZOFFSETFROM:+0300
TZOFFSETTO:+0200
TZNAME:EET
DTSTART:20211031T010000
END:STANDARD
BEGIN:DAYLIGHT
TZOFFSETFROM:+0200
TZOFFSETTO:+0300
TZNAME:EEST
DTSTART:20220327T010000
END:DAYLIGHT
BEGIN:STANDARD
TZOFFSETFROM:+0300
TZOFFSETTO:+0200
TZNAME:EET
DTSTART:20221030T010000
END:STANDARD
BEGIN:DAYLIGHT
TZOFFSETFROM:+0200
TZOFFSETTO:+0300
TZNAME:EEST
DTSTART:20230326T010000
END:DAYLIGHT
BEGIN:STANDARD
TZOFFSETFROM:+0300
TZOFFSETTO:+0200
TZNAME:EET
DTSTART:20231029T010000
END:STANDARD
END:VTIMEZONE
BEGIN:VEVENT
DTSTART;TZID=Europe/Vilnius:20221004T080000
DTEND;TZID=Europe/Vilnius:20221004T140000
DTSTAMP:20260423T112856
CREATED:20221003T065823Z
LAST-MODIFIED:20221003T070404Z
UID:18668-1664870400-1664892000@www.lieporiai.lt
SUMMARY:Abiturientų fotografavimasis vinjetėms.
DESCRIPTION:225Akab.
URL:https://www.lieporiai.lt/renginys/abiturientu-fotografavimasis-vinjetems/
END:VEVENT
BEGIN:VEVENT
DTSTART;VALUE=DATE:20220926
DTEND;VALUE=DATE:20220927
DTSTAMP:20260423T112856
CREATED:20220916T095504Z
LAST-MODIFIED:20220916T095504Z
UID:18585-1664150400-1664236799@www.lieporiai.lt
SUMMARY:Europos kalbų diena
DESCRIPTION:3 ir 4 anglų kl. pamokas ves VU Šiaulių akademijos Erasmus+  studentai \n5 ir 6 pamokos – Klaipėdos LCC universiteto online paskaita
URL:https://www.lieporiai.lt/renginys/europos-kalbu-diena-2/
END:VEVENT
BEGIN:VEVENT
DTSTART;TZID=Europe/Vilnius:20220922T173000
DTEND;TZID=Europe/Vilnius:20220922T183000
DTSTAMP:20260423T112856
CREATED:20220831T101530Z
LAST-MODIFIED:20220831T101530Z
UID:18438-1663867800-1663871400@www.lieporiai.lt
SUMMARY:Bendras I-ų klasių tėvų susirinkimas
DESCRIPTION:Aktų salėje
URL:https://www.lieporiai.lt/renginys/bendras-i-u-klasiu-tevu-susirinkimas/
END:VEVENT
BEGIN:VEVENT
DTSTART;TZID=Europe/Vilnius:20220921T110000
DTEND;TZID=Europe/Vilnius:20220921T120000
DTSTAMP:20260423T112856
CREATED:20220831T101426Z
LAST-MODIFIED:20220831T101426Z
UID:18436-1663758000-1663761600@www.lieporiai.lt
SUMMARY:Būrelių mugė
DESCRIPTION:I-ų klasių mokiniams\, aktų salėje\, klasės valandėlės metu
URL:https://www.lieporiai.lt/renginys/bureliu-muge-5/
END:VEVENT
BEGIN:VEVENT
DTSTART;TZID=Europe/Vilnius:20220909T180000
DTEND;TZID=Europe/Vilnius:20220909T200000
DTSTAMP:20260423T112856
CREATED:20220829T092740Z
LAST-MODIFIED:20220829T092924Z
UID:18423-1662746400-1662753600@www.lieporiai.lt
SUMMARY:Šiaulių dienos 786". Dalyvavimas eisenoje.
DESCRIPTION:
URL:https://www.lieporiai.lt/renginys/siauliu-dienos-786-dalyvavimas-eisenoje/
END:VEVENT
BEGIN:VEVENT
DTSTART;VALUE=DATE:20220909
DTEND;VALUE=DATE:20220910
DTSTAMP:20260423T112856
CREATED:20220906T072815Z
LAST-MODIFIED:20220906T072815Z
UID:18486-1662681600-1662767999@www.lieporiai.lt
SUMMARY:Akcija \,\,Gyvenimo spalvos"
DESCRIPTION:Skirta Pasaulinei savižudybių prevencijos dienai paminėti
URL:https://www.lieporiai.lt/renginys/akcija-gyvenimo-spalvos/
END:VEVENT
BEGIN:VEVENT
DTSTART;TZID=Europe/Vilnius:20220908T103000
DTEND;TZID=Europe/Vilnius:20220908T143000
DTSTAMP:20260423T112856
CREATED:20220829T102615Z
LAST-MODIFIED:20220829T102615Z
UID:18433-1662633000-1662647400@www.lieporiai.lt
SUMMARY:Turizmo diena Salduvės parke
DESCRIPTION:I-okų turizmo diena Salduvės parke.
URL:https://www.lieporiai.lt/renginys/turizmo-diena-salduves-parke/
END:VEVENT
BEGIN:VEVENT
DTSTART;TZID=Europe/Vilnius:20220908T090000
DTEND;TZID=Europe/Vilnius:20220908T100000
DTSTAMP:20260423T112856
CREATED:20220829T092448Z
LAST-MODIFIED:20220829T092448Z
UID:18421-1662627600-1662631200@www.lieporiai.lt
SUMMARY:I-ų klasių krišktynos
DESCRIPTION:I-II klasės
URL:https://www.lieporiai.lt/renginys/i-u-klasiu-krisktynos/
END:VEVENT
BEGIN:VEVENT
DTSTART;TZID=Europe/Vilnius:20220905T080000
DTEND;TZID=Europe/Vilnius:20220930T170000
DTSTAMP:20260423T112856
CREATED:20220906T072609Z
LAST-MODIFIED:20220906T072609Z
UID:18484-1662364800-1664557200@www.lieporiai.lt
SUMMARY:Bendruomenės akcija \,\,Parama gyvūnams"
DESCRIPTION:Akcija vyks visą mėnesį
URL:https://www.lieporiai.lt/renginys/bendruomenes-akcija-parama-gyvunams/
END:VEVENT
BEGIN:VEVENT
DTSTART;TZID=Europe/Vilnius:20220902T080000
DTEND;TZID=Europe/Vilnius:20220902T170000
DTSTAMP:20260423T112856
CREATED:20220829T092321Z
LAST-MODIFIED:20220829T092321Z
UID:18419-1662105600-1662138000@www.lieporiai.lt
SUMMARY:Netradicinio ugdymo diena \,\,Aš - Lieporietis"
DESCRIPTION:
URL:https://www.lieporiai.lt/renginys/netradicinio-ugdymo-diena-as-lieporietis-6/
END:VEVENT
BEGIN:VEVENT
DTSTART;TZID=Europe/Vilnius:20220901T100000
DTEND;TZID=Europe/Vilnius:20220901T113000
DTSTAMP:20260423T112856
CREATED:20220829T092234Z
LAST-MODIFIED:20220829T093832Z
UID:18417-1662026400-1662031800@www.lieporiai.lt
SUMMARY:Rugsėjo 1-osios šventė
DESCRIPTION:Rugsėjo 1 dieną 10.00 val. gimnazijos kieme \n9.45 – mokiniai rikiuojasi gimnazijos stadione \n10.00 – šventė \n10.30 – klasės valandėlės \np.s. uniformos neprivalomos
URL:https://www.lieporiai.lt/renginys/rugsejo-1-osios-svente-2/
END:VEVENT
BEGIN:VEVENT
DTSTART;VALUE=DATE:20220630
DTEND;VALUE=DATE:20220701
DTSTAMP:20260423T112856
CREATED:20220615T104014Z
LAST-MODIFIED:20220615T104014Z
UID:18124-1656547200-1656633599@www.lieporiai.lt
SUMMARY:\,\,DofE" apdovanojimų ceremonija Vilniuje
DESCRIPTION:
URL:https://www.lieporiai.lt/renginys/dofe-apdovanojimu-ceremonija-vilniuje/
END:VEVENT
BEGIN:VEVENT
DTSTART;TZID=Europe/Vilnius:20220629T100000
DTEND;TZID=Europe/Vilnius:20220629T120000
DTSTAMP:20260423T112856
CREATED:20220627T091525Z
LAST-MODIFIED:20220627T091525Z
UID:18327-1656496800-1656504000@www.lieporiai.lt
SUMMARY:Mokytojų tarybos posėdis
DESCRIPTION:Aktų salė
URL:https://www.lieporiai.lt/renginys/mokytoju-tarybos-posedis-17/
END:VEVENT
BEGIN:VEVENT
DTSTART;VALUE=DATE:20220623
DTEND;VALUE=DATE:20220624
DTSTAMP:20260423T112856
CREATED:20220527T070947Z
LAST-MODIFIED:20220527T070947Z
UID:18041-1655942400-1656028799@www.lieporiai.lt
SUMMARY:Mokslo metų užbaigimo šventė. II klasių baigimo pažymėjimų įteikimas.
DESCRIPTION:
URL:https://www.lieporiai.lt/renginys/mokslo-metu-uzbaigimo-svente-ii-klasiu-baigimo-pazymejimu-iteikimas/
END:VEVENT
BEGIN:VEVENT
DTSTART;VALUE=DATE:20220622
DTEND;VALUE=DATE:20220623
DTSTAMP:20260423T112856
CREATED:20220615T065234Z
LAST-MODIFIED:20220615T065234Z
UID:18122-1655856000-1655942399@www.lieporiai.lt
SUMMARY:Sveikatingumo diena
DESCRIPTION:
URL:https://www.lieporiai.lt/renginys/sveikatingumo-diena-2/
END:VEVENT
BEGIN:VEVENT
DTSTART;VALUE=DATE:20220617
DTEND;VALUE=DATE:20220618
DTSTAMP:20260423T112856
CREATED:20220527T070908Z
LAST-MODIFIED:20220527T070908Z
UID:18039-1655424000-1655510399@www.lieporiai.lt
SUMMARY:Asmeninės pažangos įsivertinimas. Aplankų su tėvais aptarimas.
DESCRIPTION:
URL:https://www.lieporiai.lt/renginys/asmenines-pazangos-isivertinimas-aplanku-su-tevais-aptarimas/
END:VEVENT
BEGIN:VEVENT
DTSTART;TZID=Europe/Vilnius:20220614T173000
DTEND;TZID=Europe/Vilnius:20220614T193000
DTSTAMP:20260423T112856
CREATED:20220527T071111Z
LAST-MODIFIED:20220527T071111Z
UID:18043-1655227800-1655235000@www.lieporiai.lt
SUMMARY:Žaliojo kilimo diena \,\,Lieporių garbė"
DESCRIPTION:
URL:https://www.lieporiai.lt/renginys/zaliojo-kilimo-diena-lieporiu-garbe/
END:VEVENT
BEGIN:VEVENT
DTSTART;VALUE=DATE:20220613
DTEND;VALUE=DATE:20220614
DTSTAMP:20260423T112856
CREATED:20220527T070729Z
LAST-MODIFIED:20220527T070729Z
UID:18035-1655078400-1655164799@www.lieporiai.lt
SUMMARY:I-II-III klasių \,\,Lions Quest" įsivertinimo konferencija
DESCRIPTION:
URL:https://www.lieporiai.lt/renginys/i-ii-iii-klasiu-lions-quest-isivertinimo-konferencija/
END:VEVENT
BEGIN:VEVENT
DTSTART;VALUE=DATE:20220613
DTEND;VALUE=DATE:20220614
DTSTAMP:20260423T112856
CREATED:20220527T070650Z
LAST-MODIFIED:20220527T070650Z
UID:18033-1655078400-1655164799@www.lieporiai.lt
SUMMARY:Valstybinis informacinių technologijų egzaminas
DESCRIPTION:
URL:https://www.lieporiai.lt/renginys/valstybinis-informaciniu-technologiju-egzaminas/
END:VEVENT
BEGIN:VEVENT
DTSTART;VALUE=DATE:20220608
DTEND;VALUE=DATE:20220609
DTSTAMP:20260423T112856
CREATED:20220527T070541Z
LAST-MODIFIED:20220527T070541Z
UID:18031-1654646400-1654732799@www.lieporiai.lt
SUMMARY:Civilinės saugos diena. I-II-III klasės
DESCRIPTION:
URL:https://www.lieporiai.lt/renginys/civilines-saugos-diena-i-ii-iii-klases/
END:VEVENT
BEGIN:VEVENT
DTSTART;VALUE=DATE:20220607
DTEND;VALUE=DATE:20220609
DTSTAMP:20260423T112856
CREATED:20220527T070455Z
LAST-MODIFIED:20220527T070455Z
UID:18029-1654560000-1654732799@www.lieporiai.lt
SUMMARY:Metinių projektų gynimas. III klasės
DESCRIPTION:
URL:https://www.lieporiai.lt/renginys/metiniu-projektu-gynimas-iii-klases/
END:VEVENT
BEGIN:VEVENT
DTSTART;VALUE=DATE:20220606
DTEND;VALUE=DATE:20220607
DTSTAMP:20260423T112856
CREATED:20220527T070418Z
LAST-MODIFIED:20220527T070418Z
UID:18027-1654473600-1654559999@www.lieporiai.lt
SUMMARY:Projektinė diena
DESCRIPTION:I-II-III klasių mokomųjų dalykų projektinė diena
URL:https://www.lieporiai.lt/renginys/projektine-diena-2/
END:VEVENT
BEGIN:VEVENT
DTSTART;VALUE=DATE:20220606
DTEND;VALUE=DATE:20220607
DTSTAMP:20260423T112856
CREATED:20220527T070332Z
LAST-MODIFIED:20220527T070332Z
UID:18025-1654473600-1654559999@www.lieporiai.lt
SUMMARY:Valstybinis anglų kalbos egzaminas
DESCRIPTION:
URL:https://www.lieporiai.lt/renginys/valstybinis-anglu-kalbos-egzaminas-2/
END:VEVENT
BEGIN:VEVENT
DTSTART;VALUE=DATE:20220601
DTEND;VALUE=DATE:20220602
DTSTAMP:20260423T112856
CREATED:20220510T070447Z
LAST-MODIFIED:20220527T070258Z
UID:17674-1654041600-1654127999@www.lieporiai.lt
SUMMARY:Teatro diena. Spektaklis. I-II-III klasės
DESCRIPTION:10.00 – I-II klasių mokiniai \n12.00- III klasių mokiniai
URL:https://www.lieporiai.lt/renginys/edukacija-spektaklis-ii-klases/
END:VEVENT
BEGIN:VEVENT
DTSTART;TZID=Europe/Vilnius:20220531T150000
DTEND;TZID=Europe/Vilnius:20220531T160000
DTSTAMP:20260423T112856
CREATED:20220517T060633Z
LAST-MODIFIED:20220517T060633Z
UID:17823-1654009200-1654012800@www.lieporiai.lt
SUMMARY:Krepšinio turnyras \,\,Trys prieš tris"
DESCRIPTION:
URL:https://www.lieporiai.lt/renginys/krepsinio-turnyras-trys-pries-tris/
END:VEVENT
BEGIN:VEVENT
DTSTART;VALUE=DATE:20220531
DTEND;VALUE=DATE:20220601
DTSTAMP:20260423T112856
CREATED:20220527T071733Z
LAST-MODIFIED:20220527T071733Z
UID:18047-1653955200-1654041599@www.lieporiai.lt
SUMMARY:Mokytojų darbo krūvių skirstymas
DESCRIPTION:14.00 – Anglų kalba \n14.25 – Biologija \n14.35 – Fizika \n14.50 – Chemija \n15.00 – Geografija \n15.10 – Istorija
URL:https://www.lieporiai.lt/renginys/mokytoju-darbo-kruviu-skirstymas-2/
END:VEVENT
BEGIN:VEVENT
DTSTART;VALUE=DATE:20220530
DTEND;VALUE=DATE:20220531
DTSTAMP:20260423T112856
CREATED:20220527T071615Z
LAST-MODIFIED:20220527T071615Z
UID:18045-1653868800-1653955199@www.lieporiai.lt
SUMMARY:Mokytojų darbo krūvių skirstymas
DESCRIPTION:14.00 – Lietuvių kalba \n14.25 – Matematika\, ekonomika ir informatika \n14.50 – Menai \n15.15 – Antros užsienio kalbos
URL:https://www.lieporiai.lt/renginys/mokytoju-darbo-kruviu-skirstymas/
END:VEVENT
BEGIN:VEVENT
DTSTART;VALUE=DATE:20220526
DTEND;VALUE=DATE:20220527
DTSTAMP:20260423T112856
CREATED:20220502T161050Z
LAST-MODIFIED:20220502T161050Z
UID:17602-1653523200-1653609599@www.lieporiai.lt
SUMMARY:Paskutinio skambučio šventė
DESCRIPTION:
URL:https://www.lieporiai.lt/renginys/paskutinio-skambucio-svente-4/
END:VEVENT
BEGIN:VEVENT
DTSTART;TZID=Europe/Vilnius:20220525T105000
DTEND;TZID=Europe/Vilnius:20220525T113000
DTSTAMP:20260423T112856
CREATED:20220518T104928Z
LAST-MODIFIED:20220518T104928Z
UID:17827-1653475800-1653478200@www.lieporiai.lt
SUMMARY:Susitikimas su darbo inspekcija. Lektorius S. Joneikis (II-III kl.)
DESCRIPTION:Aktų salė II-III klasės
URL:https://www.lieporiai.lt/renginys/susitikimas-su-darbo-inspekcija-lektorius-s-joneikis-ii-iii-kl/
END:VEVENT
BEGIN:VEVENT
DTSTART;TZID=Europe/Vilnius:20220525T104000
DTEND;TZID=Europe/Vilnius:20220525T113000
DTSTAMP:20260423T112856
CREATED:20220504T121817Z
LAST-MODIFIED:20220504T121917Z
UID:17646-1653475200-1653478200@www.lieporiai.lt
SUMMARY:I-ų klasių protmūšis \,\,Rinkis sveikatą\, o ne tabaką"
DESCRIPTION:Organizuoja Edita Banevičienė ir Irma Šablinskienė
URL:https://www.lieporiai.lt/renginys/i-u-klasiu-protmusis-rinkis-sveikata-o-ne-tabaka/
END:VEVENT
END:VCALENDAR