BEGIN:VCALENDAR
VERSION:2.0
PRODID:-//&Scaron;iaulių Lieporių gimnazija - ECPv6.15.18//NONSGML v1.0//EN
CALSCALE:GREGORIAN
METHOD:PUBLISH
X-WR-CALNAME:&Scaron;iaulių Lieporių gimnazija
X-ORIGINAL-URL:https://www.lieporiai.lt
X-WR-CALDESC:&Scaron;iaulių Lieporių gimnazija renginiai
REFRESH-INTERVAL;VALUE=DURATION:PT1H
X-Robots-Tag:noindex
X-PUBLISHED-TTL:PT1H
BEGIN:VTIMEZONE
TZID:Europe/Vilnius
BEGIN:DAYLIGHT
TZOFFSETFROM:+0200
TZOFFSETTO:+0300
TZNAME:EEST
DTSTART:20220327T010000
END:DAYLIGHT
BEGIN:STANDARD
TZOFFSETFROM:+0300
TZOFFSETTO:+0200
TZNAME:EET
DTSTART:20221030T010000
END:STANDARD
BEGIN:DAYLIGHT
TZOFFSETFROM:+0200
TZOFFSETTO:+0300
TZNAME:EEST
DTSTART:20230326T010000
END:DAYLIGHT
BEGIN:STANDARD
TZOFFSETFROM:+0300
TZOFFSETTO:+0200
TZNAME:EET
DTSTART:20231029T010000
END:STANDARD
BEGIN:DAYLIGHT
TZOFFSETFROM:+0200
TZOFFSETTO:+0300
TZNAME:EEST
DTSTART:20240331T010000
END:DAYLIGHT
BEGIN:STANDARD
TZOFFSETFROM:+0300
TZOFFSETTO:+0200
TZNAME:EET
DTSTART:20241027T010000
END:STANDARD
END:VTIMEZONE
BEGIN:VEVENT
DTSTART;TZID=Europe/Vilnius:20231130T120000
DTEND;TZID=Europe/Vilnius:20231130T140000
DTSTAMP:20260423T064404
CREATED:20231110T084350Z
LAST-MODIFIED:20231110T084350Z
UID:22061-1701345600-1701352800@www.lieporiai.lt
SUMMARY:STEAM diena Gegužių progimnazijos mokiniams.
DESCRIPTION:
URL:https://www.lieporiai.lt/renginys/steam-diena-geguziu-progimnazijos-mokiniams-2/
END:VEVENT
BEGIN:VEVENT
DTSTART;TZID=Europe/Vilnius:20231130T103000
DTEND;TZID=Europe/Vilnius:20231130T110000
DTSTAMP:20260423T064404
CREATED:20231027T093838Z
LAST-MODIFIED:20231027T093838Z
UID:21983-1701340200-1701342000@www.lieporiai.lt
SUMMARY:Protmūšis sveikatos stiprinimui \,\,Geriau žinoti 2023".
DESCRIPTION:Dalyviai II kl. mokiniai.
URL:https://www.lieporiai.lt/renginys/protmusis-sveikatos-stiprinimui-geriau-zinoti-2023/
END:VEVENT
BEGIN:VEVENT
DTSTART;TZID=Europe/Vilnius:20231128T150000
DTEND;TZID=Europe/Vilnius:20231128T190000
DTSTAMP:20260423T064404
CREATED:20231027T093718Z
LAST-MODIFIED:20231027T093718Z
UID:21981-1701183600-1701198000@www.lieporiai.lt
SUMMARY:Atvirų durų diena.
DESCRIPTION:
URL:https://www.lieporiai.lt/renginys/atviru-duru-diena-6/
END:VEVENT
BEGIN:VEVENT
DTSTART;TZID=Europe/Vilnius:20231127T150000
DTEND;TZID=Europe/Vilnius:20231127T163000
DTSTAMP:20260423T064404
CREATED:20231123T102122Z
LAST-MODIFIED:20231123T102122Z
UID:22121-1701097200-1701102600@www.lieporiai.lt
SUMMARY:Mokytojų tarybos posėdis.
DESCRIPTION:
URL:https://www.lieporiai.lt/renginys/mokytoju-tarybos-posedis-22/
END:VEVENT
BEGIN:VEVENT
DTSTART;TZID=Europe/Vilnius:20231124T115000
DTEND;TZID=Europe/Vilnius:20231124T121500
DTSTAMP:20260423T064404
CREATED:20231124T062445Z
LAST-MODIFIED:20231124T062445Z
UID:22138-1700826600-1700828100@www.lieporiai.lt
SUMMARY:Parodos atidarymas
DESCRIPTION:II aukšto foje.
URL:https://www.lieporiai.lt/renginys/parodos-atidarymas/
END:VEVENT
BEGIN:VEVENT
DTSTART;TZID=Europe/Vilnius:20231123T103000
DTEND;TZID=Europe/Vilnius:20231123T110000
DTSTAMP:20260423T064404
CREATED:20231027T093642Z
LAST-MODIFIED:20231027T093642Z
UID:21979-1700735400-1700737200@www.lieporiai.lt
SUMMARY:Kariuomenės dienos minėjimas. Protmūšis I kl. mokiniams
DESCRIPTION:
URL:https://www.lieporiai.lt/renginys/kariuomenes-dienos-minejimas-protmusis-i-kl-mokiniams/
END:VEVENT
BEGIN:VEVENT
DTSTART;TZID=Europe/Vilnius:20231122T120000
DTEND;TZID=Europe/Vilnius:20231122T150000
DTSTAMP:20260423T064404
CREATED:20231027T093943Z
LAST-MODIFIED:20231027T093943Z
UID:21985-1700654400-1700665200@www.lieporiai.lt
SUMMARY:Galimybių festivalis \,\,TAVO PIN KODAS"
DESCRIPTION:
URL:https://www.lieporiai.lt/renginys/galimybiu-festivalis-tavo-pin-kodas/
END:VEVENT
BEGIN:VEVENT
DTSTART;TZID=Europe/Vilnius:20231117T160000
DTEND;TZID=Europe/Vilnius:20231119T150000
DTSTAMP:20260423T064404
CREATED:20231027T093535Z
LAST-MODIFIED:20231027T093535Z
UID:21977-1700236800-1700406000@www.lieporiai.lt
SUMMARY:Šuolio organizuojama Liepsnos stovykla.
DESCRIPTION:
URL:https://www.lieporiai.lt/renginys/suolio-organizuojama-liepsnos-stovykla/
END:VEVENT
BEGIN:VEVENT
DTSTART;TZID=Europe/Vilnius:20231117T080000
DTEND;TZID=Europe/Vilnius:20231117T090000
DTSTAMP:20260423T064404
CREATED:20231109T131540Z
LAST-MODIFIED:20231109T131540Z
UID:22050-1700208000-1700211600@www.lieporiai.lt
SUMMARY:Akcija nerūkymo dienai paminėti.
DESCRIPTION:
URL:https://www.lieporiai.lt/renginys/akcija-nerukymo-dienai-pamineti/
END:VEVENT
BEGIN:VEVENT
DTSTART;TZID=Europe/Vilnius:20231116T115000
DTEND;TZID=Europe/Vilnius:20231116T121500
DTSTAMP:20260423T064404
CREATED:20231109T132001Z
LAST-MODIFIED:20231109T132001Z
UID:22054-1700135400-1700136900@www.lieporiai.lt
SUMMARY:Policijos pareigūno profesijos pristatymas.  II-IV gimnazinių klasių moksleiviams.
DESCRIPTION:225 kab.
URL:https://www.lieporiai.lt/renginys/policijos-pareiguno-profesijos-pristatymas-ii-iv-gimnaziniu-klasiu-moksleiviams/
END:VEVENT
BEGIN:VEVENT
DTSTART;VALUE=DATE:20231116
DTEND;VALUE=DATE:20231117
DTSTAMP:20260423T064404
CREATED:20231027T093158Z
LAST-MODIFIED:20231027T093158Z
UID:21973-1700092800-1700179199@www.lieporiai.lt
SUMMARY:Tarptautinės tolerancijos dienos minėjimas.
DESCRIPTION:
URL:https://www.lieporiai.lt/renginys/tarptautines-tolerancijos-dienos-minejimas-2/
END:VEVENT
BEGIN:VEVENT
DTSTART;TZID=Europe/Vilnius:20231113T115000
DTEND;TZID=Europe/Vilnius:20231113T121500
DTSTAMP:20260423T064404
CREATED:20231109T131802Z
LAST-MODIFIED:20231109T131802Z
UID:22052-1699876200-1699877700@www.lieporiai.lt
SUMMARY:„Viešosios tvarkos pažeidimai. Teisinė atsakomybė“.
DESCRIPTION:Susitikimas su PK bendruomenės pareigūnais I-ų gimnazinių klasių moksleiviams. 
URL:https://www.lieporiai.lt/renginys/viesosios-tvarkos-pazeidimai-teisine-atsakomybe/
END:VEVENT
BEGIN:VEVENT
DTSTART;TZID=Europe/Vilnius:20231113T080000
DTEND;TZID=Europe/Vilnius:20231120T150000
DTSTAMP:20260423T064404
CREATED:20231027T093253Z
LAST-MODIFIED:20231027T093253Z
UID:21975-1699862400-1700492400@www.lieporiai.lt
SUMMARY:Akcija \,\,Tvarkingi vadovėliai".
DESCRIPTION:
URL:https://www.lieporiai.lt/renginys/akcija-tvarkingi-vadoveliai/
END:VEVENT
BEGIN:VEVENT
DTSTART;TZID=Europe/Vilnius:20231107T103000
DTEND;TZID=Europe/Vilnius:20231107T121500
DTSTAMP:20260423T064404
CREATED:20231027T093116Z
LAST-MODIFIED:20231027T093116Z
UID:21971-1699353000-1699359300@www.lieporiai.lt
SUMMARY:Gerumo akcija \,\,Pyragų diena".
DESCRIPTION:
URL:https://www.lieporiai.lt/renginys/gerumo-akcija-pyragu-diena/
END:VEVENT
BEGIN:VEVENT
DTSTART;TZID=Europe/Vilnius:20231026T173000
DTEND;TZID=Europe/Vilnius:20231026T200000
DTSTAMP:20260423T064404
CREATED:20230929T074545Z
LAST-MODIFIED:20231013T054427Z
UID:21774-1698341400-1698350400@www.lieporiai.lt
SUMMARY:Bendras II - IV gimnazinių klasių tėvelių susirinkimas.
DESCRIPTION:II kl. – 17:30 val. aktų salėje. \nIII – IV kl. 18:00 val. aktų salė. \nPo to susirinkimai su klasių vadovais.
URL:https://www.lieporiai.lt/renginys/bendras-ii-iv-gimnaziniu-klasiu-teveliu-susirinkimas/
END:VEVENT
BEGIN:VEVENT
DTSTART;TZID=Europe/Vilnius:20231025T080000
DTEND;TZID=Europe/Vilnius:20231025T084500
DTSTAMP:20260423T064404
CREATED:20231019T094123Z
LAST-MODIFIED:20231019T094123Z
UID:21928-1698220800-1698223500@www.lieporiai.lt
SUMMARY:Visuotinė teisinių žinių iniciatyva – Konstitucijos egzaminas. Konstitucijos dienai paminėti.
DESCRIPTION:
URL:https://www.lieporiai.lt/renginys/visuotine-teisiniu-ziniu-iniciatyva-konstitucijos-egzaminas-konstitucijos-dienai-pamineti/
END:VEVENT
BEGIN:VEVENT
DTSTART;TZID=Europe/Vilnius:20231012T080000
DTEND;TZID=Europe/Vilnius:20231012T150000
DTSTAMP:20260423T064404
CREATED:20230929T073441Z
LAST-MODIFIED:20230929T073556Z
UID:21770-1697097600-1697122800@www.lieporiai.lt
SUMMARY:Klasių fotografavimasis.
DESCRIPTION:
URL:https://www.lieporiai.lt/renginys/klasiu-fotografavimasis-2/
END:VEVENT
BEGIN:VEVENT
DTSTART;TZID=Europe/Vilnius:20231011T080000
DTEND;TZID=Europe/Vilnius:20231013T140000
DTSTAMP:20260423T064404
CREATED:20231009T052414Z
LAST-MODIFIED:20231009T052749Z
UID:21890-1697011200-1697205600@www.lieporiai.lt
SUMMARY:Pilietiškumo ir gynybos įgūdžių kursai.
DESCRIPTION:Dalyvauja IA ir IB klasės.
URL:https://www.lieporiai.lt/renginys/pilietiskumo-ir-gynybos-igudziu-kursai/
END:VEVENT
BEGIN:VEVENT
DTSTART;TZID=Europe/Vilnius:20231010T080000
DTEND;TZID=Europe/Vilnius:20231010T140000
DTSTAMP:20260423T064404
CREATED:20230929T073348Z
LAST-MODIFIED:20230929T092439Z
UID:21768-1696924800-1696946400@www.lieporiai.lt
SUMMARY:Pasaulinės psichikos sveikatos dienos minėjimas.
DESCRIPTION:
URL:https://www.lieporiai.lt/renginys/pasauline-psichikos-sveikatos-dienos-minejimas/
END:VEVENT
BEGIN:VEVENT
DTSTART;VALUE=DATE:20231005
DTEND;VALUE=DATE:20231006
DTSTAMP:20260423T064404
CREATED:20230929T073210Z
LAST-MODIFIED:20230929T073210Z
UID:21766-1696464000-1696550399@www.lieporiai.lt
SUMMARY:Netradicinio ugdymo diena \,\,Meninės raiškos diena".
DESCRIPTION:
URL:https://www.lieporiai.lt/renginys/netradicinio-ugdymo-diena-menines-raiskos-diena/
END:VEVENT
BEGIN:VEVENT
DTSTART;TZID=Europe/Vilnius:20230929T120000
DTEND;TZID=Europe/Vilnius:20230929T130000
DTSTAMP:20260423T064404
CREATED:20230929T074642Z
LAST-MODIFIED:20230929T074642Z
UID:21776-1695988800-1695992400@www.lieporiai.lt
SUMMARY:ISM universiteto paskaita II-kams „ Kaip teisingai pasirinkti 10 klasės mokomuosius dalykus?"
DESCRIPTION:
URL:https://www.lieporiai.lt/renginys/ism-universiteto-paskaita-ii-kams-kaip-teisingai-pasirinkti-10-klases-mokomuosius-dalykus/
END:VEVENT
BEGIN:VEVENT
DTSTART;TZID=Europe/Vilnius:20230926T173000
DTEND;TZID=Europe/Vilnius:20230926T190000
DTSTAMP:20260423T064404
CREATED:20230911T112110Z
LAST-MODIFIED:20230911T112110Z
UID:21690-1695749400-1695754800@www.lieporiai.lt
SUMMARY:I gimnazinių klasių tėvų susirinkimas.
DESCRIPTION:
URL:https://www.lieporiai.lt/renginys/i-gimnaziniu-klasiu-tevu-susirinkimas/
END:VEVENT
BEGIN:VEVENT
DTSTART;TZID=Europe/Vilnius:20230926T080000
DTEND;TZID=Europe/Vilnius:20230926T140000
DTSTAMP:20260423T064404
CREATED:20230919T072109Z
LAST-MODIFIED:20230919T072109Z
UID:21703-1695715200-1695736800@www.lieporiai.lt
SUMMARY:Europos kalbų dienos minėjimas.
DESCRIPTION:
URL:https://www.lieporiai.lt/renginys/europos-kalbu-dienos-minejimas/
END:VEVENT
BEGIN:VEVENT
DTSTART;TZID=Europe/Vilnius:20230920T150000
DTEND;TZID=Europe/Vilnius:20230920T163000
DTSTAMP:20260423T064404
CREATED:20230918T103727Z
LAST-MODIFIED:20230918T103727Z
UID:21701-1695222000-1695227400@www.lieporiai.lt
SUMMARY:Mokytojų tarybos posėdis.
DESCRIPTION:
URL:https://www.lieporiai.lt/renginys/mokytoju-tarybos-posedis-21/
END:VEVENT
BEGIN:VEVENT
DTSTART;TZID=Europe/Vilnius:20230912T103500
DTEND;TZID=Europe/Vilnius:20230912T110500
DTSTAMP:20260423T064404
CREATED:20230911T112003Z
LAST-MODIFIED:20230911T112003Z
UID:21688-1694514900-1694516700@www.lieporiai.lt
SUMMARY:Klasės vadovų susirinkimas.
DESCRIPTION:
URL:https://www.lieporiai.lt/renginys/klases-vadovu-susirinkimas/
END:VEVENT
BEGIN:VEVENT
DTSTART;TZID=Europe/Vilnius:20230908T183000
DTEND;TZID=Europe/Vilnius:20230908T200000
DTSTAMP:20260423T064404
CREATED:20230830T092859Z
LAST-MODIFIED:20230830T092859Z
UID:21488-1694197800-1694203200@www.lieporiai.lt
SUMMARY:Šventinė eisena. Šiaulių dienos 787
DESCRIPTION:I-II klasių mokiniai\, klasių vadovai.
URL:https://www.lieporiai.lt/renginys/sventine-eisena-siauliu-dienos-787/
END:VEVENT
BEGIN:VEVENT
DTSTART;TZID=Europe/Vilnius:20230907T110000
DTEND;TZID=Europe/Vilnius:20230907T140000
DTSTAMP:20260423T064404
CREATED:20230830T065955Z
LAST-MODIFIED:20230906T063250Z
UID:21482-1694084400-1694095200@www.lieporiai.lt
SUMMARY:Gimnazisto diena Salduvėje (I-ų gimnazinių klasių mokiniams).
DESCRIPTION:
URL:https://www.lieporiai.lt/renginys/gimnazisto-diena-salduveje-i-u-gimnaziniu-klasiu-mokiniams/
END:VEVENT
BEGIN:VEVENT
DTSTART;TZID=Europe/Vilnius:20230907T090000
DTEND;TZID=Europe/Vilnius:20230907T093000
DTSTAMP:20260423T064404
CREATED:20230830T065841Z
LAST-MODIFIED:20230830T065841Z
UID:21480-1694077200-1694079000@www.lieporiai.lt
SUMMARY:Krikštynos I-ų klasių mokiniams.
DESCRIPTION:Vieta: Lieporių gimnazijos kiemelis.
URL:https://www.lieporiai.lt/renginys/krikstynos-i-u-klasiu-mokiniams/
END:VEVENT
BEGIN:VEVENT
DTSTART;TZID=Europe/Vilnius:20230904T080000
DTEND;TZID=Europe/Vilnius:20230904T120000
DTSTAMP:20260423T064404
CREATED:20230830T065511Z
LAST-MODIFIED:20230830T065511Z
UID:21478-1693814400-1693828800@www.lieporiai.lt
SUMMARY:Netradicinio ugdymo diena \,\,Aš - LIEPORIETIS"
DESCRIPTION:
URL:https://www.lieporiai.lt/renginys/netradicinio-ugdymo-diena-as-lieporietis-7/
END:VEVENT
BEGIN:VEVENT
DTSTART;TZID=Europe/Vilnius:20230901T100000
DTEND;TZID=Europe/Vilnius:20230901T110000
DTSTAMP:20260423T064404
CREATED:20230830T065351Z
LAST-MODIFIED:20230830T065351Z
UID:21476-1693562400-1693566000@www.lieporiai.lt
SUMMARY:Mokslo ir žinių diena.
DESCRIPTION:9.45 – mokiniai ir auklėtojai renkasi gimnazijos stadione. \n 10.00 – šventė gimnazijos kieme. \n 10.30 – susitikimai klasėse.
URL:https://www.lieporiai.lt/renginys/mokslo-ir-ziniu-diena/
END:VEVENT
END:VCALENDAR