BEGIN:VCALENDAR
VERSION:2.0
PRODID:-//&Scaron;iaulių Lieporių gimnazija - ECPv6.15.18//NONSGML v1.0//EN
CALSCALE:GREGORIAN
METHOD:PUBLISH
X-WR-CALNAME:&Scaron;iaulių Lieporių gimnazija
X-ORIGINAL-URL:https://www.lieporiai.lt
X-WR-CALDESC:&Scaron;iaulių Lieporių gimnazija renginiai
REFRESH-INTERVAL;VALUE=DURATION:PT1H
X-Robots-Tag:noindex
X-PUBLISHED-TTL:PT1H
BEGIN:VTIMEZONE
TZID:Europe/Vilnius
BEGIN:DAYLIGHT
TZOFFSETFROM:+0200
TZOFFSETTO:+0300
TZNAME:EEST
DTSTART:20210328T010000
END:DAYLIGHT
BEGIN:STANDARD
TZOFFSETFROM:+0300
TZOFFSETTO:+0200
TZNAME:EET
DTSTART:20211031T010000
END:STANDARD
BEGIN:DAYLIGHT
TZOFFSETFROM:+0200
TZOFFSETTO:+0300
TZNAME:EEST
DTSTART:20220327T010000
END:DAYLIGHT
BEGIN:STANDARD
TZOFFSETFROM:+0300
TZOFFSETTO:+0200
TZNAME:EET
DTSTART:20221030T010000
END:STANDARD
BEGIN:DAYLIGHT
TZOFFSETFROM:+0200
TZOFFSETTO:+0300
TZNAME:EEST
DTSTART:20230326T010000
END:DAYLIGHT
BEGIN:STANDARD
TZOFFSETFROM:+0300
TZOFFSETTO:+0200
TZNAME:EET
DTSTART:20231029T010000
END:STANDARD
END:VTIMEZONE
BEGIN:VEVENT
DTSTART;TZID=Europe/Vilnius:20220504T110000
DTEND;TZID=Europe/Vilnius:20220504T113000
DTSTAMP:20260423T174908
CREATED:20220502T162402Z
LAST-MODIFIED:20220502T162402Z
UID:17612-1651662000-1651663800@www.lieporiai.lt
SUMMARY:Menininkų suolelis. III-IV klasės
DESCRIPTION:Organizatorius V. Kukulskis
URL:https://www.lieporiai.lt/renginys/menininku-suolelis-iii-iv-klases/
END:VEVENT
BEGIN:VEVENT
DTSTART;VALUE=DATE:20220504
DTEND;VALUE=DATE:20220505
DTSTAMP:20260423T174908
CREATED:20220502T161202Z
LAST-MODIFIED:20220502T161202Z
UID:17606-1651622400-1651708799@www.lieporiai.lt
SUMMARY:Technologijų mokyklinis egzaminas
DESCRIPTION:
URL:https://www.lieporiai.lt/renginys/technologiju-mokyklinis-egzaminas/
END:VEVENT
BEGIN:VEVENT
DTSTART;TZID=Europe/Vilnius:20220503T140000
DTEND;TZID=Europe/Vilnius:20220503T150000
DTSTAMP:20260423T174908
CREATED:20220503T063213Z
LAST-MODIFIED:20220503T063213Z
UID:17614-1651586400-1651590000@www.lieporiai.lt
SUMMARY:\,\,Opa opa į Europą"
DESCRIPTION:
URL:https://www.lieporiai.lt/renginys/opa-opa-i-europa/
END:VEVENT
BEGIN:VEVENT
DTSTART;TZID=Europe/Vilnius:20220502T140000
DTEND;TZID=Europe/Vilnius:20220502T163000
DTSTAMP:20260423T174908
CREATED:20220502T055541Z
LAST-MODIFIED:20220502T055541Z
UID:17598-1651500000-1651509000@www.lieporiai.lt
SUMMARY:Administracinis posėdis
DESCRIPTION:VGK ir klasių vadovų veiklos aptarimas. (S. Urbas\, A. Meškauskienė)\nDėl mokslo metų užbaigimo švenčių ir netradicinių dienų. (S. Malinauskienė)\nTyrimas \,\,Smurto ir patyčių prevencija. Pakartotinis. (A. Šliažienė)\nDėl paskutinio skambučio organizavimo. (A. Meškauskienė)\nDėl festivalio \,\,Skambantys Lieporiai” organizavimo. (A. Meškauskienė)\nDėl antrųjų užsienio kalbų mokytojų metodinės grupės veiklos aptarimo. (K. Ališauskaitė)
URL:https://www.lieporiai.lt/renginys/administracinis-posedis-9/
END:VEVENT
BEGIN:VEVENT
DTSTART;VALUE=DATE:20220502
DTEND;VALUE=DATE:20220517
DTSTAMP:20260423T174908
CREATED:20220429T100337Z
LAST-MODIFIED:20220429T100337Z
UID:17593-1651449600-1652745599@www.lieporiai.lt
SUMMARY:STEAM veikla \,\,Programų sistemų testavimas"
DESCRIPTION:Mokymai vyks Šiaulių valstybinėje kolegijoje. Dalyvauja III klasių mokiniai. Mokytoja J. Navickienė
URL:https://www.lieporiai.lt/renginys/steam-veikla-programu-sistemu-testavimas/
END:VEVENT
BEGIN:VEVENT
DTSTART;TZID=Europe/Vilnius:20220428T180000
DTEND;TZID=Europe/Vilnius:20220428T190000
DTSTAMP:20260423T174908
CREATED:20220429T100044Z
LAST-MODIFIED:20220429T100044Z
UID:17591-1651168800-1651172400@www.lieporiai.lt
SUMMARY:IIIe klasės tėvų susirinkimas
DESCRIPTION:
URL:https://www.lieporiai.lt/renginys/iiie-klases-tevu-susirinkimas/
END:VEVENT
BEGIN:VEVENT
DTSTART;TZID=Europe/Vilnius:20220426T085500
DTEND;TZID=Europe/Vilnius:20220426T094000
DTSTAMP:20260423T174908
CREATED:20220419T082152Z
LAST-MODIFIED:20220419T082152Z
UID:17507-1650963300-1650966000@www.lieporiai.lt
SUMMARY:Paskaita \,\,Konfliktai: svarbi ir efektyvi tarpasmeninio bendravimo dalis" (IId klasė)
DESCRIPTION:Paskaitą veda VŠĮ Šiaulių psichologinių paslaugų centro psichologės
URL:https://www.lieporiai.lt/renginys/paskaita-konfliktai-svarbi-ir-efektyvi-tarpasmeninio-bendravimo-dalis-iid-klase/
END:VEVENT
BEGIN:VEVENT
DTSTART;TZID=Europe/Vilnius:20220426T080000
DTEND;TZID=Europe/Vilnius:20220426T094000
DTSTAMP:20260423T174908
CREATED:20220419T082358Z
LAST-MODIFIED:20220419T082358Z
UID:17509-1650960000-1650966000@www.lieporiai.lt
SUMMARY:Paskaita \,\,Mokinių mokymosi motyvacija. Kas užtikrina efektyvų mokymosi procesą?" (IIb ir IIe klasės)
DESCRIPTION:Paskaitą veda VŠĮ Šiaulių psichologinių paslaugų centro psichologės
URL:https://www.lieporiai.lt/renginys/paskaita-mokiniu-mokymosi-motyvacija-kas-uztikrina-efektyvu-mokymosi-procesa-iib-ir-iie-klases/
END:VEVENT
BEGIN:VEVENT
DTSTART;TZID=Europe/Vilnius:20220422T080000
DTEND;TZID=Europe/Vilnius:20220422T170000
DTSTAMP:20260423T174908
CREATED:20220419T081314Z
LAST-MODIFIED:20220419T081314Z
UID:17505-1650614400-1650646800@www.lieporiai.lt
SUMMARY:Dienynų pildymo patikra
DESCRIPTION:
URL:https://www.lieporiai.lt/renginys/dienynu-pildymo-patikra/
END:VEVENT
BEGIN:VEVENT
DTSTART;TZID=Europe/Vilnius:20220420T080000
DTEND;TZID=Europe/Vilnius:20220421T170000
DTSTAMP:20260423T174908
CREATED:20220419T081231Z
LAST-MODIFIED:20220419T081231Z
UID:17503-1650441600-1650560400@www.lieporiai.lt
SUMMARY:Valstybinis anglų kalbos egzaminas
DESCRIPTION:
URL:https://www.lieporiai.lt/renginys/valstybinis-anglu-kalbos-egzaminas/
END:VEVENT
BEGIN:VEVENT
DTSTART;TZID=Europe/Vilnius:20220420T080000
DTEND;TZID=Europe/Vilnius:20220421T170000
DTSTAMP:20260423T174908
CREATED:20220419T081151Z
LAST-MODIFIED:20220419T081336Z
UID:17501-1650441600-1650560400@www.lieporiai.lt
SUMMARY:Susitikimų su tėvais organizavimas (dalykų mokytojai)
DESCRIPTION:Darbas – nuotoliniu būdu
URL:https://www.lieporiai.lt/renginys/susitikimu-su-tevais-organizavimas-dalyku-mokytojai/
END:VEVENT
BEGIN:VEVENT
DTSTART;TZID=Europe/Vilnius:20220419T100000
DTEND;TZID=Europe/Vilnius:20220419T120000
DTSTAMP:20260423T174908
CREATED:20220419T081040Z
LAST-MODIFIED:20220419T081040Z
UID:17499-1650362400-1650369600@www.lieporiai.lt
SUMMARY:Metodinių grupių susirinkimai dėl pagalbos mokiniams teikimo
DESCRIPTION:
URL:https://www.lieporiai.lt/renginys/metodiniu-grupiu-susirinkimai-del-pagalbos-mokiniams-teikimo/
END:VEVENT
BEGIN:VEVENT
DTSTART;TZID=Europe/Vilnius:20220418T140000
DTEND;TZID=Europe/Vilnius:20220418T163000
DTSTAMP:20260423T174908
CREATED:20220502T055115Z
LAST-MODIFIED:20220502T055115Z
UID:17596-1650290400-1650299400@www.lieporiai.lt
SUMMARY:Administracinis posėdis
DESCRIPTION:Dėl PUPP ir egzaminų organizavimo. (S. Urbas)\nDėl gegužės mėnesio renginių organizavimo. (A. Meškauskienė)\nDėl veiklos kokybės įsivertinimo organizavimo. (A. Šliažienė)
URL:https://www.lieporiai.lt/renginys/administracinis-posedis-8/
END:VEVENT
BEGIN:VEVENT
DTSTART;TZID=Europe/Vilnius:20220413T110000
DTEND;TZID=Europe/Vilnius:20220413T120000
DTSTAMP:20260423T174908
CREATED:20220222T101613Z
LAST-MODIFIED:20220404T093630Z
UID:16718-1649847600-1649851200@www.lieporiai.lt
SUMMARY:Knygnešio ir gimtosios kalbos minėjimo popietė
DESCRIPTION:
URL:https://www.lieporiai.lt/renginys/knygnesio-ir-gimtosios-kalbos-minejimo-popiete/
END:VEVENT
BEGIN:VEVENT
DTSTART;TZID=Europe/Vilnius:20220413T110000
DTEND;TZID=Europe/Vilnius:20220413T113000
DTSTAMP:20260423T174908
CREATED:20220406T105425Z
LAST-MODIFIED:20220406T105425Z
UID:17413-1649847600-1649849400@www.lieporiai.lt
SUMMARY:Susitikimas su policijos atstovais. IV klasių mokiniai
DESCRIPTION:
URL:https://www.lieporiai.lt/renginys/susitikimas-su-policijos-atstovais-iv-klasiu-mokiniai/
END:VEVENT
BEGIN:VEVENT
DTSTART;TZID=Europe/Vilnius:20220406T110000
DTEND;TZID=Europe/Vilnius:20220406T120000
DTSTAMP:20260423T174908
CREATED:20220328T081623Z
LAST-MODIFIED:20220328T081623Z
UID:17274-1649242800-1649246400@www.lieporiai.lt
SUMMARY:Susitikimas su policijos bendruomenės pareigūnais. (Ie klasė)
DESCRIPTION:
URL:https://www.lieporiai.lt/renginys/susitikimas-su-policijos-bendruomenes-pareigunais-ie-klase/
END:VEVENT
BEGIN:VEVENT
DTSTART;TZID=Europe/Vilnius:20220406T110000
DTEND;TZID=Europe/Vilnius:20220406T113000
DTSTAMP:20260423T174908
CREATED:20220405T060037Z
LAST-MODIFIED:20220405T060037Z
UID:17353-1649242800-1649244600@www.lieporiai.lt
SUMMARY:Izabelės Jankevičiūtės ir Adrijos Dembinskytės parodos atidarymas
DESCRIPTION:Parodos atidarymas vyks II aukšto feje
URL:https://www.lieporiai.lt/renginys/izabeles-jankeviciutes-ir-adrijos-dembinskytes-parodos-atidarymas/
END:VEVENT
BEGIN:VEVENT
DTSTART;TZID=Europe/Vilnius:20220406T090000
DTEND;TZID=Europe/Vilnius:20220406T130000
DTSTAMP:20260423T174908
CREATED:20220404T093829Z
LAST-MODIFIED:20220404T093829Z
UID:17349-1649235600-1649250000@www.lieporiai.lt
SUMMARY:STEAM diena \,\,Lazeriai\, eksperimentai\, sprogimai..."
DESCRIPTION:Pagal Kultūros paso programą \nAktų salė: \nI klasės – 8.55-9.55 \nII klasės – 10.00-11.00 \nIII klasės – 11.05-12.05
URL:https://www.lieporiai.lt/renginys/steam-diena-lazeriai-eksperimentai-sprogimai/
END:VEVENT
BEGIN:VEVENT
DTSTART;TZID=Europe/Vilnius:20220330T110000
DTEND;TZID=Europe/Vilnius:20220330T120000
DTSTAMP:20260423T174908
CREATED:20220328T081524Z
LAST-MODIFIED:20220328T081524Z
UID:17272-1648638000-1648641600@www.lieporiai.lt
SUMMARY:Susitikimas su policijos bendruomenės pareigūnais. (IIIa ir IIIe klasės)
DESCRIPTION:
URL:https://www.lieporiai.lt/renginys/susitikimas-su-policijos-bendruomenes-pareigunais-iiia-ir-iiie-klases/
END:VEVENT
BEGIN:VEVENT
DTSTART;TZID=Europe/Vilnius:20220330T110000
DTEND;TZID=Europe/Vilnius:20220330T113000
DTSTAMP:20260423T174908
CREATED:20220328T061557Z
LAST-MODIFIED:20220328T061557Z
UID:17270-1648638000-1648639800@www.lieporiai.lt
SUMMARY:Koncertas prie menininkų suolelio
DESCRIPTION:Dalyvauja II-ų klasių mokiniai
URL:https://www.lieporiai.lt/renginys/koncertas-prie-menininku-suolelio/
END:VEVENT
BEGIN:VEVENT
DTSTART;VALUE=DATE:20220330
DTEND;VALUE=DATE:20220331
DTSTAMP:20260423T174908
CREATED:20220321T065402Z
LAST-MODIFIED:20220321T065402Z
UID:17040-1648598400-1648684799@www.lieporiai.lt
SUMMARY:Litexpo studijų mugė
DESCRIPTION:
URL:https://www.lieporiai.lt/renginys/litexpo-studiju-muge/
END:VEVENT
BEGIN:VEVENT
DTSTART;TZID=Europe/Vilnius:20220328T150000
DTEND;TZID=Europe/Vilnius:20220328T170000
DTSTAMP:20260423T174908
CREATED:20220321T065333Z
LAST-MODIFIED:20220321T065333Z
UID:17038-1648479600-1648486800@www.lieporiai.lt
SUMMARY:Mokytojų tarybos posėdis
DESCRIPTION:Aktų salė
URL:https://www.lieporiai.lt/renginys/mokytoju-tarybos-posedis-16/
END:VEVENT
BEGIN:VEVENT
DTSTART;TZID=Europe/Vilnius:20220324T130000
DTEND;TZID=Europe/Vilnius:20220324T150000
DTSTAMP:20260423T174908
CREATED:20220321T070846Z
LAST-MODIFIED:20220321T075154Z
UID:17042-1648126800-1648134000@www.lieporiai.lt
SUMMARY:Šiaulių mokyklų dainos akcija \,\,Esam kartu"
DESCRIPTION:13.00 val. prie Saulės berniuko
URL:https://www.lieporiai.lt/renginys/siauliu-mokyklu-dainos-akcija-esam-kartu/
END:VEVENT
BEGIN:VEVENT
DTSTART;TZID=Europe/Vilnius:20220322T140000
DTEND;TZID=Europe/Vilnius:20220322T170000
DTSTAMP:20260423T174908
CREATED:20220315T075521Z
LAST-MODIFIED:20220315T075521Z
UID:16988-1647957600-1647968400@www.lieporiai.lt
SUMMARY:Seminaras \,\,Įtraukusis ugdymas" I modulis
DESCRIPTION:Seminaras vyks nuotoliniu būdu
URL:https://www.lieporiai.lt/renginys/seminaras-itraukusis-ugdymas-i-modulis-2/
END:VEVENT
BEGIN:VEVENT
DTSTART;TZID=Europe/Vilnius:20220322T105000
DTEND;TZID=Europe/Vilnius:20220322T120000
DTSTAMP:20260423T174908
CREATED:20220322T100108Z
LAST-MODIFIED:20220322T100108Z
UID:17070-1647946200-1647950400@www.lieporiai.lt
SUMMARY:Susitikimas su karo prievolės specialistais
DESCRIPTION:Aktų salė
URL:https://www.lieporiai.lt/renginys/susitikimas-su-karo-prievoles-specialistais/
END:VEVENT
BEGIN:VEVENT
DTSTART;TZID=Europe/Vilnius:20220321T140000
DTEND;TZID=Europe/Vilnius:20220321T170000
DTSTAMP:20260423T174908
CREATED:20220315T075444Z
LAST-MODIFIED:20220315T075444Z
UID:16986-1647871200-1647882000@www.lieporiai.lt
SUMMARY:Seminaras \,\,Įtraukusis ugdymas" I modulis
DESCRIPTION:Seminaras \,\,Įtraukiojo ugdymo raiška” – seminaras vyks nuotoliniu būdu
URL:https://www.lieporiai.lt/renginys/seminaras-itraukusis-ugdymas-i-modulis/
END:VEVENT
BEGIN:VEVENT
DTSTART;TZID=Europe/Vilnius:20220318T122000
DTEND;TZID=Europe/Vilnius:20220318T130500
DTSTAMP:20260423T174908
CREATED:20220315T074548Z
LAST-MODIFIED:20220315T074548Z
UID:16980-1647606000-1647608700@www.lieporiai.lt
SUMMARY:ISM universiteto pristatymas
DESCRIPTION:Aktų salėje II-III-IV klasių mokiniai
URL:https://www.lieporiai.lt/renginys/ism-universiteto-pristatymas/
END:VEVENT
BEGIN:VEVENT
DTSTART;TZID=Europe/Vilnius:20220318T090000
DTEND;TZID=Europe/Vilnius:20220318T130000
DTSTAMP:20260423T174908
CREATED:20220316T113522Z
LAST-MODIFIED:20220316T113522Z
UID:17025-1647594000-1647608400@www.lieporiai.lt
SUMMARY:Pasaulinė jaunimo lyderystės konferencija
DESCRIPTION:\,\,Geranoriškumas\, vienas kito priėmimas” \nModeratoriai –  Mokinių Taryba
URL:https://www.lieporiai.lt/renginys/pasauline-jaunimo-lyderystes-konferencija/
END:VEVENT
BEGIN:VEVENT
DTSTART;TZID=Europe/Vilnius:20220316T110000
DTEND;TZID=Europe/Vilnius:20220316T113000
DTSTAMP:20260423T174908
CREATED:20220315T073955Z
LAST-MODIFIED:20220315T073955Z
UID:16978-1647428400-1647430200@www.lieporiai.lt
SUMMARY:Armelitos Vinogradovaitės darbų paroda
DESCRIPTION:Parodos atidarymas vyks trečiame aukšte.
URL:https://www.lieporiai.lt/renginys/armelitos-vinogradovaites-darbu-paroda/
END:VEVENT
BEGIN:VEVENT
DTSTART;TZID=Europe/Vilnius:20220316T090000
DTEND;TZID=Europe/Vilnius:20220316T120000
DTSTAMP:20260423T174908
CREATED:20220315T074940Z
LAST-MODIFIED:20220315T074940Z
UID:16984-1647421200-1647432000@www.lieporiai.lt
SUMMARY:Geografijos bandomasis egzaminas
DESCRIPTION:
URL:https://www.lieporiai.lt/renginys/geografijos-bandomasis-egzaminas/
END:VEVENT
END:VCALENDAR