BEGIN:VCALENDAR
VERSION:2.0
PRODID:-//&Scaron;iaulių Lieporių gimnazija - ECPv6.15.18//NONSGML v1.0//EN
CALSCALE:GREGORIAN
METHOD:PUBLISH
X-WR-CALNAME:&Scaron;iaulių Lieporių gimnazija
X-ORIGINAL-URL:https://www.lieporiai.lt
X-WR-CALDESC:&Scaron;iaulių Lieporių gimnazija renginiai
REFRESH-INTERVAL;VALUE=DURATION:PT1H
X-Robots-Tag:noindex
X-PUBLISHED-TTL:PT1H
BEGIN:VTIMEZONE
TZID:Europe/Vilnius
BEGIN:DAYLIGHT
TZOFFSETFROM:+0200
TZOFFSETTO:+0300
TZNAME:EEST
DTSTART:20200329T010000
END:DAYLIGHT
BEGIN:STANDARD
TZOFFSETFROM:+0300
TZOFFSETTO:+0200
TZNAME:EET
DTSTART:20201025T010000
END:STANDARD
BEGIN:DAYLIGHT
TZOFFSETFROM:+0200
TZOFFSETTO:+0300
TZNAME:EEST
DTSTART:20210328T010000
END:DAYLIGHT
BEGIN:STANDARD
TZOFFSETFROM:+0300
TZOFFSETTO:+0200
TZNAME:EET
DTSTART:20211031T010000
END:STANDARD
BEGIN:DAYLIGHT
TZOFFSETFROM:+0200
TZOFFSETTO:+0300
TZNAME:EEST
DTSTART:20220327T010000
END:DAYLIGHT
BEGIN:STANDARD
TZOFFSETFROM:+0300
TZOFFSETTO:+0200
TZNAME:EET
DTSTART:20221030T010000
END:STANDARD
BEGIN:DAYLIGHT
TZOFFSETFROM:+0200
TZOFFSETTO:+0300
TZNAME:EEST
DTSTART:20230326T010000
END:DAYLIGHT
BEGIN:STANDARD
TZOFFSETFROM:+0300
TZOFFSETTO:+0200
TZNAME:EET
DTSTART:20231029T010000
END:STANDARD
END:VTIMEZONE
BEGIN:VEVENT
DTSTART;TZID=Europe/Vilnius:20220218T110000
DTEND;TZID=Europe/Vilnius:20220218T150000
DTSTAMP:20260423T224243
CREATED:20220217T102205Z
LAST-MODIFIED:20220217T102745Z
UID:16696-1645182000-1645196400@www.lieporiai.lt
SUMMARY:Seminaras mokytojams
DESCRIPTION:\,\,Kas keisis organizuojant ugdymą? Svarbiausi atnaujinamo ugdymo turinio aspektai”
URL:https://www.lieporiai.lt/renginys/seminaras-mokytojams-3/
END:VEVENT
BEGIN:VEVENT
DTSTART;TZID=Europe/Vilnius:20220217T100000
DTEND;TZID=Europe/Vilnius:20220217T120000
DTSTAMP:20260423T224243
CREATED:20220217T102230Z
LAST-MODIFIED:20220217T102453Z
UID:16698-1645092000-1645099200@www.lieporiai.lt
SUMMARY:Mokytojų tarybos posėdis
DESCRIPTION:\,\,Tinklo pertvarkos gairės ir UTA principai”
URL:https://www.lieporiai.lt/renginys/mokytoju-tarybos-posedis-15/
END:VEVENT
BEGIN:VEVENT
DTSTART;TZID=Europe/Vilnius:20220217T080000
DTEND;TZID=Europe/Vilnius:20220217T170000
DTSTAMP:20260423T224243
CREATED:20220217T102608Z
LAST-MODIFIED:20220217T102608Z
UID:16702-1645084800-1645117200@www.lieporiai.lt
SUMMARY:Seminaras mokytojams
DESCRIPTION:Darbuotojų gaisrinės saugos mokymas ir atestavimas įmonės viduje.
URL:https://www.lieporiai.lt/renginys/seminaras-mokytojams-4/
END:VEVENT
BEGIN:VEVENT
DTSTART;VALUE=DATE:20220214
DTEND;VALUE=DATE:20220215
DTSTAMP:20260423T224243
CREATED:20220121T105341Z
LAST-MODIFIED:20220121T105341Z
UID:16545-1644796800-1644883199@www.lieporiai.lt
SUMMARY:Akcija \,\,Valentino diena"
DESCRIPTION:
URL:https://www.lieporiai.lt/renginys/akcija-valentino-diena/
END:VEVENT
BEGIN:VEVENT
DTSTART;TZID=Europe/Vilnius:20220211T090000
DTEND;TZID=Europe/Vilnius:20220211T120000
DTSTAMP:20260423T224243
CREATED:20220202T121149Z
LAST-MODIFIED:20220202T121149Z
UID:16589-1644570000-1644580800@www.lieporiai.lt
SUMMARY:\,\,Merginos moksle" - nuotolinės paskaitos
DESCRIPTION:I kl. – 9.00 \,\,Lazarių inžinerija” \nII kl. – 10.00 \,\, Simuliacijų inžinerija” \nIII kl. – 11.00 \,\,Infektologija”
URL:https://www.lieporiai.lt/renginys/merginos-moksle-nuotolines-paskaitos/
END:VEVENT
BEGIN:VEVENT
DTSTART;TZID=Europe/Vilnius:20220210T173000
DTEND;TZID=Europe/Vilnius:20220210T190000
DTSTAMP:20260423T224243
CREATED:20220125T072442Z
LAST-MODIFIED:20220125T072442Z
UID:16572-1644514200-1644519600@www.lieporiai.lt
SUMMARY:Gimnazijos tarybos susirinkimas
DESCRIPTION:
URL:https://www.lieporiai.lt/renginys/gimnazijos-tarybos-susirinkimas-2/
END:VEVENT
BEGIN:VEVENT
DTSTART;TZID=Europe/Vilnius:20220209T110000
DTEND;TZID=Europe/Vilnius:20220209T120000
DTSTAMP:20260423T224243
CREATED:20220202T121534Z
LAST-MODIFIED:20220202T121556Z
UID:16591-1644404400-1644408000@www.lieporiai.lt
SUMMARY:Projekto \,\,Mokyklos eina. Sveikatingumo paskaitos"
DESCRIPTION:
URL:https://www.lieporiai.lt/renginys/projekto-mokyklos-eina-sveikatingumo-paskaitos/
END:VEVENT
BEGIN:VEVENT
DTSTART;TZID=Europe/Vilnius:20220209T110000
DTEND;TZID=Europe/Vilnius:20220209T120000
DTSTAMP:20260423T224243
CREATED:20220128T062635Z
LAST-MODIFIED:20220131T064258Z
UID:16579-1644404400-1644408000@www.lieporiai.lt
SUMMARY:Anglų kalbos oratorių konkursas
DESCRIPTION:
URL:https://www.lieporiai.lt/renginys/anglu-kalbos-oratoriu-konkursas/
END:VEVENT
BEGIN:VEVENT
DTSTART;TZID=Europe/Vilnius:20220209T080000
DTEND;TZID=Europe/Vilnius:20220209T110000
DTSTAMP:20260423T224243
CREATED:20220207T064838Z
LAST-MODIFIED:20220207T064838Z
UID:16615-1644393600-1644404400@www.lieporiai.lt
SUMMARY:Anglų kalbos bandomasis egzaminas
DESCRIPTION:
URL:https://www.lieporiai.lt/renginys/anglu-kalbos-bandomasis-egzaminas-2/
END:VEVENT
BEGIN:VEVENT
DTSTART;TZID=Europe/Vilnius:20220207T150000
DTEND;TZID=Europe/Vilnius:20220207T163000
DTSTAMP:20260423T224243
CREATED:20220125T072315Z
LAST-MODIFIED:20220125T072315Z
UID:16570-1644246000-1644251400@www.lieporiai.lt
SUMMARY:Mokytojų tarybos posėdis
DESCRIPTION:
URL:https://www.lieporiai.lt/renginys/mokytoju-tarybos-posedis-14/
END:VEVENT
BEGIN:VEVENT
DTSTART;TZID=Europe/Vilnius:20220202T110000
DTEND;TZID=Europe/Vilnius:20220202T120000
DTSTAMP:20260423T224243
CREATED:20220202T121836Z
LAST-MODIFIED:20220202T121836Z
UID:16594-1643799600-1643803200@www.lieporiai.lt
SUMMARY:Tarpklasinės tinklinio varžybos IIId-IIIe
DESCRIPTION:
URL:https://www.lieporiai.lt/renginys/tarpklasines-tinklinio-varzybos-iiid-iiie/
END:VEVENT
BEGIN:VEVENT
DTSTART;TZID=Europe/Vilnius:20220202T104500
DTEND;TZID=Europe/Vilnius:20220202T110000
DTSTAMP:20260423T224243
CREATED:20220125T072238Z
LAST-MODIFIED:20220125T072238Z
UID:16568-1643798700-1643799600@www.lieporiai.lt
SUMMARY:Metodinės tarybos susirinkimas
DESCRIPTION:
URL:https://www.lieporiai.lt/renginys/metodines-tarybos-susirinkimas-4/
END:VEVENT
BEGIN:VEVENT
DTSTART;VALUE=DATE:20220131
DTEND;VALUE=DATE:20220205
DTSTAMP:20260423T224243
CREATED:20220124T093154Z
LAST-MODIFIED:20220124T093154Z
UID:16562-1643587200-1644019199@www.lieporiai.lt
SUMMARY:Erasmus+ projektas \,\,The Family We Call Europe Graikijoje
DESCRIPTION:
URL:https://www.lieporiai.lt/renginys/erasmus-projektas-the-family-we-call-europe-graikijoje/
END:VEVENT
BEGIN:VEVENT
DTSTART;TZID=Europe/Vilnius:20220128T150000
DTEND;TZID=Europe/Vilnius:20220128T160000
DTSTAMP:20260423T224243
CREATED:20220124T092951Z
LAST-MODIFIED:20220124T092951Z
UID:16560-1643382000-1643385600@www.lieporiai.lt
SUMMARY:Tarpklasinės tinklinio varžybos IIIb - IIIf
DESCRIPTION:
URL:https://www.lieporiai.lt/renginys/tarpklasines-tinklinio-varzybos-iiib-iiif/
END:VEVENT
BEGIN:VEVENT
DTSTART;TZID=Europe/Vilnius:20220126T110000
DTEND;TZID=Europe/Vilnius:20220126T120000
DTSTAMP:20260423T224243
CREATED:20220124T092630Z
LAST-MODIFIED:20220124T092912Z
UID:16558-1643194800-1643198400@www.lieporiai.lt
SUMMARY:Tarpklasinės tinklinio varžybos IIIa - IIIc
DESCRIPTION:
URL:https://www.lieporiai.lt/renginys/tarpklasines-tinklinio-varzybos-iiia-iiic/
END:VEVENT
BEGIN:VEVENT
DTSTART;TZID=Europe/Vilnius:20220125T150000
DTEND;TZID=Europe/Vilnius:20220125T160000
DTSTAMP:20260423T224243
CREATED:20220124T092548Z
LAST-MODIFIED:20220124T092548Z
UID:16554-1643122800-1643126400@www.lieporiai.lt
SUMMARY:Tarpklasinės tinklinio varžybos IIId - IIIf
DESCRIPTION:
URL:https://www.lieporiai.lt/renginys/tarpklasines-tinklinio-varzybos-iiid-iiif/
END:VEVENT
BEGIN:VEVENT
DTSTART;TZID=Europe/Vilnius:20220124T150000
DTEND;TZID=Europe/Vilnius:20220124T170000
DTSTAMP:20260423T224243
CREATED:20220121T102032Z
LAST-MODIFIED:20220121T102032Z
UID:16540-1643036400-1643043600@www.lieporiai.lt
SUMMARY:Mokytojų tarybos posėdis
DESCRIPTION:
URL:https://www.lieporiai.lt/renginys/mokytoju-tarybos-posedis-13/
END:VEVENT
BEGIN:VEVENT
DTSTART;TZID=Europe/Vilnius:20220124T140000
DTEND;TZID=Europe/Vilnius:20220124T170000
DTSTAMP:20260423T224243
CREATED:20220111T180448Z
LAST-MODIFIED:20220111T180448Z
UID:16475-1643032800-1643043600@www.lieporiai.lt
SUMMARY:Administracijos posėdis
DESCRIPTION:Finansinė ataskaita už 2021 m. (S. Malinauskienė)\nStrateginio plano vykdymo įsivertinimas. (S. Malinauskienė)\nAtvirų ir integruotų pamokų aptarimas. (R. Šteimantienė\, K. Ališauskaitė)\nApklausos „Būsimieji gimnazistai“ aptarimas. (A. Šliažienė) \nLėšų\, skirtų mokymo priemonėms\, panaudojimas. (S. Malinauskienė)
URL:https://www.lieporiai.lt/renginys/administracijos-posedis-9/
END:VEVENT
BEGIN:VEVENT
DTSTART;TZID=Europe/Vilnius:20220119T120000
DTEND;TZID=Europe/Vilnius:20220119T170000
DTSTAMP:20260423T224243
CREATED:20220112T105936Z
LAST-MODIFIED:20220112T105936Z
UID:16480-1642593600-1642611600@www.lieporiai.lt
SUMMARY:Steam diena Gegužių progimnazijos mokiniams
DESCRIPTION:
URL:https://www.lieporiai.lt/renginys/steam-diena-geguziu-progimnazijos-mokiniams/
END:VEVENT
BEGIN:VEVENT
DTSTART;TZID=Europe/Vilnius:20220119T110000
DTEND;TZID=Europe/Vilnius:20220119T113000
DTSTAMP:20260423T224243
CREATED:20220118T075008Z
LAST-MODIFIED:20220118T075008Z
UID:16524-1642590000-1642591800@www.lieporiai.lt
SUMMARY:Metinio projekto reikalavimų pristatymas
DESCRIPTION:Aktų salė. Dalyvauja III klasių mokiniai.
URL:https://www.lieporiai.lt/renginys/metinio-projekto-reikalavimu-pristatymas/
END:VEVENT
BEGIN:VEVENT
DTSTART;TZID=Europe/Vilnius:20220118T104500
DTEND;TZID=Europe/Vilnius:20220118T110500
DTSTAMP:20260423T224243
CREATED:20220118T074854Z
LAST-MODIFIED:20220118T074854Z
UID:16522-1642502700-1642503900@www.lieporiai.lt
SUMMARY:Metodinės tarybos susirinkimas
DESCRIPTION:
URL:https://www.lieporiai.lt/renginys/metodines-tarybos-susirinkimas-3/
END:VEVENT
BEGIN:VEVENT
DTSTART;TZID=Europe/Vilnius:20220118T080000
DTEND;TZID=Europe/Vilnius:20220118T170000
DTSTAMP:20260423T224243
CREATED:20220117T095507Z
LAST-MODIFIED:20220117T095507Z
UID:16516-1642492800-1642525200@www.lieporiai.lt
SUMMARY:Fizikos olimpiada. Mokyklinis etapas.
DESCRIPTION:
URL:https://www.lieporiai.lt/renginys/fizikos-olimpiada-mokyklinis-etapas/
END:VEVENT
BEGIN:VEVENT
DTSTART;TZID=Europe/Vilnius:20220117T140000
DTEND;TZID=Europe/Vilnius:20220117T170000
DTSTAMP:20260423T224243
CREATED:20220111T180221Z
LAST-MODIFIED:20220111T180221Z
UID:16472-1642428000-1642438800@www.lieporiai.lt
SUMMARY:Administracijos posėdis
DESCRIPTION:1. Vaiko gerovės komisijos veiklos aptarimas. (S. Urbas)\n2. Virtualios mokymo aplinkos „Eduka“\npanaudojimas. (S. Urbas)\n3. Dėl bendradarbiavimo plėtros\, sutarčių sudarymo\naptarimo. (R. Šteimantienė) \n4. Dėl įskaitų savaitės organizavimo ir apibendrinimo. (S. Urbas)
URL:https://www.lieporiai.lt/renginys/administracijos-posedis-8/
END:VEVENT
BEGIN:VEVENT
DTSTART;VALUE=DATE:20220117
DTEND;VALUE=DATE:20220121
DTSTAMP:20260423T224243
CREATED:20220111T175758Z
LAST-MODIFIED:20220111T175758Z
UID:16470-1642377600-1642723199@www.lieporiai.lt
SUMMARY:Įskaitų savaitė
DESCRIPTION:Organizuoja VGK nariai
URL:https://www.lieporiai.lt/renginys/iskaitu-savaite/
END:VEVENT
BEGIN:VEVENT
DTSTART;TZID=Europe/Vilnius:20220113T080000
DTEND;TZID=Europe/Vilnius:20220113T090000
DTSTAMP:20260423T224243
CREATED:20220111T174139Z
LAST-MODIFIED:20220111T174139Z
UID:16467-1642060800-1642064400@www.lieporiai.lt
SUMMARY:SAUSIO 13-OSIOS MINĖJIMAS
DESCRIPTION:Renginys vyks gimnazijos kieme. Organizatoriai – istorijos mokytojai.
URL:https://www.lieporiai.lt/renginys/sausio-13-osios-minejimas/
END:VEVENT
BEGIN:VEVENT
DTSTART;TZID=Europe/Vilnius:20220105T120000
DTEND;TZID=Europe/Vilnius:20220105T180000
DTSTAMP:20260423T224243
CREATED:20211222T093654Z
LAST-MODIFIED:20211222T093654Z
UID:16382-1641384000-1641405600@www.lieporiai.lt
SUMMARY:Atvirų durų diena
DESCRIPTION:Skirta individualiems pokalbiams su mokytojais. Nuoroda registracijai \,\,Tamo” dienyne.
URL:https://www.lieporiai.lt/renginys/atviru-duru-diena-4/
END:VEVENT
BEGIN:VEVENT
DTSTART;TZID=Europe/Vilnius:20220104T100000
DTEND;TZID=Europe/Vilnius:20220104T140000
DTSTAMP:20260423T224243
CREATED:20211222T162632Z
LAST-MODIFIED:20211222T162632Z
UID:16395-1641290400-1641304800@www.lieporiai.lt
SUMMARY:Mokytojų tarybos posėdis
DESCRIPTION:Dėl I-III klasių mokinių signalinių rezultatų \nDalyvauja I-III klasėse dėstantys mokytojai
URL:https://www.lieporiai.lt/renginys/mokytoju-tarybos-posedis-12/
END:VEVENT
BEGIN:VEVENT
DTSTART;TZID=Europe/Vilnius:20220103T100000
DTEND;TZID=Europe/Vilnius:20220103T140000
DTSTAMP:20260423T224243
CREATED:20211222T162511Z
LAST-MODIFIED:20211222T162511Z
UID:16393-1641204000-1641218400@www.lieporiai.lt
SUMMARY:Mokytojų tarybos posėdis
DESCRIPTION:Dalyvauja mokytojai dėstantys IV-ose klasėse
URL:https://www.lieporiai.lt/renginys/mokytoju-tarybos-posedis-11/
END:VEVENT
BEGIN:VEVENT
DTSTART;VALUE=DATE:20211230
DTEND;VALUE=DATE:20211231
DTSTAMP:20260423T224243
CREATED:20211222T162325Z
LAST-MODIFIED:20211222T162325Z
UID:16391-1640822400-1640908799@www.lieporiai.lt
SUMMARY:Hibridinio mokymo praktikumas
DESCRIPTION:Lektoriai – M. Macaitis\, Ž. Staškauskienė
URL:https://www.lieporiai.lt/renginys/hibridinio-mokymo-praktikumas/
END:VEVENT
BEGIN:VEVENT
DTSTART;TZID=Europe/Vilnius:20211229T100000
DTEND;TZID=Europe/Vilnius:20211229T140000
DTSTAMP:20260423T224243
CREATED:20211222T163155Z
LAST-MODIFIED:20211222T163155Z
UID:16397-1640772000-1640786400@www.lieporiai.lt
SUMMARY:Hibridinio mokymo taikymas pamokose
DESCRIPTION:
URL:https://www.lieporiai.lt/renginys/hibridinio-mokymo-taikymas-pamokose/
END:VEVENT
END:VCALENDAR