BEGIN:VCALENDAR
VERSION:2.0
PRODID:-//&Scaron;iaulių Lieporių gimnazija - ECPv6.15.18//NONSGML v1.0//EN
CALSCALE:GREGORIAN
METHOD:PUBLISH
X-WR-CALNAME:&Scaron;iaulių Lieporių gimnazija
X-ORIGINAL-URL:https://www.lieporiai.lt
X-WR-CALDESC:&Scaron;iaulių Lieporių gimnazija renginiai
REFRESH-INTERVAL;VALUE=DURATION:PT1H
X-Robots-Tag:noindex
X-PUBLISHED-TTL:PT1H
BEGIN:VTIMEZONE
TZID:Europe/Vilnius
BEGIN:DAYLIGHT
TZOFFSETFROM:+0200
TZOFFSETTO:+0300
TZNAME:EEST
DTSTART:20200329T010000
END:DAYLIGHT
BEGIN:STANDARD
TZOFFSETFROM:+0300
TZOFFSETTO:+0200
TZNAME:EET
DTSTART:20201025T010000
END:STANDARD
BEGIN:DAYLIGHT
TZOFFSETFROM:+0200
TZOFFSETTO:+0300
TZNAME:EEST
DTSTART:20210328T010000
END:DAYLIGHT
BEGIN:STANDARD
TZOFFSETFROM:+0300
TZOFFSETTO:+0200
TZNAME:EET
DTSTART:20211031T010000
END:STANDARD
BEGIN:DAYLIGHT
TZOFFSETFROM:+0200
TZOFFSETTO:+0300
TZNAME:EEST
DTSTART:20220327T010000
END:DAYLIGHT
BEGIN:STANDARD
TZOFFSETFROM:+0300
TZOFFSETTO:+0200
TZNAME:EET
DTSTART:20221030T010000
END:STANDARD
END:VTIMEZONE
BEGIN:VEVENT
DTSTART;VALUE=DATE:20211230
DTEND;VALUE=DATE:20211231
DTSTAMP:20260424T023749
CREATED:20211222T162325Z
LAST-MODIFIED:20211222T162325Z
UID:16391-1640822400-1640908799@www.lieporiai.lt
SUMMARY:Hibridinio mokymo praktikumas
DESCRIPTION:Lektoriai – M. Macaitis\, Ž. Staškauskienė
URL:https://www.lieporiai.lt/renginys/hibridinio-mokymo-praktikumas/
END:VEVENT
BEGIN:VEVENT
DTSTART;TZID=Europe/Vilnius:20211229T100000
DTEND;TZID=Europe/Vilnius:20211229T140000
DTSTAMP:20260424T023749
CREATED:20211222T163155Z
LAST-MODIFIED:20211222T163155Z
UID:16397-1640772000-1640786400@www.lieporiai.lt
SUMMARY:Hibridinio mokymo taikymas pamokose
DESCRIPTION:
URL:https://www.lieporiai.lt/renginys/hibridinio-mokymo-taikymas-pamokose/
END:VEVENT
BEGIN:VEVENT
DTSTART;TZID=Europe/Vilnius:20211228T100000
DTEND;TZID=Europe/Vilnius:20211228T160000
DTSTAMP:20260424T023749
CREATED:20211222T093244Z
LAST-MODIFIED:20211222T093244Z
UID:16377-1640685600-1640707200@www.lieporiai.lt
SUMMARY:Seminaras mokytojams \,\,Lyderystė\, pokyčiai ir stresas"
DESCRIPTION:Aktų salėje
URL:https://www.lieporiai.lt/renginys/seminaras-mokytojams-lyderyste-pokyciai-ir-stresas/
END:VEVENT
BEGIN:VEVENT
DTSTART;TZID=Europe/Vilnius:20211228T100000
DTEND;TZID=Europe/Vilnius:20211228T150000
DTSTAMP:20260424T023749
CREATED:20211222T162135Z
LAST-MODIFIED:20211222T162206Z
UID:16388-1640685600-1640703600@www.lieporiai.lt
SUMMARY:Hibridinio mokymo pristatymas
DESCRIPTION:Lektoriai –  M. Macaitis\, Ž. Stškauskienė
URL:https://www.lieporiai.lt/renginys/hibridinis-mokymas-patirties-sklaida/
END:VEVENT
BEGIN:VEVENT
DTSTART;TZID=Europe/Vilnius:20211223T110000
DTEND;TZID=Europe/Vilnius:20211223T120000
DTSTAMP:20260424T023749
CREATED:20211221T070707Z
LAST-MODIFIED:20211221T070707Z
UID:16372-1640257200-1640260800@www.lieporiai.lt
SUMMARY:Tarpklasinės tinklinio varžybos. IIIa ir IIIe
DESCRIPTION:
URL:https://www.lieporiai.lt/renginys/tarpklasines-tinklinio-varzybos-iiia-ir-iiie/
END:VEVENT
BEGIN:VEVENT
DTSTART;VALUE=DATE:20211223
DTEND;VALUE=DATE:20211224
DTSTAMP:20260424T023749
CREATED:20211207T084105Z
LAST-MODIFIED:20211213T083601Z
UID:16318-1640217600-1640303999@www.lieporiai.lt
SUMMARY:Šventinės klasių valandėlės po 5 pamokų
DESCRIPTION:
URL:https://www.lieporiai.lt/renginys/sventines-klasiu-valandeles/
END:VEVENT
BEGIN:VEVENT
DTSTART;TZID=Europe/Vilnius:20211221T150000
DTEND;TZID=Europe/Vilnius:20211221T160000
DTSTAMP:20260424T023749
CREATED:20211221T070624Z
LAST-MODIFIED:20211221T070624Z
UID:16370-1640098800-1640102400@www.lieporiai.lt
SUMMARY:Tarpklasinės tinklinio varžybos. IIIb ir IIIc
DESCRIPTION:
URL:https://www.lieporiai.lt/renginys/tarpklasines-tinklinio-varzybos-iiib-ir-iiic/
END:VEVENT
BEGIN:VEVENT
DTSTART;TZID=Europe/Vilnius:20211220T140000
DTEND;TZID=Europe/Vilnius:20211220T163000
DTSTAMP:20260424T023749
CREATED:20211213T083937Z
LAST-MODIFIED:20211213T083937Z
UID:16337-1640008800-1640017800@www.lieporiai.lt
SUMMARY:Administracinis posėdis
DESCRIPTION:Dėl bendros veiklos su bendradarbiaujančiomis progimnazijomis. – Direktorė\nDėl mokytojų veiklos mokinių atostogų metu. – Direktorė\nDėl mokymo priemonių įsigijimo. – Direktorė\nAnglų kalbos mokytojų metodinės veiklos aptarimas. – R. Šteimantienė\nDėl gruodžio mėnesio renginių organizavimo. – A. Meškauskienė
URL:https://www.lieporiai.lt/renginys/administracinis-posedis-7/
END:VEVENT
BEGIN:VEVENT
DTSTART;TZID=Europe/Vilnius:20211217T150000
DTEND;TZID=Europe/Vilnius:20211217T160000
DTSTAMP:20260424T023749
CREATED:20211210T103829Z
LAST-MODIFIED:20211210T103840Z
UID:16331-1639753200-1639756800@www.lieporiai.lt
SUMMARY:Tinklinio varžybos. IIIe-IIIf
DESCRIPTION:
URL:https://www.lieporiai.lt/renginys/tinklinio-varzybos-iiie-iiif/
END:VEVENT
BEGIN:VEVENT
DTSTART;TZID=Europe/Vilnius:20211215T110000
DTEND;TZID=Europe/Vilnius:20211215T120000
DTSTAMP:20260424T023749
CREATED:20211213T101712Z
LAST-MODIFIED:20211213T101712Z
UID:16353-1639566000-1639569600@www.lieporiai.lt
SUMMARY:Tinklinio varžybų finalas. IVa - Mokytojai
DESCRIPTION:Dalyvauja tik IV klasių mokiniai. Būtina avėti antbačius ir laikytis visų Covid-19 reikalavimų.
URL:https://www.lieporiai.lt/renginys/tinklinio-varzybu-finalas-iva-mokytojai/
END:VEVENT
BEGIN:VEVENT
DTSTART;TZID=Europe/Vilnius:20211215T110000
DTEND;TZID=Europe/Vilnius:20211215T113000
DTSTAMP:20260424T023749
CREATED:20211116T074925Z
LAST-MODIFIED:20211116T074925Z
UID:16147-1639566000-1639567800@www.lieporiai.lt
SUMMARY:Istorijos protmūšis
DESCRIPTION:Organizuoja skautų vadovas M. Šlapelis\, \nIV-ų klasių mokiniams
URL:https://www.lieporiai.lt/renginys/istorijos-protmusis-3/
END:VEVENT
BEGIN:VEVENT
DTSTART;TZID=Europe/Vilnius:20211214T150000
DTEND;TZID=Europe/Vilnius:20211214T160000
DTSTAMP:20260424T023749
CREATED:20211210T103749Z
LAST-MODIFIED:20211210T103749Z
UID:16329-1639494000-1639497600@www.lieporiai.lt
SUMMARY:Tinklinio varžybos. IIIa-IIIb
DESCRIPTION:Sporto salėje
URL:https://www.lieporiai.lt/renginys/tinklinio-varzybos-iiia-iiib/
END:VEVENT
BEGIN:VEVENT
DTSTART;TZID=Europe/Vilnius:20211209T170000
DTEND;TZID=Europe/Vilnius:20211209T190000
DTSTAMP:20260424T023749
CREATED:20211130T092025Z
LAST-MODIFIED:20211130T092121Z
UID:16239-1639069200-1639076400@www.lieporiai.lt
SUMMARY:Konferencija \,\,Įtraukusis ugdymas visiems ir kiekvienam" (nuotoliniu būdu)
DESCRIPTION:Kasmetinė bendruomenės veiklos kokybės įsivertinimo konferencija. \nDalyviai – mokiniai\, tėvai\, mokytojai\, gimnazijos taryba\, mokinių taryba\, administracija
URL:https://www.lieporiai.lt/renginys/konferencija-itraukusis-ugdymas-visiems-ir-kiekvienam-nuotoliniu-budu/
END:VEVENT
BEGIN:VEVENT
DTSTART;VALUE=DATE:20211209
DTEND;VALUE=DATE:20211210
DTSTAMP:20260424T023749
CREATED:20211130T092249Z
LAST-MODIFIED:20211130T092249Z
UID:16242-1639008000-1639094399@www.lieporiai.lt
SUMMARY:Netradicinė ugdymo diena \,\,Bendruomenės veiklos kokybės įsivertinimo konferencija"
DESCRIPTION:
URL:https://www.lieporiai.lt/renginys/netradicine-ugdymo-diena-bendruomenes-veiklos-kokybes-isivertinimo-konferencija/
END:VEVENT
BEGIN:VEVENT
DTSTART;TZID=Europe/Vilnius:20211208T110000
DTEND;TZID=Europe/Vilnius:20211208T113000
DTSTAMP:20260424T023749
CREATED:20211116T074830Z
LAST-MODIFIED:20211116T074830Z
UID:16145-1638961200-1638963000@www.lieporiai.lt
SUMMARY:Istorijos protmūšis
DESCRIPTION:Organizuoja skautų vadovas M. Šlapelis\, \nIII-ų klasių mokiniams
URL:https://www.lieporiai.lt/renginys/istorijos-protmusis-2/
END:VEVENT
BEGIN:VEVENT
DTSTART;TZID=Europe/Vilnius:20211201T110000
DTEND;TZID=Europe/Vilnius:20211201T113000
DTSTAMP:20260424T023749
CREATED:20211116T074743Z
LAST-MODIFIED:20211116T074949Z
UID:16143-1638356400-1638358200@www.lieporiai.lt
SUMMARY:Istorijos protmūšis
DESCRIPTION:Organizuoja skautų vadovas M. Šlapelis \nII-ų klasių mokiniams
URL:https://www.lieporiai.lt/renginys/istorijos-protmusis/
END:VEVENT
BEGIN:VEVENT
DTSTART;TZID=Europe/Vilnius:20211130T080000
DTEND;TZID=Europe/Vilnius:20211130T090000
DTSTAMP:20260424T023749
CREATED:20211116T071348Z
LAST-MODIFIED:20211116T071348Z
UID:16133-1638259200-1638262800@www.lieporiai.lt
SUMMARY:\,\,Advento rytmetys"
DESCRIPTION:Dalyvauja abiturientai ir juos mokantys mokytojai
URL:https://www.lieporiai.lt/renginys/advento-rytmetys-4/
END:VEVENT
BEGIN:VEVENT
DTSTART;TZID=Europe/Vilnius:20211126T110000
DTEND;TZID=Europe/Vilnius:20211126T120000
DTSTAMP:20260424T023749
CREATED:20211123T173940Z
LAST-MODIFIED:20211123T191445Z
UID:16191-1637924400-1637928000@www.lieporiai.lt
SUMMARY:III-okų anglų kalbos mokyklinės olimpiados I dalis (rašymas) 371 kabinete
DESCRIPTION:
URL:https://www.lieporiai.lt/renginys/iii-oku-anglu-kalbos-mokyklines-olimpiados-i-dalis-rasymas-371-kabinete/
END:VEVENT
BEGIN:VEVENT
DTSTART;TZID=Europe/Vilnius:20211124T110000
DTEND;TZID=Europe/Vilnius:20211124T113000
DTSTAMP:20260424T023749
CREATED:20211116T074515Z
LAST-MODIFIED:20211116T074659Z
UID:16139-1637751600-1637753400@www.lieporiai.lt
SUMMARY:Protmūšis Kariuomenės dienai paminėti
DESCRIPTION:Organizuoja skautų vadovas M. Šlapelis\, \,\,Misija-pilietis” vadovas D. Dirvelis \nI-ų klasių mokiniams
URL:https://www.lieporiai.lt/renginys/protmusis-kariuomenes-dienai-pamineti/
END:VEVENT
BEGIN:VEVENT
DTSTART;TZID=Europe/Vilnius:20211124T090000
DTEND;TZID=Europe/Vilnius:20211124T100000
DTSTAMP:20260424T023749
CREATED:20211123T173120Z
LAST-MODIFIED:20211123T191530Z
UID:16189-1637744400-1637748000@www.lieporiai.lt
SUMMARY:I-II klasių mokyklinės anglų kalbos olimpiados I dalis (rašymas) 360 kabinete
DESCRIPTION:
URL:https://www.lieporiai.lt/renginys/1-2-klasiu-mokyklines-anglu-kalbos-olimpiados-i-dalis-rasymas-360kabinet/
END:VEVENT
BEGIN:VEVENT
DTSTART;TZID=Europe/Vilnius:20211122T140000
DTEND;TZID=Europe/Vilnius:20211122T153000
DTSTAMP:20260424T023749
CREATED:20211116T092836Z
LAST-MODIFIED:20211116T092836Z
UID:16161-1637589600-1637595000@www.lieporiai.lt
SUMMARY:Administracijos posėdis
DESCRIPTION:Dėl mokytojų atestacijos perspektyvinio plano. (S. Urbas) \nDėl metodinės tarybos veiklos. (S. Malinauskienė) \nDėl įsivertinimo  konferencijos. (A. Šliažienė) \nDėl VBE tvarkaraščių ir pasirinkimo. (K. Ališauskaitė)
URL:https://www.lieporiai.lt/renginys/administracijos-posedis-7/
END:VEVENT
BEGIN:VEVENT
DTSTART;VALUE=DATE:20211122
DTEND;VALUE=DATE:20211127
DTSTAMP:20260424T023749
CREATED:20211026T052754Z
LAST-MODIFIED:20211026T052754Z
UID:16037-1637539200-1637971199@www.lieporiai.lt
SUMMARY:Steam ir patyriminio ugdymo savaitė
DESCRIPTION:
URL:https://www.lieporiai.lt/renginys/steam-ir-patyriminio-ugdymo-savaite/
END:VEVENT
BEGIN:VEVENT
DTSTART;TZID=Europe/Vilnius:20211119T080000
DTEND;TZID=Europe/Vilnius:20211119T170000
DTSTAMP:20260424T023749
CREATED:20211116T071653Z
LAST-MODIFIED:20211116T095557Z
UID:16137-1637308800-1637341200@www.lieporiai.lt
SUMMARY:Integruota šokių ir muzikos edukacija \,\,Žemaitiška vakaruška"
DESCRIPTION:Dalyvauja IIa ir IId klasės
URL:https://www.lieporiai.lt/renginys/integruota-sokiu-ir-muzikos-edukacija-zemaitiska-vakaruska/
END:VEVENT
BEGIN:VEVENT
DTSTART;TZID=Europe/Vilnius:20211118T180000
DTEND;TZID=Europe/Vilnius:20211118T190000
DTSTAMP:20260424T023749
CREATED:20211026T053656Z
LAST-MODIFIED:20211026T053656Z
UID:16056-1637258400-1637262000@www.lieporiai.lt
SUMMARY:IVb klasės tėvų susirinkimas (nuotolinis)
DESCRIPTION:
URL:https://www.lieporiai.lt/renginys/ivb-klases-tevu-susirinkimas-nuotolinis/
END:VEVENT
BEGIN:VEVENT
DTSTART;VALUE=DATE:20211118
DTEND;VALUE=DATE:20211119
DTSTAMP:20260424T023749
CREATED:20211111T094954Z
LAST-MODIFIED:20211111T094954Z
UID:16100-1637193600-1637279999@www.lieporiai.lt
SUMMARY:\,\,Tavo Pin Kodas" veiklos
DESCRIPTION:
URL:https://www.lieporiai.lt/renginys/tavo-pin-kodas-veiklos/
END:VEVENT
BEGIN:VEVENT
DTSTART;TZID=Europe/Vilnius:20211117T190000
DTEND;TZID=Europe/Vilnius:20211117T200000
DTSTAMP:20260424T023749
CREATED:20211020T054807Z
LAST-MODIFIED:20211020T054807Z
UID:16001-1637175600-1637179200@www.lieporiai.lt
SUMMARY:IVa klasės tėvų susirinkimas (nuotolinis)
DESCRIPTION:
URL:https://www.lieporiai.lt/renginys/iva-klases-tevu-susirinkimas-nuotolinis/
END:VEVENT
BEGIN:VEVENT
DTSTART;TZID=Europe/Vilnius:20211117T110000
DTEND;TZID=Europe/Vilnius:20211117T120000
DTSTAMP:20260424T023749
CREATED:20211116T071216Z
LAST-MODIFIED:20211116T071216Z
UID:16131-1637146800-1637150400@www.lieporiai.lt
SUMMARY:IV klasių tarpklasinės varžybos
DESCRIPTION:Sporto salė. IVb – IVc
URL:https://www.lieporiai.lt/renginys/iv-klasiu-tarpklasines-varzybos-2/
END:VEVENT
BEGIN:VEVENT
DTSTART;TZID=Europe/Vilnius:20211117T080000
DTEND;TZID=Europe/Vilnius:20211117T150000
DTSTAMP:20260424T023749
CREATED:20211116T071533Z
LAST-MODIFIED:20211116T071533Z
UID:16135-1637136000-1637161200@www.lieporiai.lt
SUMMARY:Sveikatingumo seminaras
DESCRIPTION:Dalyvauja IVa klasė
URL:https://www.lieporiai.lt/renginys/sveikatingumo-seminaras/
END:VEVENT
BEGIN:VEVENT
DTSTART;TZID=Europe/Vilnius:20211116T150000
DTEND;TZID=Europe/Vilnius:20211116T160000
DTSTAMP:20260424T023749
CREATED:20211116T071100Z
LAST-MODIFIED:20211116T071100Z
UID:16129-1637074800-1637078400@www.lieporiai.lt
SUMMARY:IV klasių tarpklasinės varžybos
DESCRIPTION:Sporto salė. IVa – IVd
URL:https://www.lieporiai.lt/renginys/iv-klasiu-tarpklasines-varzybos/
END:VEVENT
BEGIN:VEVENT
DTSTART;VALUE=DATE:20211116
DTEND;VALUE=DATE:20211120
DTSTAMP:20260424T023749
CREATED:20211012T052543Z
LAST-MODIFIED:20211012T052921Z
UID:15918-1637020800-1637366399@www.lieporiai.lt
SUMMARY:IV klasių tėvų susirinkimai nuotoliniu būdu
DESCRIPTION:
URL:https://www.lieporiai.lt/renginys/iv-klasiu-tevu-susirinkimai-nuotoliniu-budu/
END:VEVENT
END:VCALENDAR