BEGIN:VCALENDAR
VERSION:2.0
PRODID:-//&Scaron;iaulių Lieporių gimnazija - ECPv6.15.18//NONSGML v1.0//EN
CALSCALE:GREGORIAN
METHOD:PUBLISH
X-WR-CALNAME:&Scaron;iaulių Lieporių gimnazija
X-ORIGINAL-URL:https://www.lieporiai.lt
X-WR-CALDESC:&Scaron;iaulių Lieporių gimnazija renginiai
REFRESH-INTERVAL;VALUE=DURATION:PT1H
X-Robots-Tag:noindex
X-PUBLISHED-TTL:PT1H
BEGIN:VTIMEZONE
TZID:Europe/Vilnius
BEGIN:DAYLIGHT
TZOFFSETFROM:+0200
TZOFFSETTO:+0300
TZNAME:EEST
DTSTART:20200329T010000
END:DAYLIGHT
BEGIN:STANDARD
TZOFFSETFROM:+0300
TZOFFSETTO:+0200
TZNAME:EET
DTSTART:20201025T010000
END:STANDARD
BEGIN:DAYLIGHT
TZOFFSETFROM:+0200
TZOFFSETTO:+0300
TZNAME:EEST
DTSTART:20210328T010000
END:DAYLIGHT
BEGIN:STANDARD
TZOFFSETFROM:+0300
TZOFFSETTO:+0200
TZNAME:EET
DTSTART:20211031T010000
END:STANDARD
BEGIN:DAYLIGHT
TZOFFSETFROM:+0200
TZOFFSETTO:+0300
TZNAME:EEST
DTSTART:20220327T010000
END:DAYLIGHT
BEGIN:STANDARD
TZOFFSETFROM:+0300
TZOFFSETTO:+0200
TZNAME:EET
DTSTART:20221030T010000
END:STANDARD
END:VTIMEZONE
BEGIN:VEVENT
DTSTART;VALUE=DATE:20211116
DTEND;VALUE=DATE:20211117
DTSTAMP:20260424T073747
CREATED:20211110T093817Z
LAST-MODIFIED:20211110T093913Z
UID:16096-1637020800-1637107199@www.lieporiai.lt
SUMMARY:Tolerancijos dienos akcija \,\,Tolerancijos miestas"
DESCRIPTION:Atsakingi – I. Šablinskienė\, Ž. Staškauskienė\, G. Mikolajūnienė
URL:https://www.lieporiai.lt/renginys/tolerancijos-dienos-akcija-tolerancijos-miestas/
END:VEVENT
BEGIN:VEVENT
DTSTART;TZID=Europe/Vilnius:20211115T150000
DTEND;TZID=Europe/Vilnius:20211115T163000
DTSTAMP:20260424T073747
CREATED:20211026T053214Z
LAST-MODIFIED:20211104T155045Z
UID:16049-1636988400-1636993800@www.lieporiai.lt
SUMMARY:Mokytojų tarybos susirinkimas
DESCRIPTION:Aktų salėje
URL:https://www.lieporiai.lt/renginys/mokytoju-tarybos-susirinkimas/
END:VEVENT
BEGIN:VEVENT
DTSTART;TZID=Europe/Vilnius:20211115T110000
DTEND;TZID=Europe/Vilnius:20211115T113000
DTSTAMP:20260424T073747
CREATED:20211026T052711Z
LAST-MODIFIED:20211026T052711Z
UID:16035-1636974000-1636975800@www.lieporiai.lt
SUMMARY:Metodinės tarybos susirinkimas
DESCRIPTION:Dėl STEAM veiklų ir patyriminio ugdymo savaitės veiklų
URL:https://www.lieporiai.lt/renginys/metodines-tarybos-susirinkimas-2/
END:VEVENT
BEGIN:VEVENT
DTSTART;VALUE=DATE:20211112
DTEND;VALUE=DATE:20211113
DTSTAMP:20260424T073747
CREATED:20211026T052832Z
LAST-MODIFIED:20211026T052832Z
UID:16039-1636675200-1636761599@www.lieporiai.lt
SUMMARY:Biologijos kontrolinis darbas pagal VBE reikalavimus
DESCRIPTION:
URL:https://www.lieporiai.lt/renginys/biologijos-kontrolinis-darbas-pagal-vbe-reikalavimus/
END:VEVENT
BEGIN:VEVENT
DTSTART;TZID=Europe/Vilnius:20211110T180000
DTEND;TZID=Europe/Vilnius:20211110T200000
DTSTAMP:20260424T073747
CREATED:20211013T121402Z
LAST-MODIFIED:20211013T121501Z
UID:15954-1636567200-1636574400@www.lieporiai.lt
SUMMARY:Seminaras mokinių tėvams (globėjams) \,\,Psichologinės krizės ir savipagalba"
DESCRIPTION:Seminaras vyks nuotoliniu būdu per teams platformą.
URL:https://www.lieporiai.lt/renginys/seminaras-mokiniu-tevams-globejams-psichologines-krizes-ir-savipagalba/
END:VEVENT
BEGIN:VEVENT
DTSTART;VALUE=DATE:20211109
DTEND;VALUE=DATE:20211110
DTSTAMP:20260424T073747
CREATED:20211026T053315Z
LAST-MODIFIED:20211026T053315Z
UID:16051-1636416000-1636502399@www.lieporiai.lt
SUMMARY:Gerosios patirties sklaida
DESCRIPTION:
URL:https://www.lieporiai.lt/renginys/gerosios-patirties-sklaida/
END:VEVENT
BEGIN:VEVENT
DTSTART;TZID=Europe/Vilnius:20211108T140000
DTEND;TZID=Europe/Vilnius:20211108T163000
DTSTAMP:20260424T073747
CREATED:20211116T092424Z
LAST-MODIFIED:20211116T092424Z
UID:16159-1636380000-1636389000@www.lieporiai.lt
SUMMARY:Administracijos posėdis
DESCRIPTION:Dėl gimnazijos tarybos veiklos. (S.Malinauskienė) \nDėl atvirų durų organizavimo. \nDėl lapkričio mėnesio numatomų renginių. (A. Meškauskienė)
URL:https://www.lieporiai.lt/renginys/administracijos-posedis-6/
END:VEVENT
BEGIN:VEVENT
DTSTART;VALUE=DATE:20211105
DTEND;VALUE=DATE:20211106
DTSTAMP:20260424T073747
CREATED:20211026T053138Z
LAST-MODIFIED:20211026T053138Z
UID:16047-1636070400-1636156799@www.lieporiai.lt
SUMMARY:Metodinių grupių susirinkimai
DESCRIPTION:
URL:https://www.lieporiai.lt/renginys/metodiniu-grupiu-susirinkimai/
END:VEVENT
BEGIN:VEVENT
DTSTART;TZID=Europe/Vilnius:20211104T100000
DTEND;TZID=Europe/Vilnius:20211104T140000
DTSTAMP:20260424T073747
CREATED:20211026T053110Z
LAST-MODIFIED:20211026T053110Z
UID:16045-1636020000-1636034400@www.lieporiai.lt
SUMMARY:Seminaras mokytojams
DESCRIPTION:Aktų salėje
URL:https://www.lieporiai.lt/renginys/seminaras-mokytojams-2/
END:VEVENT
BEGIN:VEVENT
DTSTART;VALUE=DATE:20211103
DTEND;VALUE=DATE:20211104
DTSTAMP:20260424T073747
CREATED:20211026T053029Z
LAST-MODIFIED:20211026T053029Z
UID:16043-1635897600-1635983999@www.lieporiai.lt
SUMMARY:Seminaras mokytojams
DESCRIPTION:Seminaras nuotolinis
URL:https://www.lieporiai.lt/renginys/seminaras-mokytojams/
END:VEVENT
BEGIN:VEVENT
DTSTART;TZID=Europe/Vilnius:20211028T190000
DTEND;TZID=Europe/Vilnius:20211028T200000
DTSTAMP:20260424T073747
CREATED:20211020T055204Z
LAST-MODIFIED:20211020T055204Z
UID:16003-1635447600-1635451200@www.lieporiai.lt
SUMMARY:IIa klasės tėvų susirinkimas (nuotolinis)
DESCRIPTION:
URL:https://www.lieporiai.lt/renginys/iia-klases-tevu-susirinkimas-nuotolinis/
END:VEVENT
BEGIN:VEVENT
DTSTART;TZID=Europe/Vilnius:20211028T190000
DTEND;TZID=Europe/Vilnius:20211028T200000
DTSTAMP:20260424T073747
CREATED:20211020T054516Z
LAST-MODIFIED:20211020T054516Z
UID:15995-1635447600-1635451200@www.lieporiai.lt
SUMMARY:IIIe klasės tėvų susirinkimas (nuotolinis)
DESCRIPTION:
URL:https://www.lieporiai.lt/renginys/iiie-klases-tevu-susirinkimas-nuotolinis/
END:VEVENT
BEGIN:VEVENT
DTSTART;TZID=Europe/Vilnius:20211028T180000
DTEND;TZID=Europe/Vilnius:20211028T190000
DTSTAMP:20260424T073747
CREATED:20211026T053609Z
LAST-MODIFIED:20211026T053609Z
UID:16054-1635444000-1635447600@www.lieporiai.lt
SUMMARY:IIb klasės tėvų susirinkimas (nuotolinis)
DESCRIPTION:
URL:https://www.lieporiai.lt/renginys/iib-klases-tevu-susirinkimas-nuotolinis/
END:VEVENT
BEGIN:VEVENT
DTSTART;VALUE=DATE:20211028
DTEND;VALUE=DATE:20211029
DTSTAMP:20260424T073747
CREATED:20211012T052414Z
LAST-MODIFIED:20211012T052414Z
UID:15914-1635379200-1635465599@www.lieporiai.lt
SUMMARY:Klasių fotografavimas
DESCRIPTION:Klasių fotografavimas pagal sudarytą grafiką.
URL:https://www.lieporiai.lt/renginys/klasiu-fotografavimas-2/
END:VEVENT
BEGIN:VEVENT
DTSTART;TZID=Europe/Vilnius:20211027T180000
DTEND;TZID=Europe/Vilnius:20211027T190000
DTSTAMP:20260424T073747
CREATED:20211020T054559Z
LAST-MODIFIED:20211020T054559Z
UID:15997-1635357600-1635361200@www.lieporiai.lt
SUMMARY:IIc klasės tėvų susirinkimas (nuotolinis)
DESCRIPTION:
URL:https://www.lieporiai.lt/renginys/iic-klases-tevu-susirinkimas-nuotolinis/
END:VEVENT
BEGIN:VEVENT
DTSTART;TZID=Europe/Vilnius:20211027T125000
DTEND;TZID=Europe/Vilnius:20211027T140000
DTSTAMP:20260424T073747
CREATED:20211027T063810Z
LAST-MODIFIED:20211027T063810Z
UID:16068-1635339000-1635343200@www.lieporiai.lt
SUMMARY:Paskaita \,\,Žmogaus atsakomybė. Teisės ir nusikaltimų prevencija". IIc klasė
DESCRIPTION: Užsiėmimas vyks vadovaujantis alkoholio\, tabako ir kt. psichotropinių medžiagų prevencijos programa. Užsiėmimą veda Lietuvos Probacijos tarnybos Šiaulių regiono skyriaus specialistės Neringa Juodeikytė ir Sigita Krivickienė.
URL:https://www.lieporiai.lt/renginys/paskaita-zmogaus-atsakomybe-teises-ir-nusikaltimu-prevencija-iic-klase/
END:VEVENT
BEGIN:VEVENT
DTSTART;TZID=Europe/Vilnius:20211027T110000
DTEND;TZID=Europe/Vilnius:20211027T120000
DTSTAMP:20260424T073747
CREATED:20211026T052939Z
LAST-MODIFIED:20211026T052939Z
UID:16041-1635332400-1635336000@www.lieporiai.lt
SUMMARY:Abiturientų susirinkimas dėl VBE ir mokyklinių egzaminų pasirinkimų galimybių
DESCRIPTION:Aktų salėje
URL:https://www.lieporiai.lt/renginys/abiturientu-susirinkimas-del-vbe-ir-mokykliniu-egzaminu-pasirinkimu-galimybiu/
END:VEVENT
BEGIN:VEVENT
DTSTART;VALUE=DATE:20211027
DTEND;VALUE=DATE:20211028
DTSTAMP:20260424T073747
CREATED:20211025T053741Z
LAST-MODIFIED:20211025T053741Z
UID:16026-1635292800-1635379199@www.lieporiai.lt
SUMMARY:Akcija \,\,Helovyno" tema
DESCRIPTION:Organizuoja mokinių taryba
URL:https://www.lieporiai.lt/renginys/akcija-helovyno-tema/
END:VEVENT
BEGIN:VEVENT
DTSTART;TZID=Europe/Vilnius:20211026T180000
DTEND;TZID=Europe/Vilnius:20211026T190000
DTSTAMP:20260424T073747
CREATED:20211020T054406Z
LAST-MODIFIED:20211026T053734Z
UID:15993-1635271200-1635274800@www.lieporiai.lt
SUMMARY:IIe/d/ IIIb klasės tėvų susirinkimai (nuotoliniai)
DESCRIPTION:
URL:https://www.lieporiai.lt/renginys/iid-klases-tevu-susirinkimas-nuotolinis/
END:VEVENT
BEGIN:VEVENT
DTSTART;TZID=Europe/Vilnius:20211026T140000
DTEND;TZID=Europe/Vilnius:20211026T150000
DTSTAMP:20260424T073747
CREATED:20211020T062739Z
LAST-MODIFIED:20211020T064602Z
UID:16005-1635256800-1635260400@www.lieporiai.lt
SUMMARY:Dofe narių protmūšis \,\,Priimk iššūkį-būk savanoris"
DESCRIPTION:Atsakinga I. Šablinskienė
URL:https://www.lieporiai.lt/renginys/dofe-nariu-protmusis-apie-savanoriska-veikla/
END:VEVENT
BEGIN:VEVENT
DTSTART;VALUE=DATE:20211026
DTEND;VALUE=DATE:20211030
DTSTAMP:20260424T073747
CREATED:20211012T052501Z
LAST-MODIFIED:20211012T052937Z
UID:15916-1635206400-1635551999@www.lieporiai.lt
SUMMARY:II-III klasių tėvų susirinkimai nuotoliniu būdu
DESCRIPTION:
URL:https://www.lieporiai.lt/renginys/ii-iii-klasiu-tevu-susirinkimai-nuotoliniu-budu/
END:VEVENT
BEGIN:VEVENT
DTSTART;VALUE=DATE:20211026
DTEND;VALUE=DATE:20211027
DTSTAMP:20260424T073747
CREATED:20211025T072129Z
LAST-MODIFIED:20211025T072129Z
UID:16029-1635206400-1635292799@www.lieporiai.lt
SUMMARY:Ia dalyvauja sveikatingumo programoje
DESCRIPTION:
URL:https://www.lieporiai.lt/renginys/ia-dalyvauja-sveikatingumo-programoje/
END:VEVENT
BEGIN:VEVENT
DTSTART;TZID=Europe/Vilnius:20211025T140000
DTEND;TZID=Europe/Vilnius:20211025T163000
DTSTAMP:20260424T073747
CREATED:20211025T053528Z
LAST-MODIFIED:20211026T053432Z
UID:16022-1635170400-1635179400@www.lieporiai.lt
SUMMARY:Administracinis posėdis
DESCRIPTION:Gimnazijos įvaizdžio kūrimo darbo grupės veiklos aptarimas.  \nTyrimo „Patyčių prevencija“ aptarimas (mokinių ir suaugusių).  \nDėl bendradarbiaujančių mokyklų plano rengimo.  \nPirmokų adaptacija.  \nDėl STEAM savaitės planavimo.  \nNU būrelių ir renginių pasiūla gimnazijoje.  \nSėkmės mokyklėlės veiklos aptarimas. \nĮvaizdžio grupės susirinkimas.
URL:https://www.lieporiai.lt/renginys/administracinis-posedis-6/
END:VEVENT
BEGIN:VEVENT
DTSTART;VALUE=DATE:20211025
DTEND;VALUE=DATE:20211026
DTSTAMP:20260424T073747
CREATED:20211025T053637Z
LAST-MODIFIED:20211025T053637Z
UID:16024-1635120000-1635206399@www.lieporiai.lt
SUMMARY:IIId klasė dalyvauja sveikatos stiprinimo programoje
DESCRIPTION:
URL:https://www.lieporiai.lt/renginys/iiid-klase-dalyvauja-sveikatos-stiprinimo-programoje/
END:VEVENT
BEGIN:VEVENT
DTSTART;TZID=Europe/Vilnius:20211022T090000
DTEND;TZID=Europe/Vilnius:20211022T140000
DTSTAMP:20260424T073747
CREATED:20211018T060655Z
LAST-MODIFIED:20211018T060655Z
UID:15960-1634893200-1634911200@www.lieporiai.lt
SUMMARY:Sveikatingumo programa \,\,Pažink savo emocijas per fizinį aktyvumą"
DESCRIPTION:Dalyvauja IIIc ir IIIf klasių mokiniai. Mokytojos: I. Railienė\, J. Sketerskienė
URL:https://www.lieporiai.lt/renginys/sveikatingumo-programa-pazink-savo-emocijas-per-fizini-aktyvuma/
END:VEVENT
BEGIN:VEVENT
DTSTART;VALUE=DATE:20211022
DTEND;VALUE=DATE:20211023
DTSTAMP:20260424T073747
CREATED:20211018T071248Z
LAST-MODIFIED:20211018T071248Z
UID:15971-1634860800-1634947199@www.lieporiai.lt
SUMMARY:Renginys skirtas Klimato dienai paminėti
DESCRIPTION:
URL:https://www.lieporiai.lt/renginys/renginys-skirtas-klimato-dienai-pamineti/
END:VEVENT
BEGIN:VEVENT
DTSTART;TZID=Europe/Vilnius:20211020T180000
DTEND;TZID=Europe/Vilnius:20211020T190000
DTSTAMP:20260424T073747
CREATED:20211020T054639Z
LAST-MODIFIED:20211020T054639Z
UID:15999-1634752800-1634756400@www.lieporiai.lt
SUMMARY:IIId klasės tėvų susirinkimas (nuotolinis)
DESCRIPTION:
URL:https://www.lieporiai.lt/renginys/iiid-klases-tevu-susirinkimas-nuotolinis/
END:VEVENT
BEGIN:VEVENT
DTSTART;TZID=Europe/Vilnius:20211020T110000
DTEND;TZID=Europe/Vilnius:20211020T114500
DTSTAMP:20260424T073747
CREATED:20211018T071140Z
LAST-MODIFIED:20211018T071140Z
UID:15969-1634727600-1634730300@www.lieporiai.lt
SUMMARY:Protmūšis I-ų klasių mokiniams \,\,Klimatas keičiasi-keiskis ir tu"
DESCRIPTION:Protmūšyje dalyvauja po 3 mokinius iš kiekvienos I-os klasės. 225a. 11.00val. Atsakinga gamtos mokslų metodinė grupė.
URL:https://www.lieporiai.lt/renginys/protmusis-i-u-klasiu-mokiniams-klimatas-keiciasi-keiskis-ir-tu/
END:VEVENT
BEGIN:VEVENT
DTSTART;TZID=Europe/Vilnius:20211020T100000
DTEND;TZID=Europe/Vilnius:20211020T140000
DTSTAMP:20260424T073747
CREATED:20211018T060803Z
LAST-MODIFIED:20211018T060803Z
UID:15962-1634724000-1634738400@www.lieporiai.lt
SUMMARY:TAVO PIN KODAS \,\,Pasimatuok profesiją"
DESCRIPTION:Dalyvauja IId klasė ir mokytoja L. Žukauskienė
URL:https://www.lieporiai.lt/renginys/tavo-pin-kodas-pasimatuok-profesija/
END:VEVENT
BEGIN:VEVENT
DTSTART;VALUE=DATE:20211020
DTEND;VALUE=DATE:20211021
DTSTAMP:20260424T073747
CREATED:20211020T120815Z
LAST-MODIFIED:20211020T120815Z
UID:16009-1634688000-1634774399@www.lieporiai.lt
SUMMARY:\,\,Misija-Pilietis" būrelio akcija \,\,Lieporių kapinių tvarkymas"
DESCRIPTION:
URL:https://www.lieporiai.lt/renginys/misija-pilietis-burelio-akcija-lieporiu-kapiniu-tvarkymas/
END:VEVENT
END:VCALENDAR