BEGIN:VCALENDAR
VERSION:2.0
PRODID:-//&Scaron;iaulių Lieporių gimnazija - ECPv6.15.18//NONSGML v1.0//EN
CALSCALE:GREGORIAN
METHOD:PUBLISH
X-WR-CALNAME:&Scaron;iaulių Lieporių gimnazija
X-ORIGINAL-URL:https://www.lieporiai.lt
X-WR-CALDESC:&Scaron;iaulių Lieporių gimnazija renginiai
REFRESH-INTERVAL;VALUE=DURATION:PT1H
X-Robots-Tag:noindex
X-PUBLISHED-TTL:PT1H
BEGIN:VTIMEZONE
TZID:Europe/Vilnius
BEGIN:DAYLIGHT
TZOFFSETFROM:+0200
TZOFFSETTO:+0300
TZNAME:EEST
DTSTART:20200329T010000
END:DAYLIGHT
BEGIN:STANDARD
TZOFFSETFROM:+0300
TZOFFSETTO:+0200
TZNAME:EET
DTSTART:20201025T010000
END:STANDARD
BEGIN:DAYLIGHT
TZOFFSETFROM:+0200
TZOFFSETTO:+0300
TZNAME:EEST
DTSTART:20210328T010000
END:DAYLIGHT
BEGIN:STANDARD
TZOFFSETFROM:+0300
TZOFFSETTO:+0200
TZNAME:EET
DTSTART:20211031T010000
END:STANDARD
BEGIN:DAYLIGHT
TZOFFSETFROM:+0200
TZOFFSETTO:+0300
TZNAME:EEST
DTSTART:20220327T010000
END:DAYLIGHT
BEGIN:STANDARD
TZOFFSETFROM:+0300
TZOFFSETTO:+0200
TZNAME:EET
DTSTART:20221030T010000
END:STANDARD
END:VTIMEZONE
BEGIN:VEVENT
DTSTART;TZID=Europe/Vilnius:20210901T100000
DTEND;TZID=Europe/Vilnius:20210901T103000
DTSTAMP:20260424T180722
CREATED:20210825T110008Z
LAST-MODIFIED:20210825T110008Z
UID:15471-1630490400-1630492200@www.lieporiai.lt
SUMMARY:Rugsėjo 1-osios šventė
DESCRIPTION:Rugsėjo 1-osios šventė vyks 10.00 val. gimnazijos kieme
URL:https://www.lieporiai.lt/renginys/rugsejo-1-osios-svente/
END:VEVENT
BEGIN:VEVENT
DTSTART;TZID=Europe/Vilnius:20210831T100000
DTEND;TZID=Europe/Vilnius:20210831T120000
DTSTAMP:20260424T180722
CREATED:20210825T142829Z
LAST-MODIFIED:20210825T142829Z
UID:15489-1630404000-1630411200@www.lieporiai.lt
SUMMARY:Mokytojų tarybos posėdis
DESCRIPTION:Mokytojų tarybos posėdis vyks aktų salėje
URL:https://www.lieporiai.lt/renginys/mokytoju-tarybos-posedis-8/
END:VEVENT
BEGIN:VEVENT
DTSTART;TZID=Europe/Vilnius:20210728T150000
DTEND;TZID=Europe/Vilnius:20210728T170000
DTSTAMP:20260424T180722
CREATED:20210603T095356Z
LAST-MODIFIED:20210720T151540Z
UID:15228-1627484400-1627491600@www.lieporiai.lt
SUMMARY:44-os laidos abiturientų išleistuvės
DESCRIPTION:Renginys vyks gimnazijos kieme.
URL:https://www.lieporiai.lt/renginys/44-os-laidos-abiturientu-isleistuves/
END:VEVENT
BEGIN:VEVENT
DTSTART;TZID=Europe/Vilnius:20210630T090000
DTEND;TZID=Europe/Vilnius:20210630T160000
DTSTAMP:20260424T180722
CREATED:20210526T101810Z
LAST-MODIFIED:20210526T101810Z
UID:15203-1625043600-1625068800@www.lieporiai.lt
SUMMARY:Dokumentų priėmimas į I-ąsias klases
DESCRIPTION:
URL:https://www.lieporiai.lt/renginys/dokumentu-priemimas-i-i-asias-klases-4/
END:VEVENT
BEGIN:VEVENT
DTSTART;TZID=Europe/Vilnius:20210629T090000
DTEND;TZID=Europe/Vilnius:20210629T160000
DTSTAMP:20260424T180722
CREATED:20210526T101740Z
LAST-MODIFIED:20210526T101740Z
UID:15201-1624957200-1624982400@www.lieporiai.lt
SUMMARY:Dokumentų priėmimas į I-ąsias klases
DESCRIPTION:
URL:https://www.lieporiai.lt/renginys/dokumentu-priemimas-i-i-asias-klases-3/
END:VEVENT
BEGIN:VEVENT
DTSTART;TZID=Europe/Vilnius:20210628T090000
DTEND;TZID=Europe/Vilnius:20210628T160000
DTSTAMP:20260424T180722
CREATED:20210526T101710Z
LAST-MODIFIED:20210526T101710Z
UID:15199-1624870800-1624896000@www.lieporiai.lt
SUMMARY:Dokumentų priėmimas į I-ąsias klases
DESCRIPTION:
URL:https://www.lieporiai.lt/renginys/dokumentu-priemimas-i-i-asias-klases-2/
END:VEVENT
BEGIN:VEVENT
DTSTART;TZID=Europe/Vilnius:20210625T080000
DTEND;TZID=Europe/Vilnius:20210625T130000
DTSTAMP:20260424T180722
CREATED:20210521T091533Z
LAST-MODIFIED:20210521T091533Z
UID:15044-1624608000-1624626000@www.lieporiai.lt
SUMMARY:Istorijos egzaminas
DESCRIPTION:
URL:https://www.lieporiai.lt/renginys/istorijos-egzaminas/
END:VEVENT
BEGIN:VEVENT
DTSTART;TZID=Europe/Vilnius:20210623T090000
DTEND;TZID=Europe/Vilnius:20210623T160000
DTSTAMP:20260424T180722
CREATED:20210526T101638Z
LAST-MODIFIED:20210526T101638Z
UID:15197-1624438800-1624464000@www.lieporiai.lt
SUMMARY:Dokumentų priėmimas į I-ąsias klases
DESCRIPTION:
URL:https://www.lieporiai.lt/renginys/dokumentu-priemimas-i-i-asias-klases/
END:VEVENT
BEGIN:VEVENT
DTSTART;TZID=Europe/Vilnius:20210623T080000
DTEND;TZID=Europe/Vilnius:20210623T170000
DTSTAMP:20260424T180722
CREATED:20210521T091421Z
LAST-MODIFIED:20210521T091421Z
UID:15042-1624435200-1624467600@www.lieporiai.lt
SUMMARY:Mokslo metų užbaigimo šventė I-III kl.
DESCRIPTION:
URL:https://www.lieporiai.lt/renginys/mokslo-metu-uzbaigimo-svente-i-iii-kl/
END:VEVENT
BEGIN:VEVENT
DTSTART;TZID=Europe/Vilnius:20210623T080000
DTEND;TZID=Europe/Vilnius:20210623T170000
DTSTAMP:20260424T180722
CREATED:20210521T091226Z
LAST-MODIFIED:20210521T091226Z
UID:15036-1624435200-1624467600@www.lieporiai.lt
SUMMARY:Užsienio kalbos (anglų) egzaminas
DESCRIPTION:
URL:https://www.lieporiai.lt/renginys/uzsienio-kalbos-anglu-egzaminas-4/
END:VEVENT
BEGIN:VEVENT
DTSTART;TZID=Europe/Vilnius:20210622T080000
DTEND;TZID=Europe/Vilnius:20210622T170000
DTSTAMP:20260424T180722
CREATED:20210521T091205Z
LAST-MODIFIED:20210521T091205Z
UID:15034-1624348800-1624381200@www.lieporiai.lt
SUMMARY:Užsienio kalbos (anglų) egzaminas
DESCRIPTION:
URL:https://www.lieporiai.lt/renginys/uzsienio-kalbos-anglu-egzaminas-3/
END:VEVENT
BEGIN:VEVENT
DTSTART;VALUE=DATE:20210622
DTEND;VALUE=DATE:20210623
DTSTAMP:20260424T180722
CREATED:20210521T091337Z
LAST-MODIFIED:20210521T091337Z
UID:15040-1624320000-1624406399@www.lieporiai.lt
SUMMARY:Projektinė veikla
DESCRIPTION:
URL:https://www.lieporiai.lt/renginys/projektine-veikla-2/
END:VEVENT
BEGIN:VEVENT
DTSTART;TZID=Europe/Vilnius:20210621T080000
DTEND;TZID=Europe/Vilnius:20210621T170000
DTSTAMP:20260424T180722
CREATED:20210521T091148Z
LAST-MODIFIED:20210521T091148Z
UID:15032-1624262400-1624294800@www.lieporiai.lt
SUMMARY:Užsienio kalbos (anglų) egzaminas
DESCRIPTION:
URL:https://www.lieporiai.lt/renginys/uzsienio-kalbos-anglu-egzaminas-2/
END:VEVENT
BEGIN:VEVENT
DTSTART;VALUE=DATE:20210621
DTEND;VALUE=DATE:20210622
DTSTAMP:20260424T180722
CREATED:20210521T091309Z
LAST-MODIFIED:20210521T091309Z
UID:15038-1624233600-1624319999@www.lieporiai.lt
SUMMARY:Projektinė veikla
DESCRIPTION:
URL:https://www.lieporiai.lt/renginys/projektine-veikla/
END:VEVENT
BEGIN:VEVENT
DTSTART;TZID=Europe/Vilnius:20210618T130000
DTEND;TZID=Europe/Vilnius:20210618T150000
DTSTAMP:20260424T180722
CREATED:20210521T090851Z
LAST-MODIFIED:20210521T090851Z
UID:15030-1624021200-1624028400@www.lieporiai.lt
SUMMARY:Mokytojų tarybos posėdis
DESCRIPTION:Mokytojų tarybos posėdis. (aktų salė) \nDėl mokslo metų baigimo I-III kl.
URL:https://www.lieporiai.lt/renginys/mokytoju-tarybos-posedis-7/
END:VEVENT
BEGIN:VEVENT
DTSTART;TZID=Europe/Vilnius:20210618T080000
DTEND;TZID=Europe/Vilnius:20210618T130000
DTSTAMP:20260424T180722
CREATED:20210521T090647Z
LAST-MODIFIED:20210521T090647Z
UID:15028-1624003200-1624021200@www.lieporiai.lt
SUMMARY:Matematikos egzaminas
DESCRIPTION:
URL:https://www.lieporiai.lt/renginys/matematikos-egzaminas/
END:VEVENT
BEGIN:VEVENT
DTSTART;VALUE=DATE:20210617
DTEND;VALUE=DATE:20210618
DTSTAMP:20260424T180722
CREATED:20210521T090611Z
LAST-MODIFIED:20210521T090611Z
UID:15026-1623888000-1623974399@www.lieporiai.lt
SUMMARY:Kultūrinė pažintinė diena \,\,Bendruomenės diena". I-II klasės
DESCRIPTION:
URL:https://www.lieporiai.lt/renginys/kulturine-pazintine-diena-bendruomenes-diena-i-ii-klases/
END:VEVENT
BEGIN:VEVENT
DTSTART;VALUE=DATE:20210617
DTEND;VALUE=DATE:20210618
DTSTAMP:20260424T180722
CREATED:20210521T090520Z
LAST-MODIFIED:20210521T090520Z
UID:15024-1623888000-1623974399@www.lieporiai.lt
SUMMARY:III-ių klasių šventė
DESCRIPTION:
URL:https://www.lieporiai.lt/renginys/iii-iu-klasiu-svente/
END:VEVENT
BEGIN:VEVENT
DTSTART;VALUE=DATE:20210617
DTEND;VALUE=DATE:20210618
DTSTAMP:20260424T180722
CREATED:20210521T071152Z
LAST-MODIFIED:20210521T071152Z
UID:14993-1623888000-1623974399@www.lieporiai.lt
SUMMARY:III-ių klasių mokinių šventė
DESCRIPTION:
URL:https://www.lieporiai.lt/renginys/iii-iu-klasiu-mokiniu-svente/
END:VEVENT
BEGIN:VEVENT
DTSTART;TZID=Europe/Vilnius:20210616T113000
DTEND;TZID=Europe/Vilnius:20210616T130000
DTSTAMP:20260424T180722
CREATED:20210615T143925Z
LAST-MODIFIED:20210615T143925Z
UID:15238-1623843000-1623848400@www.lieporiai.lt
SUMMARY:Administracijos posėdis
DESCRIPTION:Dėl ugdymo plano rengimo
URL:https://www.lieporiai.lt/renginys/administracijos-posedis-5/
END:VEVENT
BEGIN:VEVENT
DTSTART;TZID=Europe/Vilnius:20210616T090000
DTEND;TZID=Europe/Vilnius:20210616T140000
DTSTAMP:20260424T180722
CREATED:20210521T090344Z
LAST-MODIFIED:20210521T090344Z
UID:15020-1623834000-1623852000@www.lieporiai.lt
SUMMARY:Pagrindinio ugdymo pažymėjimų įteikimo šventė. II klasės
DESCRIPTION:
URL:https://www.lieporiai.lt/renginys/pagrindinio-ugdymo-pazymejimu-iteikimo-svente-ii-klases/
END:VEVENT
BEGIN:VEVENT
DTSTART;TZID=Europe/Vilnius:20210616T080000
DTEND;TZID=Europe/Vilnius:20210616T140000
DTSTAMP:20260424T180722
CREATED:20210521T090441Z
LAST-MODIFIED:20210521T090441Z
UID:15022-1623830400-1623852000@www.lieporiai.lt
SUMMARY:III klasių metinių projektų gynimas
DESCRIPTION:III klasių metinių projektų gynimas. (tiems\, kurie neatsiskaitė)
URL:https://www.lieporiai.lt/renginys/iii-klasiu-metiniu-projektu-gynimas-3/
END:VEVENT
BEGIN:VEVENT
DTSTART;VALUE=DATE:20210616
DTEND;VALUE=DATE:20210617
DTSTAMP:20260424T180722
CREATED:20210521T071129Z
LAST-MODIFIED:20210521T071129Z
UID:14991-1623801600-1623887999@www.lieporiai.lt
SUMMARY:II-ų klasių mokinių šventė
DESCRIPTION:
URL:https://www.lieporiai.lt/renginys/ii-u-klasiu-mokiniu-svente/
END:VEVENT
BEGIN:VEVENT
DTSTART;TZID=Europe/Vilnius:20210615T090000
DTEND;TZID=Europe/Vilnius:20210615T150000
DTSTAMP:20260424T180722
CREATED:20210521T090127Z
LAST-MODIFIED:20210521T090127Z
UID:15016-1623747600-1623769200@www.lieporiai.lt
SUMMARY:I-ų klasių šventinė konferencija. Padėkos diena
DESCRIPTION:
URL:https://www.lieporiai.lt/renginys/i-u-klasiu-sventine-konferencija-padekos-diena/
END:VEVENT
BEGIN:VEVENT
DTSTART;VALUE=DATE:20210615
DTEND;VALUE=DATE:20210616
DTSTAMP:20260424T180722
CREATED:20210521T090237Z
LAST-MODIFIED:20210521T090237Z
UID:15018-1623715200-1623801599@www.lieporiai.lt
SUMMARY:II-III klasių konferencija \,\,Kaip aš siekiu asmeninės pažangos"
DESCRIPTION:II-III klasių konferencija \,\,Kaip aš siekiu asmeninės pažangos”. Socialinė pedagogė Irma Šablinskienė
URL:https://www.lieporiai.lt/renginys/ii-iii-klasiu-konferencija-kaip-as-siekiu-asmenines-pazangos/
END:VEVENT
BEGIN:VEVENT
DTSTART;VALUE=DATE:20210615
DTEND;VALUE=DATE:20210616
DTSTAMP:20260424T180722
CREATED:20210521T071106Z
LAST-MODIFIED:20210521T071106Z
UID:14989-1623715200-1623801599@www.lieporiai.lt
SUMMARY:I-ų klasių mokinių šventė
DESCRIPTION:
URL:https://www.lieporiai.lt/renginys/i-u-klasiu-mokiniu-svente/
END:VEVENT
BEGIN:VEVENT
DTSTART;TZID=Europe/Vilnius:20210614T080000
DTEND;TZID=Europe/Vilnius:20210614T140000
DTSTAMP:20260424T180722
CREATED:20210521T085659Z
LAST-MODIFIED:20210521T085659Z
UID:15012-1623657600-1623679200@www.lieporiai.lt
SUMMARY:Užsienio kalbos (anglų) egzaminas
DESCRIPTION:
URL:https://www.lieporiai.lt/renginys/uzsienio-kalbos-anglu-egzaminas/
END:VEVENT
BEGIN:VEVENT
DTSTART;VALUE=DATE:20210614
DTEND;VALUE=DATE:20210615
DTSTAMP:20260424T180722
CREATED:20210521T085747Z
LAST-MODIFIED:20210521T085747Z
UID:15014-1623628800-1623715199@www.lieporiai.lt
SUMMARY:\,\,Žmogaus saugos mokymai" I-III kl.
DESCRIPTION:
URL:https://www.lieporiai.lt/renginys/zmogaus-saugos-mokymai-i-iii-kl/
END:VEVENT
BEGIN:VEVENT
DTSTART;TZID=Europe/Vilnius:20210611T080000
DTEND;TZID=Europe/Vilnius:20210611T130000
DTSTAMP:20260424T180722
CREATED:20210521T085514Z
LAST-MODIFIED:20210521T085514Z
UID:15008-1623398400-1623416400@www.lieporiai.lt
SUMMARY:IT egzaminas
DESCRIPTION:
URL:https://www.lieporiai.lt/renginys/it-egzaminas/
END:VEVENT
BEGIN:VEVENT
DTSTART;VALUE=DATE:20210611
DTEND;VALUE=DATE:20210612
DTSTAMP:20260424T180722
CREATED:20210521T085613Z
LAST-MODIFIED:20210521T085613Z
UID:15010-1623369600-1623455999@www.lieporiai.lt
SUMMARY:Kultūrinė pažintinė diena \,\,Turizmo diena" I-III klasės
DESCRIPTION:
URL:https://www.lieporiai.lt/renginys/kulturine-pazintine-diena-turizmo-diena-i-iii-klases/
END:VEVENT
END:VCALENDAR