BEGIN:VCALENDAR
VERSION:2.0
PRODID:-//&Scaron;iaulių Lieporių gimnazija - ECPv6.15.18//NONSGML v1.0//EN
CALSCALE:GREGORIAN
METHOD:PUBLISH
X-WR-CALNAME:&Scaron;iaulių Lieporių gimnazija
X-ORIGINAL-URL:https://www.lieporiai.lt
X-WR-CALDESC:&Scaron;iaulių Lieporių gimnazija renginiai
REFRESH-INTERVAL;VALUE=DURATION:PT1H
X-Robots-Tag:noindex
X-PUBLISHED-TTL:PT1H
BEGIN:VTIMEZONE
TZID:Europe/Vilnius
BEGIN:DAYLIGHT
TZOFFSETFROM:+0200
TZOFFSETTO:+0300
TZNAME:EEST
DTSTART:20230326T010000
END:DAYLIGHT
BEGIN:STANDARD
TZOFFSETFROM:+0300
TZOFFSETTO:+0200
TZNAME:EET
DTSTART:20231029T010000
END:STANDARD
BEGIN:DAYLIGHT
TZOFFSETFROM:+0200
TZOFFSETTO:+0300
TZNAME:EEST
DTSTART:20240331T010000
END:DAYLIGHT
BEGIN:STANDARD
TZOFFSETFROM:+0300
TZOFFSETTO:+0200
TZNAME:EET
DTSTART:20241027T010000
END:STANDARD
BEGIN:DAYLIGHT
TZOFFSETFROM:+0200
TZOFFSETTO:+0300
TZNAME:EEST
DTSTART:20250330T010000
END:DAYLIGHT
BEGIN:STANDARD
TZOFFSETFROM:+0300
TZOFFSETTO:+0200
TZNAME:EET
DTSTART:20251026T010000
END:STANDARD
END:VTIMEZONE
BEGIN:VEVENT
DTSTART;TZID=Europe/Vilnius:20240507T150000
DTEND;TZID=Europe/Vilnius:20240507T170000
DTSTAMP:20260420T211448
CREATED:20240506T072228Z
LAST-MODIFIED:20240506T072228Z
UID:23773-1715094000-1715101200@www.lieporiai.lt
SUMMARY:Mokytojų tarybos posėdis.
DESCRIPTION:
URL:https://www.lieporiai.lt/renginys/mokytoju-tarybos-posedis-26/
END:VEVENT
BEGIN:VEVENT
DTSTART;VALUE=DATE:20240427
DTEND;VALUE=DATE:20240428
DTSTAMP:20260420T211448
CREATED:20240425T101550Z
LAST-MODIFIED:20240425T101550Z
UID:23652-1714176000-1714262399@www.lieporiai.lt
SUMMARY:Skautų pavasario šventė \,\,Į saulę".
DESCRIPTION:
URL:https://www.lieporiai.lt/renginys/skautu-pavasario-svente-i-saule/
END:VEVENT
BEGIN:VEVENT
DTSTART;TZID=Europe/Vilnius:20240426T160000
DTEND;TZID=Europe/Vilnius:20240428T160000
DTSTAMP:20260420T211448
CREATED:20240418T062710Z
LAST-MODIFIED:20240418T062710Z
UID:23594-1714147200-1714320000@www.lieporiai.lt
SUMMARY:Šiaulių Lieporių Liepsnos stovykla \,\,Kempingas"
DESCRIPTION:
URL:https://www.lieporiai.lt/renginys/siauliu-lieporiu-liepsnos-stovykla-kempingas/
END:VEVENT
BEGIN:VEVENT
DTSTART;TZID=Europe/Vilnius:20240426T110000
DTEND;TZID=Europe/Vilnius:20240426T130000
DTSTAMP:20260420T211448
CREATED:20240424T092856Z
LAST-MODIFIED:20240424T092856Z
UID:23649-1714129200-1714136400@www.lieporiai.lt
SUMMARY:Projektas \,\,Atgal į mokyklą".
DESCRIPTION:Kamilės Nemeikšytės paskaitos IIB ir III klasių mokiniams.
URL:https://www.lieporiai.lt/renginys/projektas-atgal-i-mokykla-2/
END:VEVENT
BEGIN:VEVENT
DTSTART;VALUE=DATE:20240426
DTEND;VALUE=DATE:20240427
DTSTAMP:20260420T211448
CREATED:20240408T074911Z
LAST-MODIFIED:20240408T074911Z
UID:23531-1714089600-1714175999@www.lieporiai.lt
SUMMARY:Pasaulinės džinsų dienos akcija.
DESCRIPTION:
URL:https://www.lieporiai.lt/renginys/pasaulines-dzinsu-dienos-akcija/
END:VEVENT
BEGIN:VEVENT
DTSTART;TZID=Europe/Vilnius:20240425T160000
DTEND;TZID=Europe/Vilnius:20240425T190000
DTSTAMP:20260420T211448
CREATED:20240319T124939Z
LAST-MODIFIED:20240319T124939Z
UID:23367-1714060800-1714071600@www.lieporiai.lt
SUMMARY:Atvirų durų diena.
DESCRIPTION:
URL:https://www.lieporiai.lt/renginys/atviru-duru-diena-7/
END:VEVENT
BEGIN:VEVENT
DTSTART;TZID=Europe/Vilnius:20240418T122000
DTEND;TZID=Europe/Vilnius:20240418T142000
DTSTAMP:20260420T211448
CREATED:20240409T110107Z
LAST-MODIFIED:20240409T110107Z
UID:23537-1713442800-1713450000@www.lieporiai.lt
SUMMARY:Lyderystės konferencija gimnazistams \,\,Įsikvėpk\, tobulėk\, tapk teigiamus pokyčius nešančiu lyderiu"
DESCRIPTION:Organizuoja mokinių taryba.\nDalyvauja I-III kl. atstovai.
URL:https://www.lieporiai.lt/renginys/lyderystes-konferencija-gimnazistams-isikvepk-tobulek-tapk-teigiamus-pokycius-nesanciu-lyderiu/
END:VEVENT
BEGIN:VEVENT
DTSTART;TZID=Europe/Vilnius:20240417T150000
DTEND;TZID=Europe/Vilnius:20240417T170000
DTSTAMP:20260420T211448
CREATED:20240319T124551Z
LAST-MODIFIED:20240319T124551Z
UID:23361-1713366000-1713373200@www.lieporiai.lt
SUMMARY:Mokytojų tarybos posėdis.
DESCRIPTION:
URL:https://www.lieporiai.lt/renginys/mokytoju-tarybos-posedis-25/
END:VEVENT
BEGIN:VEVENT
DTSTART;TZID=Europe/Vilnius:20240416T150000
DTEND;TZID=Europe/Vilnius:20240416T160000
DTSTAMP:20260420T211448
CREATED:20240325T113328Z
LAST-MODIFIED:20240325T113328Z
UID:23442-1713279600-1713283200@www.lieporiai.lt
SUMMARY:Teatro diena. Žinomi tekstai - nauji kontekstai. \,\,Buvo tylu" pagal Jurgio Savicko noveles.
DESCRIPTION:
URL:https://www.lieporiai.lt/renginys/teatro-diena-zinomi-tekstai-nauji-kontekstai-buvo-tylu-pagal-jurgio-savicko-noveles/
END:VEVENT
BEGIN:VEVENT
DTSTART;TZID=Europe/Vilnius:20240415T080000
DTEND;TZID=Europe/Vilnius:20240419T150000
DTSTAMP:20260420T211448
CREATED:20240408T091055Z
LAST-MODIFIED:20240408T091055Z
UID:23533-1713168000-1713538800@www.lieporiai.lt
SUMMARY:Gimtosios kalbos minėjimo savaitė.
DESCRIPTION:Klasių valandėlių metu diskutuos apie gimtosios kalbos vertę\, svarbą\, grožį\, išsaugojimą. Moto – M. Daukšos žodžiai: \,\,Kalba yra bendras meilės ryšys\, vienybės motina\, pilietiškumo tėvas”.\nPlakatų paroda.
URL:https://www.lieporiai.lt/renginys/gimtosios-kalbos-minejimo-savaite/
END:VEVENT
BEGIN:VEVENT
DTSTART;TZID=Europe/Vilnius:20240411T095000
DTEND;TZID=Europe/Vilnius:20240411T115000
DTSTAMP:20260420T211448
CREATED:20240408T070544Z
LAST-MODIFIED:20240408T070544Z
UID:23529-1712829000-1712836200@www.lieporiai.lt
SUMMARY:Šiaulių visuomenės sveikatos biuro lektorės paskaita "Išmaniųjų įrenginių poveikis sveikatai".
DESCRIPTION:Dalyvauja IIC ir IIE kl. mokiniai.
URL:https://www.lieporiai.lt/renginys/siauliu-visuomenes-sveikatos-biuro-lektores-paskaita-ismaniuju-irenginiu-poveikis-sveikatai/
END:VEVENT
BEGIN:VEVENT
DTSTART;TZID=Europe/Vilnius:20240410T110000
DTEND;TZID=Europe/Vilnius:20240410T115000
DTSTAMP:20260420T211448
CREATED:20240319T124906Z
LAST-MODIFIED:20240319T124906Z
UID:23365-1712746800-1712749800@www.lieporiai.lt
SUMMARY:Demokratijos žinių konkurso pristatymas\, interaktyvi pamoka.  II klasių mokiniams.
DESCRIPTION:
URL:https://www.lieporiai.lt/renginys/demokratijos-ziniu-konkurso-pristatymas-interaktyvi-pamoka-ii-klasiu-mokiniams/
END:VEVENT
BEGIN:VEVENT
DTSTART;TZID=Europe/Vilnius:20240409T080000
DTEND;TZID=Europe/Vilnius:20240411T150000
DTSTAMP:20260420T211448
CREATED:20240319T124739Z
LAST-MODIFIED:20240325T112641Z
UID:23363-1712649600-1712847600@www.lieporiai.lt
SUMMARY:STEAM veiklos I-III kl. \,\,Sėkmingos klaidos – eksperimentai laboratorijoje“
DESCRIPTION:Balandžio 9 d. II klasės (pagal grafiką)\nBalandžio 10 d. III klasės (pagal grafiką)\nBalandžio 11 d. I klasės (pagal grafiką)
URL:https://www.lieporiai.lt/renginys/steam-dienos-i-iii-kl-sekmingos-klaidos-eksperimentai-laboratorijoje/
END:VEVENT
BEGIN:VEVENT
DTSTART;TZID=Europe/Vilnius:20240329T115500
DTEND;TZID=Europe/Vilnius:20240329T121500
DTSTAMP:20260420T211448
CREATED:20240326T113521Z
LAST-MODIFIED:20240329T090927Z
UID:23461-1711713300-1711714500@www.lieporiai.lt
SUMMARY:IIA ir IIC klasės mokinių edukacinė paroda \,\,Šilta - šalta".
DESCRIPTION:
URL:https://www.lieporiai.lt/renginys/iia-ir-iic-klases-mokiniu-edukacine-paroda-silta-salta/
END:VEVENT
BEGIN:VEVENT
DTSTART;TZID=Europe/Vilnius:20240327T115500
DTEND;TZID=Europe/Vilnius:20240327T121000
DTSTAMP:20260420T211448
CREATED:20240326T113415Z
LAST-MODIFIED:20240326T113415Z
UID:23459-1711540500-1711541400@www.lieporiai.lt
SUMMARY:Asmeninės parodos atidarymas.
DESCRIPTION:IIIB klasės mokinės paroda.
URL:https://www.lieporiai.lt/renginys/asmenines-parodos-atidarymas/
END:VEVENT
BEGIN:VEVENT
DTSTART;VALUE=DATE:20240326
DTEND;VALUE=DATE:20240327
DTSTAMP:20260420T211448
CREATED:20240301T101717Z
LAST-MODIFIED:20240301T101717Z
UID:23117-1711411200-1711497599@www.lieporiai.lt
SUMMARY:Temidės konkursas.
DESCRIPTION:
URL:https://www.lieporiai.lt/renginys/temides-konkursas-2/
END:VEVENT
BEGIN:VEVENT
DTSTART;TZID=Europe/Vilnius:20240325T140000
DTEND;TZID=Europe/Vilnius:20240325T150000
DTSTAMP:20260420T211448
CREATED:20240325T113441Z
LAST-MODIFIED:20240325T113441Z
UID:23444-1711375200-1711378800@www.lieporiai.lt
SUMMARY:Šiaulių technologijų mokymo centro studijų programų pristatymas.
DESCRIPTION:
URL:https://www.lieporiai.lt/renginys/siauliu-technologiju-mokymo-centro-studiju-programu-pristatymas/
END:VEVENT
BEGIN:VEVENT
DTSTART;TZID=Europe/Vilnius:20240321T143000
DTEND;TZID=Europe/Vilnius:20240321T163000
DTSTAMP:20260420T211448
CREATED:20240319T124414Z
LAST-MODIFIED:20240319T124414Z
UID:23357-1711031400-1711038600@www.lieporiai.lt
SUMMARY:Mokytojų tarybos posėdis.
DESCRIPTION:
URL:https://www.lieporiai.lt/renginys/mokytoju-tarybos-posedis-23/
END:VEVENT
BEGIN:VEVENT
DTSTART;VALUE=DATE:20240318
DTEND;VALUE=DATE:20240323
DTSTAMP:20260420T211448
CREATED:20240301T101155Z
LAST-MODIFIED:20240301T101155Z
UID:23105-1710720000-1711151999@www.lieporiai.lt
SUMMARY:Pozityvumo savaitė.
DESCRIPTION:Smurto ir patyčių prevencijos programa.
URL:https://www.lieporiai.lt/renginys/pozityvumo-savaite-2/
END:VEVENT
BEGIN:VEVENT
DTSTART;VALUE=DATE:20240314
DTEND;VALUE=DATE:20240315
DTSTAMP:20260420T211448
CREATED:20240301T101652Z
LAST-MODIFIED:20240301T101652Z
UID:23115-1710374400-1710460799@www.lieporiai.lt
SUMMARY:Skaičiaus PI diena
DESCRIPTION:
URL:https://www.lieporiai.lt/renginys/skaiciaus-pi-diena/
END:VEVENT
BEGIN:VEVENT
DTSTART;TZID=Europe/Vilnius:20240313T173000
DTEND;TZID=Europe/Vilnius:20240313T193000
DTSTAMP:20260420T211448
CREATED:20240301T101624Z
LAST-MODIFIED:20240301T101624Z
UID:23113-1710351000-1710358200@www.lieporiai.lt
SUMMARY:Abiturientų šimtadienis \,\,Aplink pasaulį per 47 minutes".
DESCRIPTION:
URL:https://www.lieporiai.lt/renginys/abiturientu-simtadienis-aplink-pasauli-per-47-minutes/
END:VEVENT
BEGIN:VEVENT
DTSTART;TZID=Europe/Vilnius:20240313T123000
DTEND;TZID=Europe/Vilnius:20240313T133000
DTSTAMP:20260420T211448
CREATED:20240301T101526Z
LAST-MODIFIED:20240301T101526Z
UID:23111-1710333000-1710336600@www.lieporiai.lt
SUMMARY:Abiturientų spektaklis \,\,Aplink pasaulį per 47 minutes" Lieporių gimnazistams ir draugams
DESCRIPTION:
URL:https://www.lieporiai.lt/renginys/abiturientu-spektaklis-aplink-pasauli-per-47-minutes-lieporiu-gimnazistams-ir-draugams/
END:VEVENT
BEGIN:VEVENT
DTSTART;TZID=Europe/Vilnius:20240312T110000
DTEND;TZID=Europe/Vilnius:20240312T120000
DTSTAMP:20260420T211448
CREATED:20240301T102812Z
LAST-MODIFIED:20240301T102812Z
UID:23119-1710241200-1710244800@www.lieporiai.lt
SUMMARY:Užsiėmimas \,\,SMILE" būrelio nariams \,\,Sveika mityba".
DESCRIPTION:
URL:https://www.lieporiai.lt/renginys/uzsiemimas-smile-burelio-nariams-sveika-mityba/
END:VEVENT
BEGIN:VEVENT
DTSTART;TZID=Europe/Vilnius:20240311T103000
DTEND;TZID=Europe/Vilnius:20240311T120000
DTSTAMP:20260420T211448
CREATED:20240301T101340Z
LAST-MODIFIED:20240301T101340Z
UID:23109-1710153000-1710158400@www.lieporiai.lt
SUMMARY:Kovo 11-osios trispalvės žygis \,\,Lietuva mūsų širdyse"
DESCRIPTION:Dalyvauja I gimnazinių klasių mokiniai ir klasių vadovai.
URL:https://www.lieporiai.lt/renginys/kovo-11-osios-trispalves-zygis-lietuva-musu-sirdyse/
END:VEVENT
BEGIN:VEVENT
DTSTART;TZID=Europe/Vilnius:20240310T080000
DTEND;TZID=Europe/Vilnius:20240311T170000
DTSTAMP:20260420T211448
CREATED:20240301T102929Z
LAST-MODIFIED:20240301T102929Z
UID:23121-1710057600-1710176400@www.lieporiai.lt
SUMMARY:Šiaulių krašto skautiška olimpiada Lieporių gimnazijoje.
DESCRIPTION:
URL:https://www.lieporiai.lt/renginys/siauliu-krasto-skautiska-olimpiada-lieporiu-gimnazijoje/
END:VEVENT
BEGIN:VEVENT
DTSTART;TZID=Europe/Vilnius:20240228T120000
DTEND;TZID=Europe/Vilnius:20240228T130000
DTSTAMP:20260420T211448
CREATED:20240130T081113Z
LAST-MODIFIED:20240130T081113Z
UID:22918-1709121600-1709125200@www.lieporiai.lt
SUMMARY:Šiaulių regiono moksleivių raštingumo konkursas VIII-XII kl.
DESCRIPTION:
URL:https://www.lieporiai.lt/renginys/siauliu-regiono-moksleiviu-rastingumo-konkursas-viii-xii-kl/
END:VEVENT
BEGIN:VEVENT
DTSTART;TZID=Europe/Vilnius:20240215T080000
DTEND;TZID=Europe/Vilnius:20240215T083000
DTSTAMP:20260420T211448
CREATED:20240130T081022Z
LAST-MODIFIED:20240130T081022Z
UID:22916-1707984000-1707985800@www.lieporiai.lt
SUMMARY:Vasario 16 d. minėjimas gimnazijoje.
DESCRIPTION:
URL:https://www.lieporiai.lt/renginys/vasario-16-d-minejimas-gimnazijoje/
END:VEVENT
BEGIN:VEVENT
DTSTART;TZID=Europe/Vilnius:20240213T115000
DTEND;TZID=Europe/Vilnius:20240213T121500
DTSTAMP:20260420T211448
CREATED:20240213T074942Z
LAST-MODIFIED:20240213T074942Z
UID:23011-1707825000-1707826500@www.lieporiai.lt
SUMMARY:Užgavėnių šventė.
DESCRIPTION:Po 4 pamokų I aukšto foje.
URL:https://www.lieporiai.lt/renginys/uzgaveniu-svente/
END:VEVENT
BEGIN:VEVENT
DTSTART;TZID=Europe/Vilnius:20240212T180000
DTEND;TZID=Europe/Vilnius:20240212T190000
DTSTAMP:20260420T211448
CREATED:20240130T080944Z
LAST-MODIFIED:20240201T075828Z
UID:22914-1707760800-1707764400@www.lieporiai.lt
SUMMARY:\,\,Baisiai graži Morė" išlydėtuvių procesija.
DESCRIPTION:Dalyvauja II klasių mokiniai ir klasių vadovai.
URL:https://www.lieporiai.lt/renginys/baisiai-grazi-more-islydetuviu-procesija/
END:VEVENT
BEGIN:VEVENT
DTSTART;TZID=Europe/Vilnius:20240209T180000
DTEND;TZID=Europe/Vilnius:20240210T140000
DTSTAMP:20260420T211448
CREATED:20240206T075858Z
LAST-MODIFIED:20240206T075858Z
UID:22947-1707501600-1707573600@www.lieporiai.lt
SUMMARY:Stovykla \,\,Skautnaktis".
DESCRIPTION:Dalyviai – skautai.
URL:https://www.lieporiai.lt/renginys/stovykla-skautnaktis/
END:VEVENT
END:VCALENDAR