BEGIN:VCALENDAR
VERSION:2.0
PRODID:-//&Scaron;iaulių Lieporių gimnazija - ECPv6.15.18//NONSGML v1.0//EN
CALSCALE:GREGORIAN
METHOD:PUBLISH
X-WR-CALNAME:&Scaron;iaulių Lieporių gimnazija
X-ORIGINAL-URL:https://www.lieporiai.lt
X-WR-CALDESC:&Scaron;iaulių Lieporių gimnazija renginiai
REFRESH-INTERVAL;VALUE=DURATION:PT1H
X-Robots-Tag:noindex
X-PUBLISHED-TTL:PT1H
BEGIN:VTIMEZONE
TZID:Europe/Vilnius
BEGIN:DAYLIGHT
TZOFFSETFROM:+0200
TZOFFSETTO:+0300
TZNAME:EEST
DTSTART:20240331T010000
END:DAYLIGHT
BEGIN:STANDARD
TZOFFSETFROM:+0300
TZOFFSETTO:+0200
TZNAME:EET
DTSTART:20241027T010000
END:STANDARD
BEGIN:DAYLIGHT
TZOFFSETFROM:+0200
TZOFFSETTO:+0300
TZNAME:EEST
DTSTART:20250330T010000
END:DAYLIGHT
BEGIN:STANDARD
TZOFFSETFROM:+0300
TZOFFSETTO:+0200
TZNAME:EET
DTSTART:20251026T010000
END:STANDARD
BEGIN:DAYLIGHT
TZOFFSETFROM:+0200
TZOFFSETTO:+0300
TZNAME:EEST
DTSTART:20260329T010000
END:DAYLIGHT
BEGIN:STANDARD
TZOFFSETFROM:+0300
TZOFFSETTO:+0200
TZNAME:EET
DTSTART:20261025T010000
END:STANDARD
END:VTIMEZONE
BEGIN:VEVENT
DTSTART;TZID=Europe/Vilnius:20250422T130000
DTEND;TZID=Europe/Vilnius:20250422T150000
DTSTAMP:20260420T162248
CREATED:20250410T073934Z
LAST-MODIFIED:20250410T073934Z
UID:26379-1745326800-1745334000@www.lieporiai.lt
SUMMARY:Seminaras Lieporių bendruomenei \,\,Korupcijos prevencija. Dovanų politika"
DESCRIPTION:
URL:https://www.lieporiai.lt/renginys/seminaras-lieporiu-bendruomenei-korupcijos-prevencija-dovanu-politika/
END:VEVENT
BEGIN:VEVENT
DTSTART;TZID=Europe/Vilnius:20250423T080000
DTEND;TZID=Europe/Vilnius:20250423T170000
DTSTAMP:20260420T162248
CREATED:20250410T074049Z
LAST-MODIFIED:20250410T074049Z
UID:26381-1745395200-1745427600@www.lieporiai.lt
SUMMARY:Anglų kalbos VBE
DESCRIPTION:
URL:https://www.lieporiai.lt/renginys/anglu-kalbos-vbe/
END:VEVENT
BEGIN:VEVENT
DTSTART;TZID=Europe/Vilnius:20250424T080000
DTEND;TZID=Europe/Vilnius:20250424T170000
DTSTAMP:20260420T162248
CREATED:20250410T074122Z
LAST-MODIFIED:20250410T074122Z
UID:26383-1745481600-1745514000@www.lieporiai.lt
SUMMARY:Anglų kalbos VBE
DESCRIPTION:
URL:https://www.lieporiai.lt/renginys/anglu-kalbos-vbe-2/
END:VEVENT
BEGIN:VEVENT
DTSTART;VALUE=DATE:20250426
DTEND;VALUE=DATE:20250427
DTSTAMP:20260420T162248
CREATED:20250327T132408Z
LAST-MODIFIED:20250327T132408Z
UID:26300-1745625600-1745711999@www.lieporiai.lt
SUMMARY:Lietuvos skautijos pavasario šventė Telšiuose.
DESCRIPTION:Dalyviai: skautų būrys ir vadovas M. Šlapelis
URL:https://www.lieporiai.lt/renginys/lietuvos-skautijos-pavasario-svente-telsiuose/
END:VEVENT
BEGIN:VEVENT
DTSTART;TZID=Europe/Vilnius:20250506T115000
DTEND;TZID=Europe/Vilnius:20250506T121500
DTSTAMP:20260420T162248
CREATED:20250505T112127Z
LAST-MODIFIED:20250505T112127Z
UID:26488-1746532200-1746533700@www.lieporiai.lt
SUMMARY:Mokinių kūrybinių darbų parodų atidarymas.
DESCRIPTION:
URL:https://www.lieporiai.lt/renginys/mokiniu-kurybiniu-darbu-parodu-atidarymas/
END:VEVENT
BEGIN:VEVENT
DTSTART;TZID=Europe/Vilnius:20250514T084500
DTEND;TZID=Europe/Vilnius:20250514T113000
DTSTAMP:20260420T162248
CREATED:20250513T120933Z
LAST-MODIFIED:20250513T123431Z
UID:26524-1747212300-1747222200@www.lieporiai.lt
SUMMARY:Matematikos PUPP
DESCRIPTION:
URL:https://www.lieporiai.lt/renginys/matematikos-pupp/
END:VEVENT
BEGIN:VEVENT
DTSTART;TZID=Europe/Vilnius:20250515T173000
DTEND;TZID=Europe/Vilnius:20250515T193000
DTSTAMP:20260420T162248
CREATED:20250317T135952Z
LAST-MODIFIED:20250410T073546Z
UID:26253-1747330200-1747337400@www.lieporiai.lt
SUMMARY:Lieporių garbė. Žaliojo kilimo diena.
DESCRIPTION:
URL:https://www.lieporiai.lt/renginys/lieporiu-garbe-zaliojo-kilimo-diena-3/
END:VEVENT
BEGIN:VEVENT
DTSTART;TZID=Europe/Vilnius:20250516T115000
DTEND;TZID=Europe/Vilnius:20250516T121500
DTSTAMP:20260420T162248
CREATED:20250515T092841Z
LAST-MODIFIED:20250515T092841Z
UID:26597-1747396200-1747397700@www.lieporiai.lt
SUMMARY:Vaikų dienos minėjimas
DESCRIPTION:
URL:https://www.lieporiai.lt/renginys/vaiku-dienos-minejimas/
END:VEVENT
BEGIN:VEVENT
DTSTART;VALUE=DATE:20250517
DTEND;VALUE=DATE:20250518
DTSTAMP:20260420T162248
CREATED:20250429T044402Z
LAST-MODIFIED:20250429T044402Z
UID:26480-1747440000-1747526399@www.lieporiai.lt
SUMMARY:Šiaulių skautų 1-asis laužas \,\,Gegužinė"
DESCRIPTION:Dalyviai: skautai ir vadovas
URL:https://www.lieporiai.lt/renginys/siauliu-skautu-1-asis-lauzas-geguzine/
END:VEVENT
BEGIN:VEVENT
DTSTART;TZID=Europe/Vilnius:20250526T103500
DTEND;TZID=Europe/Vilnius:20250526T121500
DTSTAMP:20260420T162248
CREATED:20250515T092109Z
LAST-MODIFIED:20250523T093002Z
UID:26595-1748255700-1748261700@www.lieporiai.lt
SUMMARY:Krūvių skirstymas 2025-2026 m.m.
DESCRIPTION:
URL:https://www.lieporiai.lt/renginys/kruviu-skirstymas-2025-2026-m-m/
END:VEVENT
BEGIN:VEVENT
DTSTART;TZID=Europe/Vilnius:20250526T150000
DTEND;TZID=Europe/Vilnius:20250526T170000
DTSTAMP:20260420T162248
CREATED:20250513T123534Z
LAST-MODIFIED:20250513T123534Z
UID:26555-1748271600-1748278800@www.lieporiai.lt
SUMMARY:Mokytojų tarybos posėdis
DESCRIPTION:
URL:https://www.lieporiai.lt/renginys/mokytoju-tarybos-posedis-34/
END:VEVENT
BEGIN:VEVENT
DTSTART;TZID=Europe/Vilnius:20250527T180000
DTEND;TZID=Europe/Vilnius:20250527T190000
DTSTAMP:20260420T162248
CREATED:20250425T080154Z
LAST-MODIFIED:20250425T080154Z
UID:26451-1748368800-1748372400@www.lieporiai.lt
SUMMARY:Susitikimas su būsimais gimnazistais ir jų tėveliais.
DESCRIPTION:Vieta: Lieporių gimnazijos aktų salė.
URL:https://www.lieporiai.lt/renginys/susitikimas-su-busimais-gimnazistais-ir-ju-teveliais/
END:VEVENT
BEGIN:VEVENT
DTSTART;TZID=Europe/Vilnius:20250528T083000
DTEND;TZID=Europe/Vilnius:20250528T110000
DTSTAMP:20260420T162248
CREATED:20250523T085147Z
LAST-MODIFIED:20250523T085147Z
UID:26830-1748421000-1748430000@www.lieporiai.lt
SUMMARY:Dalyvavimas progresyvių mokyklų programoje.
DESCRIPTION:Dalyviai: administracija
URL:https://www.lieporiai.lt/renginys/dalyvavimas-progresyviu-mokyklu-programoje/
END:VEVENT
BEGIN:VEVENT
DTSTART;TZID=Europe/Vilnius:20250528T140000
DTEND;TZID=Europe/Vilnius:20250528T153000
DTSTAMP:20260420T162248
CREATED:20250515T102027Z
LAST-MODIFIED:20250523T092901Z
UID:26599-1748440800-1748446200@www.lieporiai.lt
SUMMARY:Krūvių skirstymas 2025-2026 m.m.
DESCRIPTION:
URL:https://www.lieporiai.lt/renginys/kruviu-skirstymas-2025-2026-m-m-2/
END:VEVENT
BEGIN:VEVENT
DTSTART;TZID=Europe/Vilnius:20250529T100000
DTEND;TZID=Europe/Vilnius:20250529T130000
DTSTAMP:20260420T162248
CREATED:20250410T073700Z
LAST-MODIFIED:20250410T073700Z
UID:26375-1748512800-1748523600@www.lieporiai.lt
SUMMARY:Paskutinis skambutis.
DESCRIPTION:
URL:https://www.lieporiai.lt/renginys/paskutinis-skambutis/
END:VEVENT
BEGIN:VEVENT
DTSTART;TZID=Europe/Vilnius:20250530T084500
DTEND;TZID=Europe/Vilnius:20250530T103000
DTSTAMP:20260420T162248
CREATED:20250513T121817Z
LAST-MODIFIED:20250513T121817Z
UID:26530-1748594700-1748601000@www.lieporiai.lt
SUMMARY:Matematikos VBE I dalis
DESCRIPTION:
URL:https://www.lieporiai.lt/renginys/matematikos-vbe-i-dalis/
END:VEVENT
BEGIN:VEVENT
DTSTART;TZID=Europe/Vilnius:20250602T103000
DTEND;TZID=Europe/Vilnius:20250602T121500
DTSTAMP:20260420T162248
CREATED:20250515T102056Z
LAST-MODIFIED:20250523T092602Z
UID:26601-1748860200-1748866500@www.lieporiai.lt
SUMMARY:Krūvių skirstymas 2025-2026 m.m.
DESCRIPTION:
URL:https://www.lieporiai.lt/renginys/kruviu-skirstymas-2025-2026-m-m-3/
END:VEVENT
BEGIN:VEVENT
DTSTART;TZID=Europe/Vilnius:20250603T120000
DTEND;TZID=Europe/Vilnius:20250603T130000
DTSTAMP:20260420T162248
CREATED:20250515T080445Z
LAST-MODIFIED:20250515T080445Z
UID:26568-1748952000-1748955600@www.lieporiai.lt
SUMMARY:SKU ir Lions Quest mokinių konferencija.
DESCRIPTION:Tikslinė mokinių grupė
URL:https://www.lieporiai.lt/renginys/sku-ir-lions-quest-mokiniu-konferencija/
END:VEVENT
BEGIN:VEVENT
DTSTART;TZID=Europe/Vilnius:20250604T084500
DTEND;TZID=Europe/Vilnius:20250604T133000
DTSTAMP:20260420T162248
CREATED:20250513T121919Z
LAST-MODIFIED:20250513T121919Z
UID:26532-1749026700-1749043800@www.lieporiai.lt
SUMMARY:Lietuvių kalbos ir literatūros VBE II dalis
DESCRIPTION:
URL:https://www.lieporiai.lt/renginys/lietuviu-kalbos-ir-literaturos-vbe-ii-dalis/
END:VEVENT
BEGIN:VEVENT
DTSTART;TZID=Europe/Vilnius:20250604T170000
DTEND;TZID=Europe/Vilnius:20250604T190000
DTSTAMP:20260420T162248
CREATED:20250317T140030Z
LAST-MODIFIED:20250410T073624Z
UID:26255-1749056400-1749063600@www.lieporiai.lt
SUMMARY:Bendruomenės šventė \,\,Gimtadienis"
DESCRIPTION:
URL:https://www.lieporiai.lt/renginys/bendruomenes-diena/
END:VEVENT
BEGIN:VEVENT
DTSTART;TZID=Europe/Vilnius:20250605T084500
DTEND;TZID=Europe/Vilnius:20250605T103000
DTSTAMP:20260420T162248
CREATED:20250513T122032Z
LAST-MODIFIED:20250513T122032Z
UID:26534-1749113100-1749119400@www.lieporiai.lt
SUMMARY:Istorijos VBE I dalis
DESCRIPTION:
URL:https://www.lieporiai.lt/renginys/istorijos-vbe-i-dalis/
END:VEVENT
BEGIN:VEVENT
DTSTART;TZID=Europe/Vilnius:20250606T084500
DTEND;TZID=Europe/Vilnius:20250606T120000
DTSTAMP:20260420T162248
CREATED:20250513T122258Z
LAST-MODIFIED:20250513T122258Z
UID:26536-1749199500-1749211200@www.lieporiai.lt
SUMMARY:Matematikos VBE II dalis
DESCRIPTION:
URL:https://www.lieporiai.lt/renginys/matematikos-vbe-ii-dalis/
END:VEVENT
BEGIN:VEVENT
DTSTART;TZID=Europe/Vilnius:20250606T100000
DTEND;TZID=Europe/Vilnius:20250606T130000
DTSTAMP:20260420T162248
CREATED:20250513T121127Z
LAST-MODIFIED:20250513T121127Z
UID:26526-1749204000-1749214800@www.lieporiai.lt
SUMMARY:Sveikatingumo ir tvarumo diena.
DESCRIPTION:
URL:https://www.lieporiai.lt/renginys/sveikatingumo-ir-tvarumo-diena/
END:VEVENT
BEGIN:VEVENT
DTSTART;TZID=Europe/Vilnius:20250609T084500
DTEND;TZID=Europe/Vilnius:20250609T120000
DTSTAMP:20260420T162248
CREATED:20250513T122410Z
LAST-MODIFIED:20250513T122410Z
UID:26538-1749458700-1749470400@www.lieporiai.lt
SUMMARY:Užsienio (anglų) kalbos VBE II dalis
DESCRIPTION:
URL:https://www.lieporiai.lt/renginys/uzsienio-anglu-kalbos-vbe-ii-dalis/
END:VEVENT
BEGIN:VEVENT
DTSTART;TZID=Europe/Vilnius:20250609T100000
DTEND;TZID=Europe/Vilnius:20250609T123000
DTSTAMP:20260420T162248
CREATED:20250513T121200Z
LAST-MODIFIED:20250513T121200Z
UID:26528-1749463200-1749472200@www.lieporiai.lt
SUMMARY:Filmo diena
DESCRIPTION:
URL:https://www.lieporiai.lt/renginys/filmo-diena/
END:VEVENT
BEGIN:VEVENT
DTSTART;TZID=Europe/Vilnius:20250610T084500
DTEND;TZID=Europe/Vilnius:20250610T103000
DTSTAMP:20260420T162248
CREATED:20250513T122542Z
LAST-MODIFIED:20250513T122542Z
UID:26540-1749545100-1749551400@www.lieporiai.lt
SUMMARY:Užsienio (anglų) kalbos VBE I dalis
DESCRIPTION:
URL:https://www.lieporiai.lt/renginys/uzsienio-anglu-kalbos-vbe-i-dalis/
END:VEVENT
BEGIN:VEVENT
DTSTART;TZID=Europe/Vilnius:20250611T084500
DTEND;TZID=Europe/Vilnius:20250611T103000
DTSTAMP:20260420T162248
CREATED:20250513T122631Z
LAST-MODIFIED:20250513T122631Z
UID:26542-1749631500-1749637800@www.lieporiai.lt
SUMMARY:Informatikos VBE I dalis
DESCRIPTION:
URL:https://www.lieporiai.lt/renginys/informatikos-vbe-i-dalis/
END:VEVENT
BEGIN:VEVENT
DTSTART;TZID=Europe/Vilnius:20250612T084500
DTEND;TZID=Europe/Vilnius:20250612T123000
DTSTAMP:20260420T162248
CREATED:20250513T122715Z
LAST-MODIFIED:20250513T122715Z
UID:26544-1749717900-1749731400@www.lieporiai.lt
SUMMARY:Informatikos VBE II dalis
DESCRIPTION:
URL:https://www.lieporiai.lt/renginys/informatikos-vbe-ii-dalis/
END:VEVENT
BEGIN:VEVENT
DTSTART;TZID=Europe/Vilnius:20250612T120000
DTEND;TZID=Europe/Vilnius:20250612T133000
DTSTAMP:20260420T162248
CREATED:20250410T073810Z
LAST-MODIFIED:20250410T073810Z
UID:26377-1749729600-1749735000@www.lieporiai.lt
SUMMARY:Spektaklio \,\,Man šiandien - Hamletas" peržiūra Šiaulių Dramos teatre.
DESCRIPTION:
URL:https://www.lieporiai.lt/renginys/spektaklio-man-siandien-hamletas-perziura-siauliu-dramos-teatre/
END:VEVENT
BEGIN:VEVENT
DTSTART;TZID=Europe/Vilnius:20250613T084500
DTEND;TZID=Europe/Vilnius:20250613T103000
DTSTAMP:20260420T162248
CREATED:20250513T122753Z
LAST-MODIFIED:20250513T122753Z
UID:26546-1749804300-1749810600@www.lieporiai.lt
SUMMARY:Biologijos VBE I dalis
DESCRIPTION:
URL:https://www.lieporiai.lt/renginys/biologijos-vbe-i-dalis/
END:VEVENT
END:VCALENDAR