BEGIN:VCALENDAR
VERSION:2.0
PRODID:-//&Scaron;iaulių Lieporių gimnazija - ECPv6.15.18//NONSGML v1.0//EN
CALSCALE:GREGORIAN
METHOD:PUBLISH
X-WR-CALNAME:&Scaron;iaulių Lieporių gimnazija
X-ORIGINAL-URL:https://www.lieporiai.lt
X-WR-CALDESC:&Scaron;iaulių Lieporių gimnazija renginiai
REFRESH-INTERVAL;VALUE=DURATION:PT1H
X-Robots-Tag:noindex
X-PUBLISHED-TTL:PT1H
BEGIN:VTIMEZONE
TZID:Europe/Vilnius
BEGIN:DAYLIGHT
TZOFFSETFROM:+0200
TZOFFSETTO:+0300
TZNAME:EEST
DTSTART:20200329T010000
END:DAYLIGHT
BEGIN:STANDARD
TZOFFSETFROM:+0300
TZOFFSETTO:+0200
TZNAME:EET
DTSTART:20201025T010000
END:STANDARD
BEGIN:DAYLIGHT
TZOFFSETFROM:+0200
TZOFFSETTO:+0300
TZNAME:EEST
DTSTART:20210328T010000
END:DAYLIGHT
BEGIN:STANDARD
TZOFFSETFROM:+0300
TZOFFSETTO:+0200
TZNAME:EET
DTSTART:20211031T010000
END:STANDARD
BEGIN:DAYLIGHT
TZOFFSETFROM:+0200
TZOFFSETTO:+0300
TZNAME:EEST
DTSTART:20220327T010000
END:DAYLIGHT
BEGIN:STANDARD
TZOFFSETFROM:+0300
TZOFFSETTO:+0200
TZNAME:EET
DTSTART:20221030T010000
END:STANDARD
END:VTIMEZONE
BEGIN:VEVENT
DTSTART;TZID=Europe/Vilnius:20210429T150000
DTEND;TZID=Europe/Vilnius:20210429T160000
DTSTAMP:20260425T134259
CREATED:20210331T165241Z
LAST-MODIFIED:20210331T165241Z
UID:14773-1619708400-1619712000@www.lieporiai.lt
SUMMARY:STEAM Botanikos sodų vaidmuo šiandien
DESCRIPTION:  \nSTEAM Botanikos sodų vaidmuo šiandien
URL:https://www.lieporiai.lt/renginys/steam-botanikos-sodu-vaidmuo-siandien/
END:VEVENT
BEGIN:VEVENT
DTSTART;TZID=Europe/Vilnius:20210429T104500
DTEND;TZID=Europe/Vilnius:20210429T110000
DTSTAMP:20260425T134259
CREATED:20210429T074841Z
LAST-MODIFIED:20210429T074841Z
UID:14875-1619693100-1619694000@www.lieporiai.lt
SUMMARY:Mokytojų tarybos posėdis
DESCRIPTION:Dėl abiturientų sugrįžimo į mokyklą
URL:https://www.lieporiai.lt/renginys/mokytoju-tarybos-posedis-5/
END:VEVENT
BEGIN:VEVENT
DTSTART;TZID=Europe/Vilnius:20210428T110000
DTEND;TZID=Europe/Vilnius:20210428T113000
DTSTAMP:20260425T134259
CREATED:20210426T074502Z
LAST-MODIFIED:20210427T065726Z
UID:14868-1619607600-1619609400@www.lieporiai.lt
SUMMARY:\,\,Auksiniai kiaušiniai". Mokinių taryba
DESCRIPTION:\,\,Auksiniai kiaušiniai”. Mokinių taryba. Mok. I. Dagienė
URL:https://www.lieporiai.lt/renginys/auksiniai-kiausiniai-mokiniu-taryba/
END:VEVENT
BEGIN:VEVENT
DTSTART;TZID=Europe/Vilnius:20210428T110000
DTEND;TZID=Europe/Vilnius:20210428T113000
DTSTAMP:20260425T134259
CREATED:20210421T101450Z
LAST-MODIFIED:20210421T101450Z
UID:14845-1619607600-1619609400@www.lieporiai.lt
SUMMARY:Pažintis su kario profesija. Lektorius Vyr. srž. Darius Pileckas
DESCRIPTION:
URL:https://www.lieporiai.lt/renginys/pazintis-su-kario-profesija-lektorius-vyr-srz-darius-pileckas/
END:VEVENT
BEGIN:VEVENT
DTSTART;TZID=Europe/Vilnius:20210428T104500
DTEND;TZID=Europe/Vilnius:20210428T114500
DTSTAMP:20260425T134259
CREATED:20210421T074529Z
LAST-MODIFIED:20210421T074529Z
UID:14824-1619606700-1619610300@www.lieporiai.lt
SUMMARY:Projektas „Mažasis sveikos gyvensenos ambasadorius“
DESCRIPTION:Projektas „Mažasis sveikos gyvensenos ambasadorius“. Forumas. I dalis. Id ir IIb klasės.
URL:https://www.lieporiai.lt/renginys/projektas-mazasis-sveikos-gyvensenos-ambasadorius/
END:VEVENT
BEGIN:VEVENT
DTSTART;VALUE=DATE:20210428
DTEND;VALUE=DATE:20210429
DTSTAMP:20260425T134259
CREATED:20210331T165153Z
LAST-MODIFIED:20210331T165153Z
UID:14771-1619568000-1619654399@www.lieporiai.lt
SUMMARY:LAMA BPO seminaras karjeros specialistams
DESCRIPTION:
URL:https://www.lieporiai.lt/renginys/lama-bpo-seminaras-karjeros-specialistams-2/
END:VEVENT
BEGIN:VEVENT
DTSTART;VALUE=DATE:20210428
DTEND;VALUE=DATE:20210429
DTSTAMP:20260425T134259
CREATED:20210329T144116Z
LAST-MODIFIED:20210329T144116Z
UID:14718-1619568000-1619654399@www.lieporiai.lt
SUMMARY:Technologijų egzaminas
DESCRIPTION:
URL:https://www.lieporiai.lt/renginys/technologiju-egzaminas/
END:VEVENT
BEGIN:VEVENT
DTSTART;TZID=Europe/Vilnius:20210427T150000
DTEND;TZID=Europe/Vilnius:20210427T154500
DTSTAMP:20260425T134259
CREATED:20210421T073921Z
LAST-MODIFIED:20210421T073921Z
UID:14822-1619535600-1619538300@www.lieporiai.lt
SUMMARY:Istorijos konsultacija
DESCRIPTION:Istorijos konsultacija. Mok. Irena Dagienė
URL:https://www.lieporiai.lt/renginys/istorijos-konsultacija/
END:VEVENT
BEGIN:VEVENT
DTSTART;TZID=Europe/Vilnius:20210426T150000
DTEND;TZID=Europe/Vilnius:20210426T170000
DTSTAMP:20260425T134259
CREATED:20210422T115606Z
LAST-MODIFIED:20210422T115606Z
UID:14858-1619449200-1619456400@www.lieporiai.lt
SUMMARY:Administracijos ir abiturientų auklėtojų susirinkimas
DESCRIPTION:Administracijos ir abiturientų auklėtojų susirinkimas dėl abiturientų grįžimo į kontaktinį mokymą(si )
URL:https://www.lieporiai.lt/renginys/administracijos-ir-abiturientu-aukletoju-susirinkimas/
END:VEVENT
BEGIN:VEVENT
DTSTART;VALUE=DATE:20210423
DTEND;VALUE=DATE:20210424
DTSTAMP:20260425T134259
CREATED:20210412T112704Z
LAST-MODIFIED:20210419T073425Z
UID:14801-1619136000-1619222399@www.lieporiai.lt
SUMMARY:PUPP. Matematika.
DESCRIPTION:
URL:https://www.lieporiai.lt/renginys/pupp-matematika/
END:VEVENT
BEGIN:VEVENT
DTSTART;TZID=Europe/Vilnius:20210422T180000
DTEND;TZID=Europe/Vilnius:20210422T190000
DTSTAMP:20260425T134259
CREATED:20210421T101313Z
LAST-MODIFIED:20210421T101313Z
UID:14843-1619114400-1619118000@www.lieporiai.lt
SUMMARY:Virtualus susitikimas su Donatu Montvydu
DESCRIPTION:Pažintis su dainininko profesija.
URL:https://www.lieporiai.lt/renginys/virtualus-susitikimas-su-donatu-montvydu/
END:VEVENT
BEGIN:VEVENT
DTSTART;TZID=Europe/Vilnius:20210422T143000
DTEND;TZID=Europe/Vilnius:20210422T173000
DTSTAMP:20260425T134259
CREATED:20210421T074852Z
LAST-MODIFIED:20210421T074852Z
UID:14828-1619101800-1619112600@www.lieporiai.lt
SUMMARY:Socialinė-pilietinė veikla. Lieporių parko tvarkymas
DESCRIPTION:Socialinė-pilietinė veikla. Lieporių parko tvarkymas. Id klasė. Mok. Lina Žukauskienė
URL:https://www.lieporiai.lt/renginys/socialine-pilietine-veikla-lieporiu-parko-tvarkymas/
END:VEVENT
BEGIN:VEVENT
DTSTART;TZID=Europe/Vilnius:20210422T090000
DTEND;TZID=Europe/Vilnius:20210422T110000
DTSTAMP:20260425T134259
CREATED:20210421T075434Z
LAST-MODIFIED:20210421T075434Z
UID:14835-1619082000-1619089200@www.lieporiai.lt
SUMMARY:Administracijos posėdis
DESCRIPTION:Dėl kokybės vadybos sistemos gimnazijoje. Direktorė Sigita Malinauskienė
URL:https://www.lieporiai.lt/renginys/administracijos-posedis-2/
END:VEVENT
BEGIN:VEVENT
DTSTART;VALUE=DATE:20210421
DTEND;VALUE=DATE:20210422
DTSTAMP:20260425T134259
CREATED:20210412T112632Z
LAST-MODIFIED:20210419T073449Z
UID:14799-1618963200-1619049599@www.lieporiai.lt
SUMMARY:PUPP. Lietuvių kalba
DESCRIPTION:
URL:https://www.lieporiai.lt/renginys/pupp-lietuviu-kalba-2/
END:VEVENT
BEGIN:VEVENT
DTSTART;TZID=Europe/Vilnius:20210420T150000
DTEND;TZID=Europe/Vilnius:20210420T160000
DTSTAMP:20260425T134259
CREATED:20210409T055237Z
LAST-MODIFIED:20210414T074943Z
UID:14788-1618930800-1618934400@www.lieporiai.lt
SUMMARY:Mokytojų tarybos posėdis
DESCRIPTION:Mokytojų tarybos posėdis dėl vidaus kontrolės sistemos diegimo
URL:https://www.lieporiai.lt/renginys/mokytoju-tarybos-posedis-4/
END:VEVENT
BEGIN:VEVENT
DTSTART;TZID=Europe/Vilnius:20210419T110000
DTEND;TZID=Europe/Vilnius:20210419T130000
DTSTAMP:20260425T134259
CREATED:20210419T072743Z
LAST-MODIFIED:20210419T072743Z
UID:14817-1618830000-1618837200@www.lieporiai.lt
SUMMARY:Administracinis posėdis
DESCRIPTION:Dėl PUPP ir egzaminų organizavimo. (K. Ališauskaitė\, S. Urbas) \nDėl veiklos kokybės įsivertinimo organizavimo. (A. Šliažienė) \nDėl gegužės mėnesio renginių planavimo. (A. Meškauskienė)
URL:https://www.lieporiai.lt/renginys/administracinis-posedis-2/
END:VEVENT
BEGIN:VEVENT
DTSTART;VALUE=DATE:20210419
DTEND;VALUE=DATE:20210420
DTSTAMP:20260425T134259
CREATED:20210419T072309Z
LAST-MODIFIED:20210419T072309Z
UID:14815-1618790400-1618876799@www.lieporiai.lt
SUMMARY:Paskaita \,\,Pasitikėjimo savimi svarba ir jo stiprinimas". Ic kl.
DESCRIPTION:Ic klasės susitikimas su psichologe. \,\,Pasitikėjimo savimi svarba ir jo stiprinimas”. Lektorė Kristina Jurienė
URL:https://www.lieporiai.lt/renginys/paskaita-pasitikejimo-savimi-svarba-ir-jo-stiprinimas-ic-kl/
END:VEVENT
BEGIN:VEVENT
DTSTART;TZID=Europe/Vilnius:20210416T130000
DTEND;TZID=Europe/Vilnius:20210416T134500
DTSTAMP:20260425T134259
CREATED:20210415T070605Z
LAST-MODIFIED:20210415T070605Z
UID:14809-1618578000-1618580700@www.lieporiai.lt
SUMMARY:Integruota etikos pamoka \,\,Stresas. Streso įveikos būdai"
DESCRIPTION:Integruota etikos pamoka \,\,Stresas. Streso įveikos būdai” IIa kl. Lektorės: Laima Gricienė ir Edita Banevičienė
URL:https://www.lieporiai.lt/renginys/integruota-etikos-pamoka-stresas-streso-iveikos-budai-2/
END:VEVENT
BEGIN:VEVENT
DTSTART;TZID=Europe/Vilnius:20210416T100000
DTEND;TZID=Europe/Vilnius:20210416T140000
DTSTAMP:20260425T134259
CREATED:20210416T060510Z
LAST-MODIFIED:20210416T060510Z
UID:14811-1618567200-1618581600@www.lieporiai.lt
SUMMARY:\,\,Misija-Pilietis" dalyvauja šaudymo varžybose
DESCRIPTION:\,\,Misija-Pilietis” dalyvauja šaudymo varžybose Normundo Valterio metinėms paminėti. Mok. Darius Dirvelis
URL:https://www.lieporiai.lt/renginys/misija-pilietis-dalyvauja-saudymo-varzybose/
END:VEVENT
BEGIN:VEVENT
DTSTART;TZID=Europe/Vilnius:20210415T150000
DTEND;TZID=Europe/Vilnius:20210415T160000
DTSTAMP:20260425T134259
CREATED:20210331T165118Z
LAST-MODIFIED:20210331T165118Z
UID:14769-1618498800-1618502400@www.lieporiai.lt
SUMMARY:STEAM
DESCRIPTION:STEAM Inovacijos energetikos sektoriuje: diegimas\, valdymas ir realūs pavyzdžiai
URL:https://www.lieporiai.lt/renginys/steam/
END:VEVENT
BEGIN:VEVENT
DTSTART;VALUE=DATE:20210415
DTEND;VALUE=DATE:20210416
DTSTAMP:20260425T134259
CREATED:20210415T070504Z
LAST-MODIFIED:20210415T070504Z
UID:14807-1618444800-1618531199@www.lieporiai.lt
SUMMARY:Integruota etikos pamoka \,\,Stresas. Streso įveikos būdai"
DESCRIPTION:Integruota etikos pamoka IIe\, IId\, IIf\, IIc klasėse \,\,Stresas. Streso įveikos būdai”. Laima Gricienė\, Edita Banevičienė
URL:https://www.lieporiai.lt/renginys/integruota-etikos-pamoka-stresas-streso-iveikos-budai/
END:VEVENT
BEGIN:VEVENT
DTSTART;TZID=Europe/Vilnius:20210414T130000
DTEND;TZID=Europe/Vilnius:20210414T140000
DTSTAMP:20260425T134259
CREATED:20210331T164928Z
LAST-MODIFIED:20210331T164928Z
UID:14765-1618405200-1618408800@www.lieporiai.lt
SUMMARY:Karjeros ugdymas
DESCRIPTION:  \nStudijos Klaipėdos universitetas (KU) humanitariniai ir ugdymo mokslai
URL:https://www.lieporiai.lt/renginys/karjeros-ugdymas-4/
END:VEVENT
BEGIN:VEVENT
DTSTART;TZID=Europe/Vilnius:20210414T110000
DTEND;TZID=Europe/Vilnius:20210414T113000
DTSTAMP:20260425T134259
CREATED:20210413T074504Z
LAST-MODIFIED:20210413T074504Z
UID:14803-1618398000-1618399800@www.lieporiai.lt
SUMMARY:\,\,Paauglio asmens higiena". Id klasė
DESCRIPTION:\,\,Paauglio asmens higiena”. Id klasė \nLektorė – visuomenės sveikatos specialistė Edita Banevičienė
URL:https://www.lieporiai.lt/renginys/paauglio-asmens-higiena-id-klase/
END:VEVENT
BEGIN:VEVENT
DTSTART;TZID=Europe/Vilnius:20210414T110000
DTEND;TZID=Europe/Vilnius:20210414T113000
DTSTAMP:20260425T134259
CREATED:20210412T112553Z
LAST-MODIFIED:20210413T074933Z
UID:14797-1618398000-1618399800@www.lieporiai.lt
SUMMARY:II klasių valandėlė. Instruktažas dėl PUPP.
DESCRIPTION:II klasių valandėlė. Instruktažas. Pavaduotojas Saulius Urbas
URL:https://www.lieporiai.lt/renginys/ii-klasiu-valandele-instruktazas/
END:VEVENT
BEGIN:VEVENT
DTSTART;VALUE=DATE:20210414
DTEND;VALUE=DATE:20210415
DTSTAMP:20260425T134259
CREATED:20210331T165016Z
LAST-MODIFIED:20210331T165016Z
UID:14767-1618358400-1618444799@www.lieporiai.lt
SUMMARY:LAMA BPO seminaras karjeros specialistams
DESCRIPTION:
URL:https://www.lieporiai.lt/renginys/lama-bpo-seminaras-karjeros-specialistams/
END:VEVENT
BEGIN:VEVENT
DTSTART;TZID=Europe/Vilnius:20210412T080000
DTEND;TZID=Europe/Vilnius:20210412T090000
DTSTAMP:20260425T134259
CREATED:20210411T152605Z
LAST-MODIFIED:20210411T152605Z
UID:14795-1618214400-1618218000@www.lieporiai.lt
SUMMARY:Paskaita \,\,Pasitikėjimo savimi svarba ir jo stiprinimas". IIf klasė
DESCRIPTION:Paskaita \,\,Pasitikėjimo savimi svarba ir jo stiprinimas”. II f klasė \nLektorė – psichologė Kristina Jurienė
URL:https://www.lieporiai.lt/renginys/paskaita-pasitikejimo-savimi-svarba-ir-jo-stiprinimas-iif-klase/
END:VEVENT
BEGIN:VEVENT
DTSTART;VALUE=DATE:20210409
DTEND;VALUE=DATE:20210410
DTSTAMP:20260425T134259
CREATED:20210402T072326Z
LAST-MODIFIED:20210402T072326Z
UID:14775-1617926400-1618012799@www.lieporiai.lt
SUMMARY:Nuotoliniai vertintojų mokymai
DESCRIPTION:Nuotoliniai vertintojų mokymai. Mok. Jolita Sketerskienė
URL:https://www.lieporiai.lt/renginys/nuotoliniai-vertintoju-mokymai/
END:VEVENT
BEGIN:VEVENT
DTSTART;VALUE=DATE:20210409
DTEND;VALUE=DATE:20210410
DTSTAMP:20260425T134259
CREATED:20210329T145300Z
LAST-MODIFIED:20210329T145300Z
UID:14736-1617926400-1618012799@www.lieporiai.lt
SUMMARY:Seminaras pedagogams
DESCRIPTION:„Microsoft Office 365 ir išmaniųjų IKT panaudojimas gerinant pamokos kokybę“ – lektorė – Renata Baronienė\, IT mokytoja metodininkė
URL:https://www.lieporiai.lt/renginys/seminaras-pedagogams-4/
END:VEVENT
BEGIN:VEVENT
DTSTART;TZID=Europe/Vilnius:20210408T113000
DTEND;TZID=Europe/Vilnius:20210408T123000
DTSTAMP:20260425T134259
CREATED:20210329T144743Z
LAST-MODIFIED:20210402T072823Z
UID:14726-1617881400-1617885000@www.lieporiai.lt
SUMMARY:Vidaus kontrolės darbo grupės susirinkimas
DESCRIPTION:Darbo grupės susirinkimas dėl vidaus kontrolės diegimo
URL:https://www.lieporiai.lt/renginys/vidaus-kontroles-darbo-grupes-susirinkimas/
END:VEVENT
BEGIN:VEVENT
DTSTART;TZID=Europe/Vilnius:20210408T100000
DTEND;TZID=Europe/Vilnius:20210408T113000
DTSTAMP:20260425T134259
CREATED:20210329T144546Z
LAST-MODIFIED:20210402T072851Z
UID:14724-1617876000-1617881400@www.lieporiai.lt
SUMMARY:Administracinis posėdis
DESCRIPTION:Administracinis posėdis. \,\,Vidaus kontrolės įgyvendinimas gimnazijoje”
URL:https://www.lieporiai.lt/renginys/administracinis-posedis/
END:VEVENT
END:VCALENDAR