BEGIN:VCALENDAR
VERSION:2.0
PRODID:-//&Scaron;iaulių Lieporių gimnazija - ECPv6.15.18//NONSGML v1.0//EN
CALSCALE:GREGORIAN
METHOD:PUBLISH
X-WR-CALNAME:&Scaron;iaulių Lieporių gimnazija
X-ORIGINAL-URL:https://www.lieporiai.lt
X-WR-CALDESC:&Scaron;iaulių Lieporių gimnazija renginiai
REFRESH-INTERVAL;VALUE=DURATION:PT1H
X-Robots-Tag:noindex
X-PUBLISHED-TTL:PT1H
BEGIN:VTIMEZONE
TZID:Europe/Vilnius
BEGIN:DAYLIGHT
TZOFFSETFROM:+0200
TZOFFSETTO:+0300
TZNAME:EEST
DTSTART:20200329T010000
END:DAYLIGHT
BEGIN:STANDARD
TZOFFSETFROM:+0300
TZOFFSETTO:+0200
TZNAME:EET
DTSTART:20201025T010000
END:STANDARD
BEGIN:DAYLIGHT
TZOFFSETFROM:+0200
TZOFFSETTO:+0300
TZNAME:EEST
DTSTART:20210328T010000
END:DAYLIGHT
BEGIN:STANDARD
TZOFFSETFROM:+0300
TZOFFSETTO:+0200
TZNAME:EET
DTSTART:20211031T010000
END:STANDARD
BEGIN:DAYLIGHT
TZOFFSETFROM:+0200
TZOFFSETTO:+0300
TZNAME:EEST
DTSTART:20220327T010000
END:DAYLIGHT
BEGIN:STANDARD
TZOFFSETFROM:+0300
TZOFFSETTO:+0200
TZNAME:EET
DTSTART:20221030T010000
END:STANDARD
END:VTIMEZONE
BEGIN:VEVENT
DTSTART;VALUE=DATE:20210603
DTEND;VALUE=DATE:20210604
DTSTAMP:20260425T190045
CREATED:20210521T085143Z
LAST-MODIFIED:20210601T065558Z
UID:15000-1622678400-1622764799@www.lieporiai.lt
SUMMARY:Pamokų skirstymas 2021-2022 m.m.
DESCRIPTION:14.00 – matematika \n14.30 – anglų klb. \n14.45 – II užsienio klb. \n15.00 – fizika \n15.10 – chemija \n15.20 – biologija
URL:https://www.lieporiai.lt/renginys/pamoku-skirstymas-2021-2022-m-m-2/
END:VEVENT
BEGIN:VEVENT
DTSTART;TZID=Europe/Vilnius:20210602T110000
DTEND;TZID=Europe/Vilnius:20210602T120000
DTSTAMP:20260425T190045
CREATED:20210526T101400Z
LAST-MODIFIED:20210526T101400Z
UID:15191-1622631600-1622635200@www.lieporiai.lt
SUMMARY:Instruktažas dėl brandos egzaminų abiturientams
DESCRIPTION:Instruktažas dėl brandos egzaminų abiturientams. Teams platformoje.
URL:https://www.lieporiai.lt/renginys/instruktazas-del-brandos-egzaminu-abiturientams/
END:VEVENT
BEGIN:VEVENT
DTSTART;TZID=Europe/Vilnius:20210602T090000
DTEND;TZID=Europe/Vilnius:20210602T150000
DTSTAMP:20260425T190045
CREATED:20210521T092526Z
LAST-MODIFIED:20210521T092526Z
UID:15052-1622624400-1622646000@www.lieporiai.lt
SUMMARY:Projektas \,\,Sveikatos ambasadorius"
DESCRIPTION:Projektas \,\,Sveikatos ambasadorius”. Funkcinės treniruotės. Mok. Laima Gricienė
URL:https://www.lieporiai.lt/renginys/projektas-sveikatos-ambasadorius-4/
END:VEVENT
BEGIN:VEVENT
DTSTART;TZID=Europe/Vilnius:20210602T085500
DTEND;TZID=Europe/Vilnius:20210602T104000
DTSTAMP:20260425T190045
CREATED:20210521T103252Z
LAST-MODIFIED:20210521T103252Z
UID:15056-1622624100-1622630400@www.lieporiai.lt
SUMMARY:Matematikos konsultacijos abiturientams
DESCRIPTION:
URL:https://www.lieporiai.lt/renginys/matematikos-konsultacijos-abiturientams-2/
END:VEVENT
BEGIN:VEVENT
DTSTART;VALUE=DATE:20210601
DTEND;VALUE=DATE:20210602
DTSTAMP:20260425T190045
CREATED:20210521T085003Z
LAST-MODIFIED:20210601T065638Z
UID:14998-1622505600-1622591999@www.lieporiai.lt
SUMMARY:Pamokų skirstymas 2021-2022 m.m.
DESCRIPTION:14.00 – lietuvių klb. \n14.30 – istorija\, geografija\, etika \n13.00 – menai\, technologijos \n13.10 – fizinis ugdymas
URL:https://www.lieporiai.lt/renginys/pamoku-skirstymas-2021-2022-m-m/
END:VEVENT
BEGIN:VEVENT
DTSTART;VALUE=DATE:20210531
DTEND;VALUE=DATE:20210601
DTSTAMP:20260425T190045
CREATED:20210503T065701Z
LAST-MODIFIED:20210503T065701Z
UID:14909-1622419200-1622505599@www.lieporiai.lt
SUMMARY:Istorijos konsultacija. I. Dagienė
DESCRIPTION:
URL:https://www.lieporiai.lt/renginys/istorijos-konsultacija-i-dagiene-5/
END:VEVENT
BEGIN:VEVENT
DTSTART;TZID=Europe/Vilnius:20210528T160000
DTEND;TZID=Europe/Vilnius:20210528T170000
DTSTAMP:20260425T190045
CREATED:20210524T065232Z
LAST-MODIFIED:20210524T065232Z
UID:15060-1622217600-1622221200@www.lieporiai.lt
SUMMARY:Lieporiai eSports "CS:GO" turnyras. Mokinių taryba
DESCRIPTION:Lieporiai eSports „CS:GO” turnyras. Mokinių taryba.
URL:https://www.lieporiai.lt/renginys/lieporiai-esports-csgo-turnyras-mokiniu-taryba/
END:VEVENT
BEGIN:VEVENT
DTSTART;TZID=Europe/Vilnius:20210528T110000
DTEND;TZID=Europe/Vilnius:20210528T120000
DTSTAMP:20260425T190045
CREATED:20210430T062350Z
LAST-MODIFIED:20210430T062350Z
UID:14892-1622199600-1622203200@www.lieporiai.lt
SUMMARY:Dofe dalyvių susirinkimas.
DESCRIPTION:Dofe dalyvių susirinkimas. Vadovė I. Šablinskienė
URL:https://www.lieporiai.lt/renginys/dofe-dalyviu-susirinkimas-5/
END:VEVENT
BEGIN:VEVENT
DTSTART;TZID=Europe/Vilnius:20210528T090000
DTEND;TZID=Europe/Vilnius:20210528T150000
DTSTAMP:20260425T190045
CREATED:20210521T092444Z
LAST-MODIFIED:20210521T092444Z
UID:15050-1622192400-1622214000@www.lieporiai.lt
SUMMARY:Projektas \,\,Sveikatos ambasadorius".
DESCRIPTION:Projektas \,\,Sveikatos ambasadorius”. Funkcinės treniruotės. Mok. Sigita Valuckienė\, Lina Žukauskienė
URL:https://www.lieporiai.lt/renginys/projektas-sveikatos-ambasadorius-3/
END:VEVENT
BEGIN:VEVENT
DTSTART;TZID=Europe/Vilnius:20210528T080000
DTEND;TZID=Europe/Vilnius:20210528T094000
DTSTAMP:20260425T190045
CREATED:20210521T103210Z
LAST-MODIFIED:20210521T103210Z
UID:15054-1622188800-1622194800@www.lieporiai.lt
SUMMARY:Matematikos konsultacijos abiturientams
DESCRIPTION:
URL:https://www.lieporiai.lt/renginys/matematikos-konsultacijos-abiturientams/
END:VEVENT
BEGIN:VEVENT
DTSTART;VALUE=DATE:20210527
DTEND;VALUE=DATE:20210528
DTSTAMP:20260425T190045
CREATED:20210521T084728Z
LAST-MODIFIED:20210521T084728Z
UID:14996-1622073600-1622159999@www.lieporiai.lt
SUMMARY:Išankstinis III-ių klasių metinių projektų gynimas
DESCRIPTION:Išankstinis III-ių klasių metinių projektų gynimas. Skyriaus vedėja Reda Šteimantienė.
URL:https://www.lieporiai.lt/renginys/isankstinis-iii-iu-klasiu-metiniu-projektu-gynimas/
END:VEVENT
BEGIN:VEVENT
DTSTART;VALUE=DATE:20210527
DTEND;VALUE=DATE:20210528
DTSTAMP:20260425T190045
CREATED:20210503T065646Z
LAST-MODIFIED:20210503T065646Z
UID:14907-1622073600-1622159999@www.lieporiai.lt
SUMMARY:Istorijos konsultacija. I. Dagienė
DESCRIPTION:
URL:https://www.lieporiai.lt/renginys/istorijos-konsultacija-i-dagiene-4/
END:VEVENT
BEGIN:VEVENT
DTSTART;TZID=Europe/Vilnius:20210526T110000
DTEND;TZID=Europe/Vilnius:20210526T120000
DTSTAMP:20260425T190045
CREATED:20210504T101429Z
LAST-MODIFIED:20210504T101553Z
UID:14922-1622026800-1622030400@www.lieporiai.lt
SUMMARY:Protmūšis \,\,Rinkis sveikatą\,o ne tabaką"
DESCRIPTION:Protmūšis \,\,Rinkis sveikatą\,o ne tabaką”. Renginys skirtas Pasaulinei dienai be tabako paminėti. \nDalyvauja I-ų klasių mokiniai. \nOrganizatoriai: I. Šablinskienė\, E. Banevičienė\, M. Macaitis.
URL:https://www.lieporiai.lt/renginys/protmusis-rinkis-sveikatao-ne-tabaka/
END:VEVENT
BEGIN:VEVENT
DTSTART;TZID=Europe/Vilnius:20210526T090000
DTEND;TZID=Europe/Vilnius:20210526T150000
DTSTAMP:20260425T190045
CREATED:20210521T092355Z
LAST-MODIFIED:20210521T092355Z
UID:15048-1622019600-1622041200@www.lieporiai.lt
SUMMARY:Projektas \,\,Sveikatos ambasadorius"
DESCRIPTION:Projektas \,\,Sveikatos ambasadorius”. Funkcinės treniruotės. Mok. Laima Gricienė
URL:https://www.lieporiai.lt/renginys/projektas-sveikatos-ambasadorius-2/
END:VEVENT
BEGIN:VEVENT
DTSTART;TZID=Europe/Vilnius:20210525T110000
DTEND;TZID=Europe/Vilnius:20210525T120000
DTSTAMP:20260425T190045
CREATED:20210505T073855Z
LAST-MODIFIED:20210505T073855Z
UID:14925-1621940400-1621944000@www.lieporiai.lt
SUMMARY:Pamoka \,\,Kiek teisingumo tavo marškinėliuose?".
DESCRIPTION:Globalaus teisingumo kompaso zoom pamoka \,\,Kiek teisingumo tavo marškinėliuose?”. \nDalyvauja Ia klasė. Mok. L. Gricienė \nLektorė Indrė Augulienė (Pasaulio piliečių akademija)
URL:https://www.lieporiai.lt/renginys/pamoka-kiek-teisingumo-tavo-marskineliuose/
END:VEVENT
BEGIN:VEVENT
DTSTART;TZID=Europe/Vilnius:20210525T090000
DTEND;TZID=Europe/Vilnius:20210525T150000
DTSTAMP:20260425T190045
CREATED:20210521T092309Z
LAST-MODIFIED:20210521T092309Z
UID:15046-1621933200-1621954800@www.lieporiai.lt
SUMMARY:Projektas \,\,Sveikatos ambasadorius"
DESCRIPTION:Projektas \,\,Sveikatos ambasadorius”. Funkcinės treniruotės. Mok. Lina Žukauskienė\, Žana Bareikienė
URL:https://www.lieporiai.lt/renginys/projektas-sveikatos-ambasadorius/
END:VEVENT
BEGIN:VEVENT
DTSTART;VALUE=DATE:20210525
DTEND;VALUE=DATE:20210526
DTSTAMP:20260425T190045
CREATED:20210430T062418Z
LAST-MODIFIED:20210511T114918Z
UID:14894-1621900800-1621987199@www.lieporiai.lt
SUMMARY:Paskutinio skambučio šventė
DESCRIPTION:Paskutinio skambučio šventė
URL:https://www.lieporiai.lt/renginys/paskutinio-skambucio-svente-3/
END:VEVENT
BEGIN:VEVENT
DTSTART;VALUE=DATE:20210522
DTEND;VALUE=DATE:20210523
DTSTAMP:20260425T190045
CREATED:20210521T071017Z
LAST-MODIFIED:20210521T071017Z
UID:14987-1621641600-1621727999@www.lieporiai.lt
SUMMARY:\,\,Walk15" apdovanojimai Vilniuje
DESCRIPTION:
URL:https://www.lieporiai.lt/renginys/walk15-apdovanojimai-vilniuje/
END:VEVENT
BEGIN:VEVENT
DTSTART;TZID=Europe/Vilnius:20210521T113000
DTEND;TZID=Europe/Vilnius:20210521T120000
DTSTAMP:20260425T190045
CREATED:20210430T062302Z
LAST-MODIFIED:20210430T062302Z
UID:14890-1621596600-1621598400@www.lieporiai.lt
SUMMARY:Dofe dalyvių susirinkimas.
DESCRIPTION:Dofe dalyvių susirinkimas. Vadovė I. Šablinskienė
URL:https://www.lieporiai.lt/renginys/dofe-dalyviu-susirinkimas-4/
END:VEVENT
BEGIN:VEVENT
DTSTART;TZID=Europe/Vilnius:20210520T150000
DTEND;TZID=Europe/Vilnius:20210520T160000
DTSTAMP:20260425T190045
CREATED:20210521T070938Z
LAST-MODIFIED:20210521T070938Z
UID:14985-1621522800-1621526400@www.lieporiai.lt
SUMMARY:Mokytojų tarybos posėdis
DESCRIPTION:Dėl abiturientų mokslo metų užbaigimo\, egzaminų \nDėl I-III klasių mokymosi birželio mėnesį \nDėl Paskutinio skambučio šventės
URL:https://www.lieporiai.lt/renginys/mokytoju-tarybos-posedis-6/
END:VEVENT
BEGIN:VEVENT
DTSTART;TZID=Europe/Vilnius:20210520T110000
DTEND;TZID=Europe/Vilnius:20210520T130000
DTSTAMP:20260425T190045
CREATED:20210521T070752Z
LAST-MODIFIED:20210521T070752Z
UID:14983-1621508400-1621515600@www.lieporiai.lt
SUMMARY:Administracijos posėdis
DESCRIPTION:Dėl vidaus kontrolės dokumentų \nDėl mokymosi birželio mėnesį \nDėl mokymosi organizavimo I-III klasėms \n 
URL:https://www.lieporiai.lt/renginys/administracijos-posedis-4/
END:VEVENT
BEGIN:VEVENT
DTSTART;TZID=Europe/Vilnius:20210518T170000
DTEND;TZID=Europe/Vilnius:20210518T180000
DTSTAMP:20260425T190045
CREATED:20210517T135735Z
LAST-MODIFIED:20210517T135745Z
UID:14975-1621357200-1621360800@www.lieporiai.lt
SUMMARY:2021 m. priėmimo į aukštąsias mokyklas sąlygos ir prašymų pildymo ypatumai
DESCRIPTION:Susirinkimas IV-ų klasių mokiniams dėl 2021 m. priėmimo į aukštąsias mokyklas sąlygų ir prašymų pildymo ypatumų
URL:https://www.lieporiai.lt/renginys/2021-m-priemimo-i-aukstasias-mokyklas-salygos-ir-prasymu-pildymo-ypatumai/
END:VEVENT
BEGIN:VEVENT
DTSTART;TZID=Europe/Vilnius:20210514T113000
DTEND;TZID=Europe/Vilnius:20210514T120000
DTSTAMP:20260425T190045
CREATED:20210430T062227Z
LAST-MODIFIED:20210430T062227Z
UID:14888-1620991800-1620993600@www.lieporiai.lt
SUMMARY:Dofe dalyvių susirinkimas.
DESCRIPTION:Dofe dalyvių susirinkimas. Vadovė I. Šablinskienė
URL:https://www.lieporiai.lt/renginys/dofe-dalyviu-susirinkimas-3/
END:VEVENT
BEGIN:VEVENT
DTSTART;TZID=Europe/Vilnius:20210513T105500
DTEND;TZID=Europe/Vilnius:20210513T114000
DTSTAMP:20260425T190045
CREATED:20210503T065503Z
LAST-MODIFIED:20210503T065503Z
UID:14903-1620903300-1620906000@www.lieporiai.lt
SUMMARY:Istorijos konsultacija. I. Dagienė
DESCRIPTION:
URL:https://www.lieporiai.lt/renginys/istorijos-konsultacija-i-dagiene-2/
END:VEVENT
BEGIN:VEVENT
DTSTART;TZID=Europe/Vilnius:20210512T110000
DTEND;TZID=Europe/Vilnius:20210512T120000
DTSTAMP:20260425T190045
CREATED:20210510T065821Z
LAST-MODIFIED:20210510T065821Z
UID:14935-1620817200-1620820800@www.lieporiai.lt
SUMMARY:III klasių mokinių susirinkimas
DESCRIPTION:Dėl paskutinio skambučio šventės organizavimo
URL:https://www.lieporiai.lt/renginys/iii-klasiu-mokiniu-susirinkimas/
END:VEVENT
BEGIN:VEVENT
DTSTART;VALUE=DATE:20210511
DTEND;VALUE=DATE:20210512
DTSTAMP:20260425T190045
CREATED:20210510T071211Z
LAST-MODIFIED:20210510T071211Z
UID:14942-1620691200-1620777599@www.lieporiai.lt
SUMMARY:Anglų kalbos bandomasis egzaminas
DESCRIPTION:
URL:https://www.lieporiai.lt/renginys/anglu-kalbos-bandomasis-egzaminas/
END:VEVENT
BEGIN:VEVENT
DTSTART;TZID=Europe/Vilnius:20210510T130000
DTEND;TZID=Europe/Vilnius:20210510T160000
DTSTAMP:20260425T190045
CREATED:20210510T071144Z
LAST-MODIFIED:20210510T071144Z
UID:14940-1620651600-1620662400@www.lieporiai.lt
SUMMARY:Informatikos bandomasis egzaminas
DESCRIPTION:
URL:https://www.lieporiai.lt/renginys/informatikos-bandomasis-egzaminas/
END:VEVENT
BEGIN:VEVENT
DTSTART;TZID=Europe/Vilnius:20210510T110000
DTEND;TZID=Europe/Vilnius:20210510T130000
DTSTAMP:20260425T190045
CREATED:20210510T071108Z
LAST-MODIFIED:20210510T071108Z
UID:14937-1620644400-1620651600@www.lieporiai.lt
SUMMARY:Administracijos posėdis
DESCRIPTION:Dėl pakartotinio \,\,Smurto ir patyčių prevencijos” tyrimo. (A. Šliažienė) \nDėl Paskutinio skambučio šventės organizavimo. (A. Meškauskienė) \nAntrųjų užsienio kalbų mokytojų metodinės grupės veiklos aptarimas. (K. Ališauskaitė) \n 
URL:https://www.lieporiai.lt/renginys/administracijos-posedis-3/
END:VEVENT
BEGIN:VEVENT
DTSTART;VALUE=DATE:20210510
DTEND;VALUE=DATE:20210511
DTSTAMP:20260425T190045
CREATED:20210421T075017Z
LAST-MODIFIED:20210504T101723Z
UID:14830-1620604800-1620691199@www.lieporiai.lt
SUMMARY:Akcija \,\,DAROM". Socialinė-pilietinė veikla.
DESCRIPTION:Akcija \,\,DAROM”. Socialinė-pilietinė veikla. Dalyvauja gimnazijos savanoriai. Mok. Lina Žukauskienė
URL:https://www.lieporiai.lt/renginys/akcija-darom-socialine-pilietine-veikla/
END:VEVENT
BEGIN:VEVENT
DTSTART;VALUE=DATE:20210508
DTEND;VALUE=DATE:20210509
DTSTAMP:20260425T190045
CREATED:20210507T091603Z
LAST-MODIFIED:20210507T091603Z
UID:14933-1620432000-1620518399@www.lieporiai.lt
SUMMARY:DofE narių žygis Kurtuvėnų regioniniame parke
DESCRIPTION:DofE narių žygis Kurtuvėnų regioniniame parke. Mok. R. Šidlauskas
URL:https://www.lieporiai.lt/renginys/dofe-nariu-zygis-kurtuvenu-regioniniame-parke/
END:VEVENT
END:VCALENDAR