BEGIN:VCALENDAR
VERSION:2.0
PRODID:-//&Scaron;iaulių Lieporių gimnazija - ECPv6.15.18//NONSGML v1.0//EN
CALSCALE:GREGORIAN
METHOD:PUBLISH
X-WR-CALNAME:&Scaron;iaulių Lieporių gimnazija
X-ORIGINAL-URL:https://www.lieporiai.lt
X-WR-CALDESC:&Scaron;iaulių Lieporių gimnazija renginiai
REFRESH-INTERVAL;VALUE=DURATION:PT1H
X-Robots-Tag:noindex
X-PUBLISHED-TTL:PT1H
BEGIN:VTIMEZONE
TZID:Europe/Vilnius
BEGIN:DAYLIGHT
TZOFFSETFROM:+0200
TZOFFSETTO:+0300
TZNAME:EEST
DTSTART:20200329T010000
END:DAYLIGHT
BEGIN:STANDARD
TZOFFSETFROM:+0300
TZOFFSETTO:+0200
TZNAME:EET
DTSTART:20201025T010000
END:STANDARD
BEGIN:DAYLIGHT
TZOFFSETFROM:+0200
TZOFFSETTO:+0300
TZNAME:EEST
DTSTART:20210328T010000
END:DAYLIGHT
BEGIN:STANDARD
TZOFFSETFROM:+0300
TZOFFSETTO:+0200
TZNAME:EET
DTSTART:20211031T010000
END:STANDARD
BEGIN:DAYLIGHT
TZOFFSETFROM:+0200
TZOFFSETTO:+0300
TZNAME:EEST
DTSTART:20220327T010000
END:DAYLIGHT
BEGIN:STANDARD
TZOFFSETFROM:+0300
TZOFFSETTO:+0200
TZNAME:EET
DTSTART:20221030T010000
END:STANDARD
END:VTIMEZONE
BEGIN:VEVENT
DTSTART;TZID=Europe/Vilnius:20210331T180000
DTEND;TZID=Europe/Vilnius:20210331T190000
DTSTAMP:20260425T200711
CREATED:20210330T075117Z
LAST-MODIFIED:20210330T075117Z
UID:14740-1617213600-1617217200@www.lieporiai.lt
SUMMARY:II klasių tėvų ir mokinių susirinkimas
DESCRIPTION: II klasių mokinių ir tėvų susirinkimas dėl mokinio individualaus ugdymo plano sudarymo III klasėje\, mokomųjų dalykų pasirinkimo.
URL:https://www.lieporiai.lt/renginys/ii-klasiu-tevu-ir-mokiniu-susirinkimas/
END:VEVENT
BEGIN:VEVENT
DTSTART;TZID=Europe/Vilnius:20210331T140000
DTEND;TZID=Europe/Vilnius:20210331T144000
DTSTAMP:20260425T200711
CREATED:20210329T163613Z
LAST-MODIFIED:20210329T163613Z
UID:14738-1617199200-1617201600@www.lieporiai.lt
SUMMARY:Nuotolinė paskaita \,\,Covid-19 vakcina. Ką turėtų žinoti abiturientas?"
DESCRIPTION:Nuotolinė paskaita \,\,Covid-19 vakcina. Ką turėtų žinoti abiturientas?” – lektorius Dr. Marius Strioga \nDalyvauja IV-ų klasių abiturientai
URL:https://www.lieporiai.lt/renginys/nuotoline-paskaita-covid-19-vakcina-ka-turetu-zinoti-abiturientas/
END:VEVENT
BEGIN:VEVENT
DTSTART;TZID=Europe/Vilnius:20210331T130000
DTEND;TZID=Europe/Vilnius:20210331T170000
DTSTAMP:20260425T200711
CREATED:20210318T162330Z
LAST-MODIFIED:20210318T162330Z
UID:14614-1617195600-1617210000@www.lieporiai.lt
SUMMARY:Karjeros ugdymo programa. VU Šiaulių akademija. Pristatymas.
DESCRIPTION:Virtuali studijų mugė
URL:https://www.lieporiai.lt/renginys/karjeros-ugdymo-programa-vu-siauliu-akademija-pristatymas/
END:VEVENT
BEGIN:VEVENT
DTSTART;TZID=Europe/Vilnius:20210331T114500
DTEND;TZID=Europe/Vilnius:20210331T123000
DTSTAMP:20260425T200711
CREATED:20210329T144417Z
LAST-MODIFIED:20210329T144417Z
UID:14722-1617191100-1617193800@www.lieporiai.lt
SUMMARY:Atvira IKT pamoka
DESCRIPTION:Atvira IKT pamoka. Mok. Saulius Bušininkas
URL:https://www.lieporiai.lt/renginys/atvira-ikt-pamoka/
END:VEVENT
BEGIN:VEVENT
DTSTART;TZID=Europe/Vilnius:20210331T110000
DTEND;TZID=Europe/Vilnius:20210331T113000
DTSTAMP:20260425T200711
CREATED:20210324T111727Z
LAST-MODIFIED:20210324T111727Z
UID:14685-1617188400-1617190200@www.lieporiai.lt
SUMMARY:IIf klasės valandėlė-susitikimas \,\,Kaip vykdyti legalią veiklą\, kas yra mokesčiai?"
DESCRIPTION:IIf klasės valandėlė \,\,Kaip vykdyti legalią veiklą\, kas yra mokesčiai\, kokius mokesčius mokame?”. \nLektorė Indrė Borusienė\, Šiaulių AVMI specialistė
URL:https://www.lieporiai.lt/renginys/iif-klases-valandele-susitikimas-kaip-vykdyti-legalia-veikla-kas-yra-mokesciai/
END:VEVENT
BEGIN:VEVENT
DTSTART;TZID=Europe/Vilnius:20210331T110000
DTEND;TZID=Europe/Vilnius:20210331T113000
DTSTAMP:20260425T200711
CREATED:20210318T161717Z
LAST-MODIFIED:20210318T161717Z
UID:14612-1617188400-1617190200@www.lieporiai.lt
SUMMARY:I-IV klasių valanda. \,\,Sąmoningumo mėnuo. Stabdykime patyčias"
DESCRIPTION:
URL:https://www.lieporiai.lt/renginys/i-iv-klasiu-valanda-samoningumo-menuo-stabdykime-patycias-2/
END:VEVENT
BEGIN:VEVENT
DTSTART;TZID=Europe/Vilnius:20210331T095000
DTEND;TZID=Europe/Vilnius:20210331T103500
DTSTAMP:20260425T200711
CREATED:20210323T084952Z
LAST-MODIFIED:20210323T084952Z
UID:14669-1617184200-1617186900@www.lieporiai.lt
SUMMARY:Atvira šokio pamoka
DESCRIPTION:Atvira šokio pamoka IIa klasėje. Mokytojas Algimantas Arlauskas.
URL:https://www.lieporiai.lt/renginys/atvira-sokio-pamoka/
END:VEVENT
BEGIN:VEVENT
DTSTART;TZID=Europe/Vilnius:20210330T140000
DTEND;TZID=Europe/Vilnius:20210330T160000
DTSTAMP:20260425T200711
CREATED:20210324T130010Z
LAST-MODIFIED:20210324T130010Z
UID:14687-1617112800-1617120000@www.lieporiai.lt
SUMMARY:Seminaras anglų kalbos mokytojams
DESCRIPTION:\,\,Kalbėjimo įgūdžių tobulinimas ir vertinimas anglų kalbos pamokoje ruošiantis egzaminui. Bendrųjų kompetencijų taikymas”. Ingrida Railienė
URL:https://www.lieporiai.lt/renginys/seminaras-anglu-kalbos-mokytojams/
END:VEVENT
BEGIN:VEVENT
DTSTART;TZID=Europe/Vilnius:20210330T120000
DTEND;TZID=Europe/Vilnius:20210330T124500
DTSTAMP:20260425T200711
CREATED:20210329T144218Z
LAST-MODIFIED:20210329T144218Z
UID:14720-1617105600-1617108300@www.lieporiai.lt
SUMMARY:Atvira matematikos pamoka
DESCRIPTION:Atvira matematikos pamoka. Mok. Rolandas Šidlauskas
URL:https://www.lieporiai.lt/renginys/atvira-matematikos-pamoka-2/
END:VEVENT
BEGIN:VEVENT
DTSTART;TZID=Europe/Vilnius:20210330T095000
DTEND;TZID=Europe/Vilnius:20210330T103500
DTSTAMP:20260425T200711
CREATED:20210323T084827Z
LAST-MODIFIED:20210323T084827Z
UID:14667-1617097800-1617100500@www.lieporiai.lt
SUMMARY:Atvira istorijos pamoka
DESCRIPTION:Atvira istorijos pamoka IIe klasėje. Mokytojas Mangirdas Šlapelis.
URL:https://www.lieporiai.lt/renginys/atvira-istorijos-pamoka/
END:VEVENT
BEGIN:VEVENT
DTSTART;VALUE=DATE:20210330
DTEND;VALUE=DATE:20210331
DTSTAMP:20260425T200711
CREATED:20210325T124841Z
LAST-MODIFIED:20210325T124841Z
UID:14693-1617062400-1617148799@www.lieporiai.lt
SUMMARY:Respublikinis anglų kalbos konkursas
DESCRIPTION:IIf klasės mokinė  Ieva Žuraitytė dalyvauja respublikiniame anglų kalbos konkurse. Mokytoja Ingrida Railienė
URL:https://www.lieporiai.lt/renginys/respublikinis-anglu-kalbos-konkursas/
END:VEVENT
BEGIN:VEVENT
DTSTART;TZID=Europe/Vilnius:20210329T170000
DTEND;TZID=Europe/Vilnius:20210329T180000
DTSTAMP:20260425T200711
CREATED:20210328T124918Z
LAST-MODIFIED:20210328T124918Z
UID:14709-1617037200-1617040800@www.lieporiai.lt
SUMMARY:Matematikos konsultacija abiturientams
DESCRIPTION:Matematikos konsultacija abiturientams. Mok. Živilė Reniusė
URL:https://www.lieporiai.lt/renginys/matematikos-konsultacija-abiturientams-7/
END:VEVENT
BEGIN:VEVENT
DTSTART;TZID=Europe/Vilnius:20210329T160000
DTEND;TZID=Europe/Vilnius:20210329T180000
DTSTAMP:20260425T200711
CREATED:20210324T064435Z
LAST-MODIFIED:20210324T064435Z
UID:14678-1617033600-1617040800@www.lieporiai.lt
SUMMARY:Matematikos konsultacija
DESCRIPTION:Matematikos konsultacija abiturientams. Mokytoja Jolita Sketerskienė
URL:https://www.lieporiai.lt/renginys/matematikos-konsultacija/
END:VEVENT
BEGIN:VEVENT
DTSTART;TZID=Europe/Vilnius:20210329T160000
DTEND;TZID=Europe/Vilnius:20210329T170000
DTSTAMP:20260425T200711
CREATED:20210328T124826Z
LAST-MODIFIED:20210328T124826Z
UID:14707-1617033600-1617037200@www.lieporiai.lt
SUMMARY:Matematikos konsultacija abiturientams
DESCRIPTION:Matematikos konsultacija abiturientams. Mok. Živilė Reniusė
URL:https://www.lieporiai.lt/renginys/matematikos-konsultacija-abiturientams-6/
END:VEVENT
BEGIN:VEVENT
DTSTART;TZID=Europe/Vilnius:20210329T160000
DTEND;TZID=Europe/Vilnius:20210329T170000
DTSTAMP:20260425T200711
CREATED:20210328T124653Z
LAST-MODIFIED:20210328T124653Z
UID:14703-1617033600-1617037200@www.lieporiai.lt
SUMMARY:Matematikos konsultacija abiturientams
DESCRIPTION:Matematikos konsultacija abiturientams. Mok. Zita Mačiulienė
URL:https://www.lieporiai.lt/renginys/matematikos-konsultacija-abiturientams-4/
END:VEVENT
BEGIN:VEVENT
DTSTART;TZID=Europe/Vilnius:20210329T160000
DTEND;TZID=Europe/Vilnius:20210329T170000
DTSTAMP:20260425T200711
CREATED:20210328T124508Z
LAST-MODIFIED:20210328T124508Z
UID:14698-1617033600-1617037200@www.lieporiai.lt
SUMMARY:Matematikos konsultacija abiturientams
DESCRIPTION:Matematikos konsultacija abiturientams. Mok. Rolandas Šidlauskas
URL:https://www.lieporiai.lt/renginys/matematikos-konsultacija-abiturientams-2/
END:VEVENT
BEGIN:VEVENT
DTSTART;TZID=Europe/Vilnius:20210329T150000
DTEND;TZID=Europe/Vilnius:20210329T160000
DTSTAMP:20260425T200711
CREATED:20210328T124604Z
LAST-MODIFIED:20210328T124604Z
UID:14701-1617030000-1617033600@www.lieporiai.lt
SUMMARY:Matematikos konsultacija abiturientams
DESCRIPTION:Matematikos konsultacija abiturientams. Mok. Zita Mačiulienė
URL:https://www.lieporiai.lt/renginys/matematikos-konsultacija-abiturientams-3/
END:VEVENT
BEGIN:VEVENT
DTSTART;TZID=Europe/Vilnius:20210329T150000
DTEND;TZID=Europe/Vilnius:20210329T160000
DTSTAMP:20260425T200711
CREATED:20210328T124426Z
LAST-MODIFIED:20210328T124426Z
UID:14696-1617030000-1617033600@www.lieporiai.lt
SUMMARY:Matematikos konsultacija abiturientams
DESCRIPTION:Matematikos konsultacija abiturientams. Mok. Rolandas Šidlauskas
URL:https://www.lieporiai.lt/renginys/matematikos-konsultacija-abiturientams/
END:VEVENT
BEGIN:VEVENT
DTSTART;TZID=Europe/Vilnius:20210329T110000
DTEND;TZID=Europe/Vilnius:20210329T123000
DTSTAMP:20260425T200711
CREATED:20210320T102209Z
LAST-MODIFIED:20210328T123757Z
UID:14653-1617015600-1617021000@www.lieporiai.lt
SUMMARY:Administracijos posėdis
DESCRIPTION:Vidaus kontrolės sistemos darbo grupės sudarymas. (S. Malinauskienė) \nPasiruošimo individualizuotam mokymui. (S. Urbas) \nTarptautinių projektų rezultatų aptarimas. (S. Malinauskienė) \nNeformaliųjų būrelių veikla. (A. Meškauskienė) \n  \n 
URL:https://www.lieporiai.lt/renginys/administracijos-posedis/
END:VEVENT
BEGIN:VEVENT
DTSTART;TZID=Europe/Vilnius:20210328T080000
DTEND;TZID=Europe/Vilnius:20210328T170000
DTSTAMP:20260425T200711
CREATED:20210328T124742Z
LAST-MODIFIED:20210328T124742Z
UID:14705-1616918400-1616950800@www.lieporiai.lt
SUMMARY:Matematikos konsultacija abiturientams
DESCRIPTION:Matematikos konsultacija abiturientams. Mok. Lina Tubienė
URL:https://www.lieporiai.lt/renginys/matematikos-konsultacija-abiturientams-5/
END:VEVENT
BEGIN:VEVENT
DTSTART;VALUE=DATE:20210326
DTEND;VALUE=DATE:20210327
DTSTAMP:20260425T200711
CREATED:20210322T152827Z
LAST-MODIFIED:20210322T152827Z
UID:14664-1616716800-1616803199@www.lieporiai.lt
SUMMARY:PUPP anglų kalba. Kalbėjimo dalis.
DESCRIPTION:PUPP anglų kalba. Kalbėjimo dalis. II klasės
URL:https://www.lieporiai.lt/renginys/pupp-anglu-kalba-kalbejimo-dalis/
END:VEVENT
BEGIN:VEVENT
DTSTART;TZID=Europe/Vilnius:20210325T170000
DTEND;TZID=Europe/Vilnius:20210325T180000
DTSTAMP:20260425T200711
CREATED:20210325T124705Z
LAST-MODIFIED:20210325T124705Z
UID:14691-1616691600-1616695200@www.lieporiai.lt
SUMMARY:Karjeros ugdymas. Dizainerio profesija
DESCRIPTION:Susitikimas su dizainere Viktorija Bugajenko.
URL:https://www.lieporiai.lt/renginys/karjeros-ugdymas-dizainerio-profesija/
END:VEVENT
BEGIN:VEVENT
DTSTART;TZID=Europe/Vilnius:20210325T150000
DTEND;TZID=Europe/Vilnius:20210325T154500
DTSTAMP:20260425T200711
CREATED:20210324T083958Z
LAST-MODIFIED:20210324T083958Z
UID:14680-1616684400-1616687100@www.lieporiai.lt
SUMMARY:Biologijos konsultacija abiturientams
DESCRIPTION:Biologijos konsultacija. Mokytoja Kristina Ališauskaitė
URL:https://www.lieporiai.lt/renginys/biologijos-konsultacija-abiturientams/
END:VEVENT
BEGIN:VEVENT
DTSTART;TZID=Europe/Vilnius:20210325T133000
DTEND;TZID=Europe/Vilnius:20210325T150000
DTSTAMP:20260425T200711
CREATED:20210318T162552Z
LAST-MODIFIED:20210318T162552Z
UID:14616-1616679000-1616684400@www.lieporiai.lt
SUMMARY:Karjeros ugdymo programa. KTU virtuali studijų mugė
DESCRIPTION:
URL:https://www.lieporiai.lt/renginys/karjeros-ugdymo-programa-ktu-virtuali-studiju-muge/
END:VEVENT
BEGIN:VEVENT
DTSTART;TZID=Europe/Vilnius:20210324T132500
DTEND;TZID=Europe/Vilnius:20210324T141000
DTSTAMP:20260425T200711
CREATED:20210323T090917Z
LAST-MODIFIED:20210323T090917Z
UID:14674-1616592300-1616595000@www.lieporiai.lt
SUMMARY:Atvira istorijos pamoka
DESCRIPTION:Atvira istorijos pamoka Ie klasėje. Mokytoja Irena Dagienė.
URL:https://www.lieporiai.lt/renginys/atvira-istorijos-pamoka-2/
END:VEVENT
BEGIN:VEVENT
DTSTART;TZID=Europe/Vilnius:20210324T114500
DTEND;TZID=Europe/Vilnius:20210324T123000
DTSTAMP:20260425T200711
CREATED:20210320T101152Z
LAST-MODIFIED:20210320T101152Z
UID:14643-1616586300-1616589000@www.lieporiai.lt
SUMMARY:Atvira italų kalbos pamoka. IV klasė
DESCRIPTION:Atvira italų kalbos pamoka. Mokytoja Lina Žukauskienė
URL:https://www.lieporiai.lt/renginys/atvira-italu-kalbos-pamoka-iv-klase/
END:VEVENT
BEGIN:VEVENT
DTSTART;TZID=Europe/Vilnius:20210324T110000
DTEND;TZID=Europe/Vilnius:20210324T113000
DTSTAMP:20260425T200711
CREATED:20210328T125837Z
LAST-MODIFIED:20210328T125837Z
UID:14711-1616583600-1616585400@www.lieporiai.lt
SUMMARY:Neformaliųjų būrelių vadovų susirinkimas
DESCRIPTION:Neformaliųjų būrelių vadovų susirinkimas dėl abiturientų šventės organizavimo gegužės mėnesį.
URL:https://www.lieporiai.lt/renginys/neformaliuju-bureliu-vadovu-susirinkimas/
END:VEVENT
BEGIN:VEVENT
DTSTART;TZID=Europe/Vilnius:20210324T110000
DTEND;TZID=Europe/Vilnius:20210324T113000
DTSTAMP:20260425T200711
CREATED:20210320T101834Z
LAST-MODIFIED:20210320T101834Z
UID:14649-1616583600-1616585400@www.lieporiai.lt
SUMMARY:Susitikimas \,\,Teisinių pažeidimų prevencija"
DESCRIPTION:Klasės valandėlė 1a\,1b klasėse. Susitikimas \,\,Teisinių pažeidimų prevencija”. Lektorius PK Donatas Verkys.
URL:https://www.lieporiai.lt/renginys/susitikimas-teisiniu-pazeidimu-prevencija/
END:VEVENT
BEGIN:VEVENT
DTSTART;TZID=Europe/Vilnius:20210324T110000
DTEND;TZID=Europe/Vilnius:20210324T113000
DTSTAMP:20260425T200711
CREATED:20210318T160428Z
LAST-MODIFIED:20210323T090041Z
UID:14610-1616583600-1616585400@www.lieporiai.lt
SUMMARY:IId ir Ic klasės susitikimas su lektore K. Sankauskaite
DESCRIPTION:\,\,Burnos higienos priežiūra”. Lektorė Karolina Sankauskaitė
URL:https://www.lieporiai.lt/renginys/iid-klases-susitikimas-su-lektore-k-sankauskaite/
END:VEVENT
BEGIN:VEVENT
DTSTART;TZID=Europe/Vilnius:20210324T110000
DTEND;TZID=Europe/Vilnius:20210324T113000
DTSTAMP:20260425T200711
CREATED:20210318T160229Z
LAST-MODIFIED:20210318T160807Z
UID:14608-1616583600-1616585400@www.lieporiai.lt
SUMMARY:I-IV klasių valanda. \,\,Sąmoningumo mėnuo. Stabdykime patyčias"
DESCRIPTION:Kovo mėnesio klasių valandėlės\, skirtos temai \,\,Stabdykime patyčias”
URL:https://www.lieporiai.lt/renginys/i-iv-klasiu-valanda-samoningumo-menuo-stabdykime-patycias/
END:VEVENT
END:VCALENDAR